Workbook
Name CG_Drills_Framework_Filepath: Settings!$L$2
Name Drills_Competency: DrillsTable[Competency]
Name Drills_Competition: DrillsTable[Competition]
Name Drills_Drill: DrillsTable[Drill]
Name Drills_Equipment: DrillsTable[Equipment]
Name Drills_JV: DrillsTable[JV]
Name Drills_PW: DrillsTable[Pee Wee]
Name Drills_Varsity: DrillsTable[Varsity]
Name Drills_VT: DrillsTable[Varsity Tackle]
Name PP_Template: 'JV Practice Templates'!$D$2
Name PP_Template: 'PeeWee Practice Templates'!$D$2
Name PP_Template: 'Tackle Practice Templates'!$D$2
Name PP_Template: 'Varsity Practice Templates'!$D$2
Name PP1_League: 'Practice Plan'!$L$2
Name Practice_Type: 'Practice Plan'!$Q$2
Name Settings_Coaches: Settings[Coaches]
Name Settings_Competency: Settings[Competency]
Name Settings_League: Settings[League]
Name Settings_Players: Settings[Players]
Name Settings_Positions: Settings[Positions]
Name Settings_Stations: Settings[Station Assignment]
Name Team_Player_Options: Settings!$G$22:$G$36

Sheet Practice Plan
B2: Start Time | C2: Duration | D2: Competency | E2: Drill | F2: Station | G2: Equipment Needed | H2: Competition | I2: Video/PDF Reference | K2: League | L2: Pee Wee | P2: Practice Type | Q2: Collaborative | AA2: Competency Specific Drills | BA2: Drill Groups
B3: 0.72916667 | C3: 0.0013888889 | D3: Warmup/Cooldown | E3: Pin up | F3: Whole Team | G3: =IF($E3="","", IF( _xlfn.XLOOKUP($E3,DrillsTable[Drill],DrillsTable[Equipment],"",0) = "", "None", _xlfn.XLOOKUP($E3,DrillsTable[Drill],DrillsTable[Equipment],"",0) ) ) -> None | H3: =_xlfn.LET( _xlpm.result, _xlfn.XLOOKUP($E3, DrillsTable[Drill], DrillsTable[Competition], "", 0), IF(_xlpm.result = "", "", _xlpm.result) ) | I3: =IF($E3="","", IF( _xlfn.XLOOKUP($E3,DrillsTable[Drill],DrillsTable[Reference],"",0) = "", "", HYPERLINK(_xlfn.XLOOKUP($E3,DrillsTable[Drill],DrillsTable[Reference],"",0),"Link") ) ) | AA3: {=TRANSPOSE(_xlfn._xlws.FILTER( Drills_Drill, (Drills_Competency=$D3) * ( IF( PP1_League="Pee Wee", Drills_PW, IF( PP1_League="JV", Drills_JV, IF( PP1_League="Varsity", Drills_Varsity, IF( PP1_League="All CG", Drills_PW, Drills_VT ) ) ) ) = "X" ), "No matching drills" ))} -> Pin up | AB3: Dynamic Stretching Routine | AC3: Sprints | AD3: Chalk Talk | AE3: Water Break | BA3: {=_xlfn.VSTACK($F$33,$E$3:$E$20)} -> Specialty Pullout
B4: =IF($C4="", "", $B3 + $C3) -> 0.73055556 | C4: 0.010416667 | D4: Warmup/Cooldown | E4: Dynamic Stretching Routine | F4: Whole Team | G4: =IF($E4="","", IF( _xlfn.XLOOKUP($E4,DrillsTable[Drill],DrillsTable[Equipment],"",0) = "", "None", _xlfn.XLOOKUP($E4,DrillsTable[Drill],DrillsTable[Equipment],"",0) ) ) -> None | H4: =_xlfn.LET( _xlpm.result, _xlfn.XLOOKUP($E4, DrillsTable[Drill], DrillsTable[Competition], "", 0), IF(_xlpm.result = "", "", _xlpm.result) ) | I4: =IF($E4="","", IF( _xlfn.XLOOKUP($E4,DrillsTable[Drill],DrillsTable[Reference],"",0) = "", "", HYPERLINK(_xlfn.XLOOKUP($E4,DrillsTable[Drill],DrillsTable[Reference],"",0),"Link") ) ) | K4: Drill Groups | P4: Drill Groups | AA4: {=TRANSPOSE(_xlfn._xlws.FILTER( Drills_Drill, (Drills_Competency=$D4) * ( IF( PP1_League="Pee Wee", Drills_PW, IF( PP1_League="JV", Drills_JV, IF( PP1_League="Varsity", Drills_Varsity, IF( PP1_League="All CG", Drills_PW, Drills_VT ) ) ) ) = "X" ), "No matching drills" ))} -> Pin up | AB4: Dynamic Stretching Routine | AC4: Sprints | AD4: Chalk Talk | AE4: Water Break | BA4: Pin up
B5: =IF($C5="", "", $B4 + $C4) -> 0.74097222 | C5: 0.0055555556 | D5: Agility | E5: Box Drill | F5: 1 | G5: =IF($E5="","", IF( _xlfn.XLOOKUP($E5,DrillsTable[Drill],DrillsTable[Equipment],"",0) = "", "None", _xlfn.XLOOKUP($E5,DrillsTable[Drill],DrillsTable[Equipment],"",0) ) ) -> Cones | H5: =_xlfn.LET( _xlpm.result, _xlfn.XLOOKUP($E5, DrillsTable[Drill], DrillsTable[Competition], "", 0), IF(_xlpm.result = "", "", _xlpm.result) ) -> Yes | I5: =IF($E5="","", IF( _xlfn.XLOOKUP($E5,DrillsTable[Drill],DrillsTable[Reference],"",0) = "", "", HYPERLINK(_xlfn.XLOOKUP($E5,DrillsTable[Drill],DrillsTable[Reference],"",0),"Link") ) ) -> Link | AA5: {=TRANSPOSE(_xlfn._xlws.FILTER( Drills_Drill, (Drills_Competency=$D5) * ( IF( PP1_League="Pee Wee", Drills_PW, IF( PP1_League="JV", Drills_JV, IF( PP1_League="Varsity", Drills_Varsity, IF( PP1_League="All CG", Drills_PW, Drills_VT ) ) ) ) = "X" ), "No matching drills" ))} -> Zig Zag Footwork Drill | AB5: L-Drill | AC5: T-Drill | AD5: Box Drill | AE5: Bag Drills | AF5: LB Box Drill | AG5: LB X-Mas Tree Drill | AH5: Defensive Back Drill | AI5: Agility Ladder Drills | AJ5: Mirror Drill | AK5: DB Call-out Drill (Right, Left, Back) | BA5: Dynamic Stretching Routine
B6: =IF($C6="", "", $B5 + $C5) -> 0.74652778 | C6: 0.0055555556 | D6: Fundamentals | E6: Pass Patterns - WR | F6: 2 | G6: =IF($E6="","", IF( _xlfn.XLOOKUP($E6,DrillsTable[Drill],DrillsTable[Equipment],"",0) = "", "None", _xlfn.XLOOKUP($E6,DrillsTable[Drill],DrillsTable[Equipment],"",0) ) ) -> Cones | H6: =_xlfn.LET( _xlpm.result, _xlfn.XLOOKUP($E6, DrillsTable[Drill], DrillsTable[Competition], "", 0), IF(_xlpm.result = "", "", _xlpm.result) ) | I6: =IF($E6="","", IF( _xlfn.XLOOKUP($E6,DrillsTable[Drill],DrillsTable[Reference],"",0) = "", "", HYPERLINK(_xlfn.XLOOKUP($E6,DrillsTable[Drill],DrillsTable[Reference],"",0),"Link") ) ) | AA6: {=TRANSPOSE(_xlfn._xlws.FILTER( Drills_Drill, (Drills_Competency=$D6) * ( IF( PP1_League="Pee Wee", Drills_PW, IF( PP1_League="JV", Drills_JV, IF( PP1_League="Varsity", Drills_Varsity, IF( PP1_League="All CG", Drills_PW, Drills_VT ) ) ) ) = "X" ), "No matching drills" ))} -> Receiving/Catching a ball | AB6: QB Footwork - 3 Step Drop | AC6: QB Footwork - Fake Handoff Rollout | AD6: QB Footwork - Toss/Pitch | AE6: Receiver Stance - First Step Explosion | AF6: RB Stance - First Step Explosion | AG6: 3 Point Stance - First Step Explosion | AH6: Handoff footwork - RB | AI6: Handoff footwork - QB | AJ6: Handoff footwork - QB & RB | AK6: Pass Patterns - WR | AL6: Ball Security Overview | AM6: Stance Simon Says | AN6: Turn and Burn | BA6: Box Drill
B7: =IF($C7="", "", $B6 + $C6) -> 0.75208333 | C7: 0.0055555556 | D7: Fundamentals | E7: Receiver Stance - First Step Explosion | F7: 3 | G7: =IF($E7="","", IF( _xlfn.XLOOKUP($E7,DrillsTable[Drill],DrillsTable[Equipment],"",0) = "", "None", _xlfn.XLOOKUP($E7,DrillsTable[Drill],DrillsTable[Equipment],"",0) ) ) -> Tennis ball, cones | H7: =_xlfn.LET( _xlpm.result, _xlfn.XLOOKUP($E7, DrillsTable[Drill], DrillsTable[Competition], "", 0), IF(_xlpm.result = "", "", _xlpm.result) ) -> Yes | I7: =IF($E7="","", IF( _xlfn.XLOOKUP($E7,DrillsTable[Drill],DrillsTable[Reference],"",0) = "", "", HYPERLINK(_xlfn.XLOOKUP($E7,DrillsTable[Drill],DrillsTable[Reference],"",0),"Link") ) ) | AA7: {=TRANSPOSE(_xlfn._xlws.FILTER( Drills_Drill, (Drills_Competency=$D7) * ( IF( PP1_League="Pee Wee", Drills_PW, IF( PP1_League="JV", Drills_JV, IF( PP1_League="Varsity", Drills_Varsity, IF( PP1_League="All CG", Drills_PW, Drills_VT ) ) ) ) = "X" ), "No matching drills" ))} -> Receiving/Catching a ball | AB7: QB Footwork - 3 Step Drop | AC7: QB Footwork - Fake Handoff Rollout | AD7: QB Footwork - Toss/Pitch | AE7: Receiver Stance - First Step Explosion | AF7: RB Stance - First Step Explosion | AG7: 3 Point Stance - First Step Explosion | AH7: Handoff footwork - RB | AI7: Handoff footwork - QB | AJ7: Handoff footwork - QB & RB | AK7: Pass Patterns - WR | AL7: Ball Security Overview | AM7: Stance Simon Says | AN7: Turn and Burn | BA7: Pass Patterns - WR
B8: =IF($C8="", "", $B7 + $C7) -> 0.75763889 | C8: 0.0055555556 | D8: Fundamentals | E8: QB Footwork - Toss/Pitch | F8: 4 | G8: =IF($E8="","", IF( _xlfn.XLOOKUP($E8,DrillsTable[Drill],DrillsTable[Equipment],"",0) = "", "None", _xlfn.XLOOKUP($E8,DrillsTable[Drill],DrillsTable[Equipment],"",0) ) ) -> Cones | H8: =_xlfn.LET( _xlpm.result, _xlfn.XLOOKUP($E8, DrillsTable[Drill], DrillsTable[Competition], "", 0), IF(_xlpm.result = "", "", _xlpm.result) ) | I8: =IF($E8="","", IF( _xlfn.XLOOKUP($E8,DrillsTable[Drill],DrillsTable[Reference],"",0) = "", "", HYPERLINK(_xlfn.XLOOKUP($E8,DrillsTable[Drill],DrillsTable[Reference],"",0),"Link") ) ) | AA8: {=TRANSPOSE(_xlfn._xlws.FILTER( Drills_Drill, (Drills_Competency=$D8) * ( IF( PP1_League="Pee Wee", Drills_PW, IF( PP1_League="JV", Drills_JV, IF( PP1_League="Varsity", Drills_Varsity, IF( PP1_League="All CG", Drills_PW, Drills_VT ) ) ) ) = "X" ), "No matching drills" ))} -> Receiving/Catching a ball | AB8: QB Footwork - 3 Step Drop | AC8: QB Footwork - Fake Handoff Rollout | AD8: QB Footwork - Toss/Pitch | AE8: Receiver Stance - First Step Explosion | AF8: RB Stance - First Step Explosion | AG8: 3 Point Stance - First Step Explosion | AH8: Handoff footwork - RB | AI8: Handoff footwork - QB | AJ8: Handoff footwork - QB & RB | AK8: Pass Patterns - WR | AL8: Ball Security Overview | AM8: Stance Simon Says | AN8: Turn and Burn | BA8: Receiver Stance - First Step Explosion
B9: =IF($C9="", "", $B8 + $C8) -> 0.76319444 | C9: 0.0013888889 | D9: Warmup/Cooldown | E9: Water Break | F9: Whole Team | G9: =IF($E9="","", IF( _xlfn.XLOOKUP($E9,DrillsTable[Drill],DrillsTable[Equipment],"",0) = "", "None", _xlfn.XLOOKUP($E9,DrillsTable[Drill],DrillsTable[Equipment],"",0) ) ) -> None | H9: =_xlfn.LET( _xlpm.result, _xlfn.XLOOKUP($E9, DrillsTable[Drill], DrillsTable[Competition], "", 0), IF(_xlpm.result = "", "", _xlpm.result) ) | I9: =IF($E9="","", IF( _xlfn.XLOOKUP($E9,DrillsTable[Drill],DrillsTable[Reference],"",0) = "", "", HYPERLINK(_xlfn.XLOOKUP($E9,DrillsTable[Drill],DrillsTable[Reference],"",0),"Link") ) ) | AA9: {=TRANSPOSE(_xlfn._xlws.FILTER( Drills_Drill, (Drills_Competency=$D9) * ( IF( PP1_League="Pee Wee", Drills_PW, IF( PP1_League="JV", Drills_JV, IF( PP1_League="Varsity", Drills_Varsity, IF( PP1_League="All CG", Drills_PW, Drills_VT ) ) ) ) = "X" ), "No matching drills" ))} -> Pin up | AB9: Dynamic Stretching Routine | AC9: Sprints | AD9: Chalk Talk | AE9: Water Break | BA9: QB Footwork - Toss/Pitch
B10: =IF($C10="", "", $B9 + $C9) -> 0.76458333 | C10: 0.0055555556 | D10: Offense | E10: QB/RB Toss/Pitch Drill | F10: 1 | G10: =IF($E10="","", IF( _xlfn.XLOOKUP($E10,DrillsTable[Drill],DrillsTable[Equipment],"",0) = "", "None", _xlfn.XLOOKUP($E10,DrillsTable[Drill],DrillsTable[Equipment],"",0) ) ) -> Cones | H10: =_xlfn.LET( _xlpm.result, _xlfn.XLOOKUP($E10, DrillsTable[Drill], DrillsTable[Competition], "", 0), IF(_xlpm.result = "", "", _xlpm.result) ) | I10: =IF($E10="","", IF( _xlfn.XLOOKUP($E10,DrillsTable[Drill],DrillsTable[Reference],"",0) = "", "", HYPERLINK(_xlfn.XLOOKUP($E10,DrillsTable[Drill],DrillsTable[Reference],"",0),"Link") ) ) | AA10: {=TRANSPOSE(_xlfn._xlws.FILTER( Drills_Drill, (Drills_Competency=$D10) * ( IF( PP1_League="Pee Wee", Drills_PW, IF( PP1_League="JV", Drills_JV, IF( PP1_League="Varsity", Drills_Varsity, IF( PP1_League="All CG", Drills_PW, Drills_VT ) ) ) ) = "X" ), "No matching drills" ))} -> Playbook - Walkthrough | AB10: QB/WR Pass Routes | AC10: QB/RB Handoff Drill | AD10: QB/RB Toss/Pitch Drill | AE10: QB/RB Handoff Cut Drill | AF10: Playbook - Full Speed | BA10: Water Break
B11: =IF($C11="", "", $B10 + $C10) -> 0.77013889 | C11: 0.0055555556 | D11: Fundamentals | E11: Turn and Burn | F11: 2 | G11: =IF($E11="","", IF( _xlfn.XLOOKUP($E11,DrillsTable[Drill],DrillsTable[Equipment],"",0) = "", "None", _xlfn.XLOOKUP($E11,DrillsTable[Drill],DrillsTable[Equipment],"",0) ) ) -> Ball | H11: =_xlfn.LET( _xlpm.result, _xlfn.XLOOKUP($E11, DrillsTable[Drill], DrillsTable[Competition], "", 0), IF(_xlpm.result = "", "", _xlpm.result) ) -> Yes | I11: =IF($E11="","", IF( _xlfn.XLOOKUP($E11,DrillsTable[Drill],DrillsTable[Reference],"",0) = "", "", HYPERLINK(_xlfn.XLOOKUP($E11,DrillsTable[Drill],DrillsTable[Reference],"",0),"Link") ) ) | AA11: {=TRANSPOSE(_xlfn._xlws.FILTER( Drills_Drill, (Drills_Competency=$D11) * ( IF( PP1_League="Pee Wee", Drills_PW, IF( PP1_League="JV", Drills_JV, IF( PP1_League="Varsity", Drills_Varsity, IF( PP1_League="All CG", Drills_PW, Drills_VT ) ) ) ) = "X" ), "No matching drills" ))} -> Receiving/Catching a ball | AB11: QB Footwork - 3 Step Drop | AC11: QB Footwork - Fake Handoff Rollout | AD11: QB Footwork - Toss/Pitch | AE11: Receiver Stance - First Step Explosion | AF11: RB Stance - First Step Explosion | AG11: 3 Point Stance - First Step Explosion | AH11: Handoff footwork - RB | AI11: Handoff footwork - QB | AJ11: Handoff footwork - QB & RB | AK11: Pass Patterns - WR | AL11: Ball Security Overview | AM11: Stance Simon Says | AN11: Turn and Burn | BA11: QB/RB Toss/Pitch Drill
B12: =IF($C12="", "", $B11 + $C11) -> 0.77569444 | C12: 0.0055555556 | D12: Scrimmage Games | E12: 1 on 1 - Pass Coverage | F12: 3 | G12: =IF($E12="","", IF( _xlfn.XLOOKUP($E12,DrillsTable[Drill],DrillsTable[Equipment],"",0) = "", "None", _xlfn.XLOOKUP($E12,DrillsTable[Drill],DrillsTable[Equipment],"",0) ) ) -> None | H12: =_xlfn.LET( _xlpm.result, _xlfn.XLOOKUP($E12, DrillsTable[Drill], DrillsTable[Competition], "", 0), IF(_xlpm.result = "", "", _xlpm.result) ) -> Yes | I12: =IF($E12="","", IF( _xlfn.XLOOKUP($E12,DrillsTable[Drill],DrillsTable[Reference],"",0) = "", "", HYPERLINK(_xlfn.XLOOKUP($E12,DrillsTable[Drill],DrillsTable[Reference],"",0),"Link") ) ) | AA12: {=TRANSPOSE(_xlfn._xlws.FILTER( Drills_Drill, (Drills_Competency=$D12) * ( IF( PP1_League="Pee Wee", Drills_PW, IF( PP1_League="JV", Drills_JV, IF( PP1_League="Varsity", Drills_Varsity, IF( PP1_League="All CG", Drills_PW, Drills_VT ) ) ) ) = "X" ), "No matching drills" ))} -> 2 on 2 - LB Switch or Stick (Communication) | AB12: 1 on 1 - Pursuit Guantlet | AC12: 1 on 1 - Handoff Gauntlet | AD12: 1 on 1 - Toss/Pitch Pursuit | AE12: 1 on 1 - Pass Coverage | AF12: Red Rover | AG12: Box Drill Relay | BA12: Turn and Burn
B13: =IF($C13="", "", $B12 + $C12) -> 0.78125 | C13: 0.0055555556 | D13: Scrimmage Games | E13: 1 on 1 - Handoff Gauntlet | F13: 4 | G13: =IF($E13="","", IF( _xlfn.XLOOKUP($E13,DrillsTable[Drill],DrillsTable[Equipment],"",0) = "", "None", _xlfn.XLOOKUP($E13,DrillsTable[Drill],DrillsTable[Equipment],"",0) ) ) -> Cones | H13: =_xlfn.LET( _xlpm.result, _xlfn.XLOOKUP($E13, DrillsTable[Drill], DrillsTable[Competition], "", 0), IF(_xlpm.result = "", "", _xlpm.result) ) -> Yes | I13: =IF($E13="","", IF( _xlfn.XLOOKUP($E13,DrillsTable[Drill],DrillsTable[Reference],"",0) = "", "", HYPERLINK(_xlfn.XLOOKUP($E13,DrillsTable[Drill],DrillsTable[Reference],"",0),"Link") ) ) | K13: Drill Groups | P13: Drill Groups | AA13: {=TRANSPOSE(_xlfn._xlws.FILTER( Drills_Drill, (Drills_Competency=$D13) * ( IF( PP1_League="Pee Wee", Drills_PW, IF( PP1_League="JV", Drills_JV, IF( PP1_League="Varsity", Drills_Varsity, IF( PP1_League="All CG", Drills_PW, Drills_VT ) ) ) ) = "X" ), "No matching drills" ))} -> 2 on 2 - LB Switch or Stick (Communication) | AB13: 1 on 1 - Pursuit Guantlet | AC13: 1 on 1 - Handoff Gauntlet | AD13: 1 on 1 - Toss/Pitch Pursuit | AE13: 1 on 1 - Pass Coverage | AF13: Red Rover | AG13: Box Drill Relay | BA13: 1 on 1 - Pass Coverage
B14: =IF($C14="", "", $B13 + $C13) -> 0.78680556 | C14: 0.0034722222 | D14: Warmup/Cooldown | E14: Chalk Talk | F14: Whole Team | G14: =IF($E14="","", IF( _xlfn.XLOOKUP($E14,DrillsTable[Drill],DrillsTable[Equipment],"",0) = "", "None", _xlfn.XLOOKUP($E14,DrillsTable[Drill],DrillsTable[Equipment],"",0) ) ) -> None | H14: =_xlfn.LET( _xlpm.result, _xlfn.XLOOKUP($E14, DrillsTable[Drill], DrillsTable[Competition], "", 0), IF(_xlpm.result = "", "", _xlpm.result) ) | I14: =IF($E14="","", IF( _xlfn.XLOOKUP($E14,DrillsTable[Drill],DrillsTable[Reference],"",0) = "", "", HYPERLINK(_xlfn.XLOOKUP($E14,DrillsTable[Drill],DrillsTable[Reference],"",0),"Link") ) ) | AA14: {=TRANSPOSE(_xlfn._xlws.FILTER( Drills_Drill, (Drills_Competency=$D14) * ( IF( PP1_League="Pee Wee", Drills_PW, IF( PP1_League="JV", Drills_JV, IF( PP1_League="Varsity", Drills_Varsity, IF( PP1_League="All CG", Drills_PW, Drills_VT ) ) ) ) = "X" ), "No matching drills" ))} -> Pin up | AB14: Dynamic Stretching Routine | AC14: Sprints | AD14: Chalk Talk | AE14: Water Break | BA14: 1 on 1 - Handoff Gauntlet
B15: =IF($C15="", "", $B14 + $C14) | G15: =IF($E15="","", IF( _xlfn.XLOOKUP($E15,DrillsTable[Drill],DrillsTable[Equipment],"",0) = "", "None", _xlfn.XLOOKUP($E15,DrillsTable[Drill],DrillsTable[Equipment],"",0) ) ) | H15: =_xlfn.LET( _xlpm.result, _xlfn.XLOOKUP($E15, DrillsTable[Drill], DrillsTable[Competition], "", 0), IF(_xlpm.result = "", "", _xlpm.result) ) | I15: =IF($E15="","", IF( _xlfn.XLOOKUP($E15,DrillsTable[Drill],DrillsTable[Reference],"",0) = "", "", HYPERLINK(_xlfn.XLOOKUP($E15,DrillsTable[Drill],DrillsTable[Reference],"",0),"Link") ) ) | AA15: {=TRANSPOSE(_xlfn._xlws.FILTER( Drills_Drill, (Drills_Competency=$D15) * ( IF( PP1_League="Pee Wee", Drills_PW, IF( PP1_League="JV", Drills_JV, IF( PP1_League="Varsity", Drills_Varsity, IF( PP1_League="All CG", Drills_PW, Drills_VT ) ) ) ) = "X" ), "No matching drills" ))} -> No matching drills | BA15: Chalk Talk
B16: =IF($C16="", "", $B15 + $C15) | G16: =IF($E16="","", IF( _xlfn.XLOOKUP($E16,DrillsTable[Drill],DrillsTable[Equipment],"",0) = "", "None", _xlfn.XLOOKUP($E16,DrillsTable[Drill],DrillsTable[Equipment],"",0) ) ) | H16: =_xlfn.LET( _xlpm.result, _xlfn.XLOOKUP($E16, DrillsTable[Drill], DrillsTable[Competition], "", 0), IF(_xlpm.result = "", "", _xlpm.result) ) | I16: =IF($E16="","", IF( _xlfn.XLOOKUP($E16,DrillsTable[Drill],DrillsTable[Reference],"",0) = "", "", HYPERLINK(_xlfn.XLOOKUP($E16,DrillsTable[Drill],DrillsTable[Reference],"",0),"Link") ) ) | AA16: {=TRANSPOSE(_xlfn._xlws.FILTER( Drills_Drill, (Drills_Competency=$D16) * ( IF( PP1_League="Pee Wee", Drills_PW, IF( PP1_League="JV", Drills_JV, IF( PP1_League="Varsity", Drills_Varsity, IF( PP1_League="All CG", Drills_PW, Drills_VT ) ) ) ) = "X" ), "No matching drills" ))} -> No matching drills | BA16: 0
B17: =IF($C17="", "", $B14 + $C14) | G17: =IF($E17="","", IF( _xlfn.XLOOKUP($E17,DrillsTable[Drill],DrillsTable[Equipment],"",0) = "", "None", _xlfn.XLOOKUP($E17,DrillsTable[Drill],DrillsTable[Equipment],"",0) ) ) | H17: =_xlfn.LET( _xlpm.result, _xlfn.XLOOKUP($E17, DrillsTable[Drill], DrillsTable[Competition], "", 0), IF(_xlpm.result = "", "", _xlpm.result) ) | I17: =IF($E17="","", IF( _xlfn.XLOOKUP($E17,DrillsTable[Drill],DrillsTable[Reference],"",0) = "", "", HYPERLINK(_xlfn.XLOOKUP($E17,DrillsTable[Drill],DrillsTable[Reference],"",0),"Link") ) ) | AA17: {=TRANSPOSE(_xlfn._xlws.FILTER( Drills_Drill, (Drills_Competency=$D17) * ( IF( PP1_League="Pee Wee", Drills_PW, IF( PP1_League="JV", Drills_JV, IF( PP1_League="Varsity", Drills_Varsity, IF( PP1_League="All CG", Drills_PW, Drills_VT ) ) ) ) = "X" ), "No matching drills" ))} -> No matching drills | BA17: 0
B18: =IF($C18="", "", $B15 + $C15) | G18: =IF($E18="","", IF( _xlfn.XLOOKUP($E18,DrillsTable[Drill],DrillsTable[Equipment],"",0) = "", "None", _xlfn.XLOOKUP($E18,DrillsTable[Drill],DrillsTable[Equipment],"",0) ) ) | H18: =_xlfn.LET( _xlpm.result, _xlfn.XLOOKUP($E18, DrillsTable[Drill], DrillsTable[Competition], "", 0), IF(_xlpm.result = "", "", _xlpm.result) ) | I18: =IF($E18="","", IF( _xlfn.XLOOKUP($E18,DrillsTable[Drill],DrillsTable[Reference],"",0) = "", "", HYPERLINK(_xlfn.XLOOKUP($E18,DrillsTable[Drill],DrillsTable[Reference],"",0),"Link") ) ) | AA18: {=TRANSPOSE(_xlfn._xlws.FILTER( Drills_Drill, (Drills_Competency=$D18) * ( IF( PP1_League="Pee Wee", Drills_PW, IF( PP1_League="JV", Drills_JV, IF( PP1_League="Varsity", Drills_Varsity, IF( PP1_League="All CG", Drills_PW, Drills_VT ) ) ) ) = "X" ), "No matching drills" ))} -> No matching drills | BA18: 0
B19: =IF($C19="", "", $B18 + $C18) | G19: =IF($E19="","", IF( _xlfn.XLOOKUP($E19,DrillsTable[Drill],DrillsTable[Equipment],"",0) = "", "None", _xlfn.XLOOKUP($E19,DrillsTable[Drill],DrillsTable[Equipment],"",0) ) ) | H19: =_xlfn.LET( _xlpm.result, _xlfn.XLOOKUP($E19, DrillsTable[Drill], DrillsTable[Competition], "", 0), IF(_xlpm.result = "", "", _xlpm.result) ) | I19: =IF($E19="","", IF( _xlfn.XLOOKUP($E19,DrillsTable[Drill],DrillsTable[Reference],"",0) = "", "", HYPERLINK(_xlfn.XLOOKUP($E19,DrillsTable[Drill],DrillsTable[Reference],"",0),"Link") ) ) | AA19: {=TRANSPOSE(_xlfn._xlws.FILTER( Drills_Drill, (Drills_Competency=$D19) * ( IF( PP1_League="Pee Wee", Drills_PW, IF( PP1_League="JV", Drills_JV, IF( PP1_League="Varsity", Drills_Varsity, IF( PP1_League="All CG", Drills_PW, Drills_VT ) ) ) ) = "X" ), "No matching drills" ))} -> No matching drills | BA19: 0
B20: =IF($C20="", "", $B19 + $C19) | G20: =IF($E20="","", IF( _xlfn.XLOOKUP($E20,DrillsTable[Drill],DrillsTable[Equipment],"",0) = "", "None", _xlfn.XLOOKUP($E20,DrillsTable[Drill],DrillsTable[Equipment],"",0) ) ) | H20: =_xlfn.LET( _xlpm.result, _xlfn.XLOOKUP($E20, DrillsTable[Drill], DrillsTable[Competition], "", 0), IF(_xlpm.result = "", "", _xlpm.result) ) | I20: =IF($E20="","", IF( _xlfn.XLOOKUP($E20,DrillsTable[Drill],DrillsTable[Reference],"",0) = "", "", HYPERLINK(_xlfn.XLOOKUP($E20,DrillsTable[Drill],DrillsTable[Reference],"",0),"Link") ) ) | AA20: {=TRANSPOSE(_xlfn._xlws.FILTER( Drills_Drill, (Drills_Competency=$D20) * ( IF( PP1_League="Pee Wee", Drills_PW, IF( PP1_League="JV", Drills_JV, IF( PP1_League="Varsity", Drills_Varsity, IF( PP1_League="All CG", Drills_PW, Drills_VT ) ) ) ) = "X" ), "No matching drills" ))} -> No matching drills | BA20: 0
B21: {=LOOKUP(2, 1/(C3:C20<>""), C3:C20) + MAX(B3:B20)} -> 0.79027778 | C21: End Time | H21: PDF Reference | I21: =HYPERLINK(CG_Drills_Framework_Filepath,"CG Drills PDF") -> CG Drills PDF | BA21: 0
L22: Row Labels | M22: Total Time
B23: Station | C23: =Settings!G21 -> Teams | L23: Fundamentals | M23: 0.022222222
B24: {=IFERROR( IF( C23="Players", _xlfn.VSTACK(_xlfn.SEQUENCE(MAX(F3:F20)), "Specialty Pullout"), _xlfn.SEQUENCE(MAX(F3:F20)) ), "" )} -> 1 | C24: PW1 | L24: Warmup/Cooldown | M24: 0.016666667
B25: 2 | C25: PW2 | L25: Scrimmage Games | M25: 0.011111111
B26: 3 | C26: PW3 | L26: Agility | M26: 0.0055555556
B27: 4 | C27: PW4 | L27: Offense | M27: 0.0055555556
L28: Grand Total | M28: 0.061111111
B33: Station | C33: Coach | F33: Specialty Pullout
B34: {=_xlfn.ANCHORARRAY(B24)} -> 1 | C34: Parady | F34: Duration | G34: Competency | H34: Drill | I34: Coach
B35: 2 | C35: Bailey | AA35: {=TRANSPOSE(_xlfn._xlws.FILTER( Drills_Drill, (Drills_Competency=$G35) * ( IF( PP1_League="Pee Wee", Drills_PW, IF( PP1_League="JV", Drills_JV, IF( PP1_League="Varsity", Drills_Varsity, Drills_VT ) ) ) = "X" ), "No matching drills" ))} -> No matching drills
B36: 3 | C36: Filippini | AA36: {=TRANSPOSE(_xlfn._xlws.FILTER( Drills_Drill, (Drills_Competency=$G36) * ( IF( PP1_League="Pee Wee", Drills_PW, IF( PP1_League="JV", Drills_JV, IF( PP1_League="Varsity", Drills_Varsity, Drills_VT ) ) ) = "X" ), "No matching drills" ))} -> No matching drills
B37: 4 | C37: Rotello
AA39: {=TRANSPOSE(_xlfn._xlws.FILTER( Drills_Drill, (Drills_Competency=$G39) * ( IF( PP1_League="Pee Wee", Drills_PW, IF( PP1_League="JV", Drills_JV, IF( PP1_League="Varsity", Drills_Varsity, Drills_VT ) ) ) = "X" ), "No matching drills" ))} -> No matching drills
AA40: {=TRANSPOSE(_xlfn._xlws.FILTER( Drills_Drill, (Drills_Competency=$G40) * ( IF( PP1_League="Pee Wee", Drills_PW, IF( PP1_League="JV", Drills_JV, IF( PP1_League="Varsity", Drills_Varsity, Drills_VT ) ) ) = "X" ), "No matching drills" ))} -> No matching drills
AA41: {=TRANSPOSE(_xlfn._xlws.FILTER( Drills_Drill, (Drills_Competency=$G41) * ( IF( PP1_League="Pee Wee", Drills_PW, IF( PP1_League="JV", Drills_JV, IF( PP1_League="Varsity", Drills_Varsity, Drills_VT ) ) ) = "X" ), "No matching drills" ))} -> No matching drills
B43: ZigZag: Ball on outside arm, plant with outside foot Pass Patterns: Drag (1 Step), Zag (2 Step), Slant (3 Step), Out (4 Step), Fade (4 Step), Hitch (5 Step) RB Stance: 2 point stance, feet parallel to LOS Receiver Stance: Inside foot forward QB Stance: Feet parallel and inside shoulder width QB Toss Footwork: Step back 45 degrees with foot closest to the toss, follow through with opposite foot as the QB tosses the ball. NO hopping

Sheet PeeWee Practice Templates
D2: Pee Wee
B3: Practice Description | D3: Duration | E3: Competency | F3: Drill | G3: Station | AA3: Pee Wee Drill Options
B4: Week 1 Tuesday (All CG) | C4: =IF(B4="","",SUM(D4:D21)) -> 0.061111111 | D4: 0.0013888889 | E4: Warmup/Cooldown | F4: Pin up | G4: Whole Team | AA4: {=TRANSPOSE(_xlfn._xlws.FILTER( Drills_Drill, (Drills_Competency=$E4) * ( IF( PP_Template="Pee Wee", Drills_PW, IF( PP_Template="JV", Drills_JV, IF( PP_Template="Varsity", Drills_Varsity, Drills_VT ) ) ) = "X" ), "No matching drills" ))} -> Pin up | AB4: Dynamic Stretching Routine | AC4: Sprints | AD4: Chalk Talk | AE4: Water Break
D5: 0.010416667 | E5: Warmup/Cooldown | F5: Dynamic Stretching Routine | G5: Whole Team | AA5: {=TRANSPOSE(_xlfn._xlws.FILTER( Drills_Drill, (Drills_Competency=$E5) * ( IF( PP_Template="Pee Wee", Drills_PW, IF( PP_Template="JV", Drills_JV, IF( PP_Template="Varsity", Drills_Varsity, Drills_VT ) ) ) = "X" ), "No matching drills" ))} -> Pin up | AB5: Dynamic Stretching Routine | AC5: Sprints | AD5: Chalk Talk | AE5: Water Break
D6: 0.0055555556 | E6: Agility | F6: Zig Zag Footwork Drill | G6: 1 | AA6: {=TRANSPOSE(_xlfn._xlws.FILTER( Drills_Drill, (Drills_Competency=$E6) * ( IF( PP_Template="Pee Wee", Drills_PW, IF( PP_Template="JV", Drills_JV, IF( PP_Template="Varsity", Drills_Varsity, Drills_VT ) ) ) = "X" ), "No matching drills" ))} -> Zig Zag Footwork Drill | AB6: L-Drill | AC6: T-Drill | AD6: Box Drill | AE6: Bag Drills | AF6: LB Box Drill | AG6: LB X-Mas Tree Drill | AH6: Defensive Back Drill | AI6: Agility Ladder Drills | AJ6: Mirror Drill | AK6: DB Call-out Drill (Right, Left, Back)
D7: 0.0055555556 | E7: Agility | F7: Box Drill | G7: 2 | AA7: {=TRANSPOSE(_xlfn._xlws.FILTER( Drills_Drill, (Drills_Competency=$E7) * ( IF( PP_Template="Pee Wee", Drills_PW, IF( PP_Template="JV", Drills_JV, IF( PP_Template="Varsity", Drills_Varsity, Drills_VT ) ) ) = "X" ), "No matching drills" ))} -> Zig Zag Footwork Drill | AB7: L-Drill | AC7: T-Drill | AD7: Box Drill | AE7: Bag Drills | AF7: LB Box Drill | AG7: LB X-Mas Tree Drill | AH7: Defensive Back Drill | AI7: Agility Ladder Drills | AJ7: Mirror Drill | AK7: DB Call-out Drill (Right, Left, Back)
D8: 0.0055555556 | E8: Agility | F8: DB Call-out Drill (Right, Left, Back) | G8: 3 | AA8: {=TRANSPOSE(_xlfn._xlws.FILTER( Drills_Drill, (Drills_Competency=$E8) * ( IF( PP_Template="Pee Wee", Drills_PW, IF( PP_Template="JV", Drills_JV, IF( PP_Template="Varsity", Drills_Varsity, Drills_VT ) ) ) = "X" ), "No matching drills" ))} -> Zig Zag Footwork Drill | AB8: L-Drill | AC8: T-Drill | AD8: Box Drill | AE8: Bag Drills | AF8: LB Box Drill | AG8: LB X-Mas Tree Drill | AH8: Defensive Back Drill | AI8: Agility Ladder Drills | AJ8: Mirror Drill | AK8: DB Call-out Drill (Right, Left, Back)
D9: 0.0055555556 | E9: Agility | F9: LB Box Drill | G9: 4 | AA9: {=TRANSPOSE(_xlfn._xlws.FILTER( Drills_Drill, (Drills_Competency=$E9) * ( IF( PP_Template="Pee Wee", Drills_PW, IF( PP_Template="JV", Drills_JV, IF( PP_Template="Varsity", Drills_Varsity, Drills_VT ) ) ) = "X" ), "No matching drills" ))} -> Zig Zag Footwork Drill | AB9: L-Drill | AC9: T-Drill | AD9: Box Drill | AE9: Bag Drills | AF9: LB Box Drill | AG9: LB X-Mas Tree Drill | AH9: Defensive Back Drill | AI9: Agility Ladder Drills | AJ9: Mirror Drill | AK9: DB Call-out Drill (Right, Left, Back)
D10: 0.0013888889 | E10: Warmup/Cooldown | F10: Water Break | G10: Whole Team | AA10: {=TRANSPOSE(_xlfn._xlws.FILTER( Drills_Drill, (Drills_Competency=$E10) * ( IF( PP_Template="Pee Wee", Drills_PW, IF( PP_Template="JV", Drills_JV, IF( PP_Template="Varsity", Drills_Varsity, Drills_VT ) ) ) = "X" ), "No matching drills" ))} -> Pin up | AB10: Dynamic Stretching Routine | AC10: Sprints | AD10: Chalk Talk | AE10: Water Break
D11: 0.0055555556 | E11: Fundamentals | F11: Receiver Stance - First Step Explosion | G11: 5 | AA11: {=TRANSPOSE(_xlfn._xlws.FILTER( Drills_Drill, (Drills_Competency=$E11) * ( IF( PP_Template="Pee Wee", Drills_PW, IF( PP_Template="JV", Drills_JV, IF( PP_Template="Varsity", Drills_Varsity, Drills_VT ) ) ) = "X" ), "No matching drills" ))} -> Receiving/Catching a ball | AB11: QB Footwork - 3 Step Drop | AC11: QB Footwork - Fake Handoff Rollout | AD11: QB Footwork - Toss/Pitch | AE11: Receiver Stance - First Step Explosion | AF11: RB Stance - First Step Explosion | AG11: 3 Point Stance - First Step Explosion | AH11: Handoff footwork - RB | AI11: Handoff footwork - QB | AJ11: Handoff footwork - QB & RB | AK11: Pass Patterns - WR | AL11: Ball Security Overview | AM11: Stance Simon Says | AN11: Turn and Burn
D12: 0 | E12: Fundamentals | F12: Ball Security Overview | G12: 6 | AA12: {=TRANSPOSE(_xlfn._xlws.FILTER( Drills_Drill, (Drills_Competency=$E12) * ( IF( PP_Template="Pee Wee", Drills_PW, IF( PP_Template="JV", Drills_JV, IF( PP_Template="Varsity", Drills_Varsity, Drills_VT ) ) ) = "X" ), "No matching drills" ))} -> Receiving/Catching a ball | AB12: QB Footwork - 3 Step Drop | AC12: QB Footwork - Fake Handoff Rollout | AD12: QB Footwork - Toss/Pitch | AE12: Receiver Stance - First Step Explosion | AF12: RB Stance - First Step Explosion | AG12: 3 Point Stance - First Step Explosion | AH12: Handoff footwork - RB | AI12: Handoff footwork - QB | AJ12: Handoff footwork - QB & RB | AK12: Pass Patterns - WR | AL12: Ball Security Overview | AM12: Stance Simon Says | AN12: Turn and Burn
D13: 0.0055555556 | E13: Fundamentals | F13: Handoff footwork - RB | G13: 6 | AA13: {=TRANSPOSE(_xlfn._xlws.FILTER( Drills_Drill, (Drills_Competency=$E13) * ( IF( PP_Template="Pee Wee", Drills_PW, IF( PP_Template="JV", Drills_JV, IF( PP_Template="Varsity", Drills_Varsity, Drills_VT ) ) ) = "X" ), "No matching drills" ))} -> Receiving/Catching a ball | AB13: QB Footwork - 3 Step Drop | AC13: QB Footwork - Fake Handoff Rollout | AD13: QB Footwork - Toss/Pitch | AE13: Receiver Stance - First Step Explosion | AF13: RB Stance - First Step Explosion | AG13: 3 Point Stance - First Step Explosion | AH13: Handoff footwork - RB | AI13: Handoff footwork - QB | AJ13: Handoff footwork - QB & RB | AK13: Pass Patterns - WR | AL13: Ball Security Overview | AM13: Stance Simon Says | AN13: Turn and Burn
D14: 0 | E14: Fundamentals | F14: Receiving/Catching a ball | G14: 7 | AA14: {=TRANSPOSE(_xlfn._xlws.FILTER( Drills_Drill, (Drills_Competency=$E14) * ( IF( PP_Template="Pee Wee", Drills_PW, IF( PP_Template="JV", Drills_JV, IF( PP_Template="Varsity", Drills_Varsity, Drills_VT ) ) ) = "X" ), "No matching drills" ))} -> Receiving/Catching a ball | AB14: QB Footwork - 3 Step Drop | AC14: QB Footwork - Fake Handoff Rollout | AD14: QB Footwork - Toss/Pitch | AE14: Receiver Stance - First Step Explosion | AF14: RB Stance - First Step Explosion | AG14: 3 Point Stance - First Step Explosion | AH14: Handoff footwork - RB | AI14: Handoff footwork - QB | AJ14: Handoff footwork - QB & RB | AK14: Pass Patterns - WR | AL14: Ball Security Overview | AM14: Stance Simon Says | AN14: Turn and Burn
D15: 0.0055555556 | E15: Fundamentals | F15: Pass Patterns - WR | G15: 7 | AA15: {=TRANSPOSE(_xlfn._xlws.FILTER( Drills_Drill, (Drills_Competency=$E15) * ( IF( PP_Template="Pee Wee", Drills_PW, IF( PP_Template="JV", Drills_JV, IF( PP_Template="Varsity", Drills_Varsity, Drills_VT ) ) ) = "X" ), "No matching drills" ))} -> Receiving/Catching a ball | AB15: QB Footwork - 3 Step Drop | AC15: QB Footwork - Fake Handoff Rollout | AD15: QB Footwork - Toss/Pitch | AE15: Receiver Stance - First Step Explosion | AF15: RB Stance - First Step Explosion | AG15: 3 Point Stance - First Step Explosion | AH15: Handoff footwork - RB | AI15: Handoff footwork - QB | AJ15: Handoff footwork - QB & RB | AK15: Pass Patterns - WR | AL15: Ball Security Overview | AM15: Stance Simon Says | AN15: Turn and Burn
D16: 0.0055555556 | E16: Fundamentals | F16: Stance Simon Says | G16: 8 | AA16: {=TRANSPOSE(_xlfn._xlws.FILTER( Drills_Drill, (Drills_Competency=$E16) * ( IF( PP_Template="Pee Wee", Drills_PW, IF( PP_Template="JV", Drills_JV, IF( PP_Template="Varsity", Drills_Varsity, Drills_VT ) ) ) = "X" ), "No matching drills" ))} -> Receiving/Catching a ball | AB16: QB Footwork - 3 Step Drop | AC16: QB Footwork - Fake Handoff Rollout | AD16: QB Footwork - Toss/Pitch | AE16: Receiver Stance - First Step Explosion | AF16: RB Stance - First Step Explosion | AG16: 3 Point Stance - First Step Explosion | AH16: Handoff footwork - RB | AI16: Handoff footwork - QB | AJ16: Handoff footwork - QB & RB | AK16: Pass Patterns - WR | AL16: Ball Security Overview | AM16: Stance Simon Says | AN16: Turn and Burn
D17: 0.0034722222 | E17: Warmup/Cooldown | F17: Chalk Talk | G17: Whole Team | AA17: {=TRANSPOSE(_xlfn._xlws.FILTER( Drills_Drill, (Drills_Competency=$E17) * ( IF( PP_Template="Pee Wee", Drills_PW, IF( PP_Template="JV", Drills_JV, IF( PP_Template="Varsity", Drills_Varsity, Drills_VT ) ) ) = "X" ), "No matching drills" ))} -> Pin up | AB17: Dynamic Stretching Routine | AC17: Sprints | AD17: Chalk Talk | AE17: Water Break
AA18: {=TRANSPOSE(_xlfn._xlws.FILTER( Drills_Drill, (Drills_Competency=$E18) * ( IF( PP_Template="Pee Wee", Drills_PW, IF( PP_Template="JV", Drills_JV, IF( PP_Template="Varsity", Drills_Varsity, Drills_VT ) ) ) = "X" ), "No matching drills" ))} -> No matching drills
AA19: {=TRANSPOSE(_xlfn._xlws.FILTER( Drills_Drill, (Drills_Competency=$E19) * ( IF( PP_Template="Pee Wee", Drills_PW, IF( PP_Template="JV", Drills_JV, IF( PP_Template="Varsity", Drills_Varsity, Drills_VT ) ) ) = "X" ), "No matching drills" ))} -> No matching drills
AA20: {=TRANSPOSE(_xlfn._xlws.FILTER( Drills_Drill, (Drills_Competency=$E20) * ( IF( PP_Template="Pee Wee", Drills_PW, IF( PP_Template="JV", Drills_JV, IF( PP_Template="Varsity", Drills_Varsity, Drills_VT ) ) ) = "X" ), "No matching drills" ))} -> No matching drills
AA21: {=TRANSPOSE(_xlfn._xlws.FILTER( Drills_Drill, (Drills_Competency=$E21) * ( IF( PP_Template="Pee Wee", Drills_PW, IF( PP_Template="JV", Drills_JV, IF( PP_Template="Varsity", Drills_Varsity, Drills_VT ) ) ) = "X" ), "No matching drills" ))} -> No matching drills
B22: Week 1 Thursday (All CG) | C22: =IF(B22="","",SUM(D22:D39)) -> 0.061111111 | D22: 0.0013888889 | E22: Warmup/Cooldown | F22: Pin up | G22: Whole Team | AA22: {=TRANSPOSE(_xlfn._xlws.FILTER( Drills_Drill, (Drills_Competency=$E22) * ( IF( PP_Template="Pee Wee", Drills_PW, IF( PP_Template="JV", Drills_JV, IF( PP_Template="Varsity", Drills_Varsity, Drills_VT ) ) ) = "X" ), "No matching drills" ))} -> Pin up | AB22: Dynamic Stretching Routine | AC22: Sprints | AD22: Chalk Talk | AE22: Water Break
D23: 0.010416667 | E23: Warmup/Cooldown | F23: Dynamic Stretching Routine | G23: Whole Team | AA23: {=TRANSPOSE(_xlfn._xlws.FILTER( Drills_Drill, (Drills_Competency=$E23) * ( IF( PP_Template="Pee Wee", Drills_PW, IF( PP_Template="JV", Drills_JV, IF( PP_Template="Varsity", Drills_Varsity, Drills_VT ) ) ) = "X" ), "No matching drills" ))} -> Pin up | AB23: Dynamic Stretching Routine | AC23: Sprints | AD23: Chalk Talk | AE23: Water Break
D24: 0.0055555556 | E24: Agility | F24: Zig Zag Footwork Drill | G24: 1 | AA24: {=TRANSPOSE(_xlfn._xlws.FILTER( Drills_Drill, (Drills_Competency=$E24) * ( IF( PP_Template="Pee Wee", Drills_PW, IF( PP_Template="JV", Drills_JV, IF( PP_Template="Varsity", Drills_Varsity, Drills_VT ) ) ) = "X" ), "No matching drills" ))} -> Zig Zag Footwork Drill | AB24: L-Drill | AC24: T-Drill | AD24: Box Drill | AE24: Bag Drills | AF24: LB Box Drill | AG24: LB X-Mas Tree Drill | AH24: Defensive Back Drill | AI24: Agility Ladder Drills | AJ24: Mirror Drill | AK24: DB Call-out Drill (Right, Left, Back)
D25: 0.0055555556 | E25: Agility | F25: T-Drill | G25: 2 | AA25: {=TRANSPOSE(_xlfn._xlws.FILTER( Drills_Drill, (Drills_Competency=$E25) * ( IF( PP_Template="Pee Wee", Drills_PW, IF( PP_Template="JV", Drills_JV, IF( PP_Template="Varsity", Drills_Varsity, Drills_VT ) ) ) = "X" ), "No matching drills" ))} -> Zig Zag Footwork Drill | AB25: L-Drill | AC25: T-Drill | AD25: Box Drill | AE25: Bag Drills | AF25: LB Box Drill | AG25: LB X-Mas Tree Drill | AH25: Defensive Back Drill | AI25: Agility Ladder Drills | AJ25: Mirror Drill | AK25: DB Call-out Drill (Right, Left, Back)
D26: 0.0055555556 | E26: Agility | F26: LB X-Mas Tree Drill | G26: 3 | AA26: {=TRANSPOSE(_xlfn._xlws.FILTER( Drills_Drill, (Drills_Competency=$E26) * ( IF( PP_Template="Pee Wee", Drills_PW, IF( PP_Template="JV", Drills_JV, IF( PP_Template="Varsity", Drills_Varsity, Drills_VT ) ) ) = "X" ), "No matching drills" ))} -> Zig Zag Footwork Drill | AB26: L-Drill | AC26: T-Drill | AD26: Box Drill | AE26: Bag Drills | AF26: LB Box Drill | AG26: LB X-Mas Tree Drill | AH26: Defensive Back Drill | AI26: Agility Ladder Drills | AJ26: Mirror Drill | AK26: DB Call-out Drill (Right, Left, Back)
D27: 0.0055555556 | E27: Agility | F27: Mirror Drill | G27: 4 | AA27: {=TRANSPOSE(_xlfn._xlws.FILTER( Drills_Drill, (Drills_Competency=$E27) * ( IF( PP_Template="Pee Wee", Drills_PW, IF( PP_Template="JV", Drills_JV, IF( PP_Template="Varsity", Drills_Varsity, Drills_VT ) ) ) = "X" ), "No matching drills" ))} -> Zig Zag Footwork Drill | AB27: L-Drill | AC27: T-Drill | AD27: Box Drill | AE27: Bag Drills | AF27: LB Box Drill | AG27: LB X-Mas Tree Drill | AH27: Defensive Back Drill | AI27: Agility Ladder Drills | AJ27: Mirror Drill | AK27: DB Call-out Drill (Right, Left, Back)
D28: 0.0013888889 | E28: Warmup/Cooldown | F28: Water Break | G28: Whole Team | AA28: {=TRANSPOSE(_xlfn._xlws.FILTER( Drills_Drill, (Drills_Competency=$E28) * ( IF( PP_Template="Pee Wee", Drills_PW, IF( PP_Template="JV", Drills_JV, IF( PP_Template="Varsity", Drills_Varsity, Drills_VT ) ) ) = "X" ), "No matching drills" ))} -> Pin up | AB28: Dynamic Stretching Routine | AC28: Sprints | AD28: Chalk Talk | AE28: Water Break
D29: 0.0055555556 | E29: Fundamentals | F29: RB Stance - First Step Explosion | G29: 5 | AA29: {=TRANSPOSE(_xlfn._xlws.FILTER( Drills_Drill, (Drills_Competency=$E29) * ( IF( PP_Template="Pee Wee", Drills_PW, IF( PP_Template="JV", Drills_JV, IF( PP_Template="Varsity", Drills_Varsity, Drills_VT ) ) ) = "X" ), "No matching drills" ))} -> Receiving/Catching a ball | AB29: QB Footwork - 3 Step Drop | AC29: QB Footwork - Fake Handoff Rollout | AD29: QB Footwork - Toss/Pitch | AE29: Receiver Stance - First Step Explosion | AF29: RB Stance - First Step Explosion | AG29: 3 Point Stance - First Step Explosion | AH29: Handoff footwork - RB | AI29: Handoff footwork - QB | AJ29: Handoff footwork - QB & RB | AK29: Pass Patterns - WR | AL29: Ball Security Overview | AM29: Stance Simon Says | AN29: Turn and Burn
D30: 0.0055555556 | E30: Fundamentals | F30: Turn and Burn | G30: 6 | AA30: {=TRANSPOSE(_xlfn._xlws.FILTER( Drills_Drill, (Drills_Competency=$E30) * ( IF( PP_Template="Pee Wee", Drills_PW, IF( PP_Template="JV", Drills_JV, IF( PP_Template="Varsity", Drills_Varsity, Drills_VT ) ) ) = "X" ), "No matching drills" ))} -> Receiving/Catching a ball | AB30: QB Footwork - 3 Step Drop | AC30: QB Footwork - Fake Handoff Rollout | AD30: QB Footwork - Toss/Pitch | AE30: Receiver Stance - First Step Explosion | AF30: RB Stance - First Step Explosion | AG30: 3 Point Stance - First Step Explosion | AH30: Handoff footwork - RB | AI30: Handoff footwork - QB | AJ30: Handoff footwork - QB & RB | AK30: Pass Patterns - WR | AL30: Ball Security Overview | AM30: Stance Simon Says | AN30: Turn and Burn
D31: 0.0055555556 | E31: Fundamentals | F31: Pass Patterns - WR | G31: 7 | AA31: {=TRANSPOSE(_xlfn._xlws.FILTER( Drills_Drill, (Drills_Competency=$E31) * ( IF( PP_Template="Pee Wee", Drills_PW, IF( PP_Template="JV", Drills_JV, IF( PP_Template="Varsity", Drills_Varsity, Drills_VT ) ) ) = "X" ), "No matching drills" ))} -> Receiving/Catching a ball | AB31: QB Footwork - 3 Step Drop | AC31: QB Footwork - Fake Handoff Rollout | AD31: QB Footwork - Toss/Pitch | AE31: Receiver Stance - First Step Explosion | AF31: RB Stance - First Step Explosion | AG31: 3 Point Stance - First Step Explosion | AH31: Handoff footwork - RB | AI31: Handoff footwork - QB | AJ31: Handoff footwork - QB & RB | AK31: Pass Patterns - WR | AL31: Ball Security Overview | AM31: Stance Simon Says | AN31: Turn and Burn
D32: 0.0055555556 | E32: Fundamentals | F32: Handoff footwork - QB & RB | G32: 8 | AA32: {=TRANSPOSE(_xlfn._xlws.FILTER( Drills_Drill, (Drills_Competency=$E32) * ( IF( PP_Template="Pee Wee", Drills_PW, IF( PP_Template="JV", Drills_JV, IF( PP_Template="Varsity", Drills_Varsity, Drills_VT ) ) ) = "X" ), "No matching drills" ))} -> Receiving/Catching a ball | AB32: QB Footwork - 3 Step Drop | AC32: QB Footwork - Fake Handoff Rollout | AD32: QB Footwork - Toss/Pitch | AE32: Receiver Stance - First Step Explosion | AF32: RB Stance - First Step Explosion | AG32: 3 Point Stance - First Step Explosion | AH32: Handoff footwork - RB | AI32: Handoff footwork - QB | AJ32: Handoff footwork - QB & RB | AK32: Pass Patterns - WR | AL32: Ball Security Overview | AM32: Stance Simon Says | AN32: Turn and Burn
D33: 0.0034722222 | E33: Warmup/Cooldown | F33: Chalk Talk | G33: Whole Team | AA33: {=TRANSPOSE(_xlfn._xlws.FILTER( Drills_Drill, (Drills_Competency=$E33) * ( IF( PP_Template="Pee Wee", Drills_PW, IF( PP_Template="JV", Drills_JV, IF( PP_Template="Varsity", Drills_Varsity, Drills_VT ) ) ) = "X" ), "No matching drills" ))} -> Pin up | AB33: Dynamic Stretching Routine | AC33: Sprints | AD33: Chalk Talk | AE33: Water Break
AA34: {=TRANSPOSE(_xlfn._xlws.FILTER( Drills_Drill, (Drills_Competency=$E34) * ( IF( PP_Template="Pee Wee", Drills_PW, IF( PP_Template="JV", Drills_JV, IF( PP_Template="Varsity", Drills_Varsity, Drills_VT ) ) ) = "X" ), "No matching drills" ))} -> No matching drills
AA35: {=TRANSPOSE(_xlfn._xlws.FILTER( Drills_Drill, (Drills_Competency=$E35) * ( IF( PP_Template="Pee Wee", Drills_PW, IF( PP_Template="JV", Drills_JV, IF( PP_Template="Varsity", Drills_Varsity, Drills_VT ) ) ) = "X" ), "No matching drills" ))} -> No matching drills
AA36: {=TRANSPOSE(_xlfn._xlws.FILTER( Drills_Drill, (Drills_Competency=$E36) * ( IF( PP_Template="Pee Wee", Drills_PW, IF( PP_Template="JV", Drills_JV, IF( PP_Template="Varsity", Drills_Varsity, Drills_VT ) ) ) = "X" ), "No matching drills" ))} -> No matching drills
AA37: {=TRANSPOSE(_xlfn._xlws.FILTER( Drills_Drill, (Drills_Competency=$E37) * ( IF( PP_Template="Pee Wee", Drills_PW, IF( PP_Template="JV", Drills_JV, IF( PP_Template="Varsity", Drills_Varsity, Drills_VT ) ) ) = "X" ), "No matching drills" ))} -> No matching drills
AA38: {=TRANSPOSE(_xlfn._xlws.FILTER( Drills_Drill, (Drills_Competency=$E38) * ( IF( PP_Template="Pee Wee", Drills_PW, IF( PP_Template="JV", Drills_JV, IF( PP_Template="Varsity", Drills_Varsity, Drills_VT ) ) ) = "X" ), "No matching drills" ))} -> No matching drills
AA39: {=TRANSPOSE(_xlfn._xlws.FILTER( Drills_Drill, (Drills_Competency=$E39) * ( IF( PP_Template="Pee Wee", Drills_PW, IF( PP_Template="JV", Drills_JV, IF( PP_Template="Varsity", Drills_Varsity, Drills_VT ) ) ) = "X" ), "No matching drills" ))} -> No matching drills
B40: Week 2 Tuesday | C40: =IF(B40="","",SUM(D40:D57)) -> 0.061111111 | D40: 0.0013888889 | E40: Warmup/Cooldown | F40: Pin up | G40: Whole Team | AA40: {=TRANSPOSE(_xlfn._xlws.FILTER( Drills_Drill, (Drills_Competency=$E40) * ( IF( PP_Template="Pee Wee", Drills_PW, IF( PP_Template="JV", Drills_JV, IF( PP_Template="Varsity", Drills_Varsity, Drills_VT ) ) ) = "X" ), "No matching drills" ))} -> Pin up | AB40: Dynamic Stretching Routine | AC40: Sprints | AD40: Chalk Talk | AE40: Water Break
D41: 0.010416667 | E41: Warmup/Cooldown | F41: Dynamic Stretching Routine | G41: Whole Team | AA41: {=TRANSPOSE(_xlfn._xlws.FILTER( Drills_Drill, (Drills_Competency=$E41) * ( IF( PP_Template="Pee Wee", Drills_PW, IF( PP_Template="JV", Drills_JV, IF( PP_Template="Varsity", Drills_Varsity, Drills_VT ) ) ) = "X" ), "No matching drills" ))} -> Pin up | AB41: Dynamic Stretching Routine | AC41: Sprints | AD41: Chalk Talk | AE41: Water Break
D42: 0.0055555556 | E42: Agility | F42: Zig Zag Footwork Drill | G42: 1 | AA42: {=TRANSPOSE(_xlfn._xlws.FILTER( Drills_Drill, (Drills_Competency=$E42) * ( IF( PP_Template="Pee Wee", Drills_PW, IF( PP_Template="JV", Drills_JV, IF( PP_Template="Varsity", Drills_Varsity, Drills_VT ) ) ) = "X" ), "No matching drills" ))} -> Zig Zag Footwork Drill | AB42: L-Drill | AC42: T-Drill | AD42: Box Drill | AE42: Bag Drills | AF42: LB Box Drill | AG42: LB X-Mas Tree Drill | AH42: Defensive Back Drill | AI42: Agility Ladder Drills | AJ42: Mirror Drill | AK42: DB Call-out Drill (Right, Left, Back)
D43: 0.0055555556 | E43: Fundamentals | F43: Pass Patterns - WR | G43: 2 | AA43: {=TRANSPOSE(_xlfn._xlws.FILTER( Drills_Drill, (Drills_Competency=$E43) * ( IF( PP_Template="Pee Wee", Drills_PW, IF( PP_Template="JV", Drills_JV, IF( PP_Template="Varsity", Drills_Varsity, Drills_VT ) ) ) = "X" ), "No matching drills" ))} -> Receiving/Catching a ball | AB43: QB Footwork - 3 Step Drop | AC43: QB Footwork - Fake Handoff Rollout | AD43: QB Footwork - Toss/Pitch | AE43: Receiver Stance - First Step Explosion | AF43: RB Stance - First Step Explosion | AG43: 3 Point Stance - First Step Explosion | AH43: Handoff footwork - RB | AI43: Handoff footwork - QB | AJ43: Handoff footwork - QB & RB | AK43: Pass Patterns - WR | AL43: Ball Security Overview | AM43: Stance Simon Says | AN43: Turn and Burn
D44: 0.0055555556 | E44: Fundamentals | F44: RB Stance - First Step Explosion | G44: 3 | AA44: {=TRANSPOSE(_xlfn._xlws.FILTER( Drills_Drill, (Drills_Competency=$E44) * ( IF( PP_Template="Pee Wee", Drills_PW, IF( PP_Template="JV", Drills_JV, IF( PP_Template="Varsity", Drills_Varsity, Drills_VT ) ) ) = "X" ), "No matching drills" ))} -> Receiving/Catching a ball | AB44: QB Footwork - 3 Step Drop | AC44: QB Footwork - Fake Handoff Rollout | AD44: QB Footwork - Toss/Pitch | AE44: Receiver Stance - First Step Explosion | AF44: RB Stance - First Step Explosion | AG44: 3 Point Stance - First Step Explosion | AH44: Handoff footwork - RB | AI44: Handoff footwork - QB | AJ44: Handoff footwork - QB & RB | AK44: Pass Patterns - WR | AL44: Ball Security Overview | AM44: Stance Simon Says | AN44: Turn and Burn
D45: 0.0055555556 | E45: Fundamentals | F45: Handoff footwork - QB & RB | G45: 4 | AA45: {=TRANSPOSE(_xlfn._xlws.FILTER( Drills_Drill, (Drills_Competency=$E45) * ( IF( PP_Template="Pee Wee", Drills_PW, IF( PP_Template="JV", Drills_JV, IF( PP_Template="Varsity", Drills_Varsity, Drills_VT ) ) ) = "X" ), "No matching drills" ))} -> Receiving/Catching a ball | AB45: QB Footwork - 3 Step Drop | AC45: QB Footwork - Fake Handoff Rollout | AD45: QB Footwork - Toss/Pitch | AE45: Receiver Stance - First Step Explosion | AF45: RB Stance - First Step Explosion | AG45: 3 Point Stance - First Step Explosion | AH45: Handoff footwork - RB | AI45: Handoff footwork - QB | AJ45: Handoff footwork - QB & RB | AK45: Pass Patterns - WR | AL45: Ball Security Overview | AM45: Stance Simon Says | AN45: Turn and Burn
D46: 0.0013888889 | E46: Warmup/Cooldown | F46: Water Break | G46: Whole Team | AA46: {=TRANSPOSE(_xlfn._xlws.FILTER( Drills_Drill, (Drills_Competency=$E46) * ( IF( PP_Template="Pee Wee", Drills_PW, IF( PP_Template="JV", Drills_JV, IF( PP_Template="Varsity", Drills_Varsity, Drills_VT ) ) ) = "X" ), "No matching drills" ))} -> Pin up | AB46: Dynamic Stretching Routine | AC46: Sprints | AD46: Chalk Talk | AE46: Water Break
D47: 0.0055555556 | E47: Offense | F47: QB/WR Pass Routes | G47: 1 | AA47: {=TRANSPOSE(_xlfn._xlws.FILTER( Drills_Drill, (Drills_Competency=$E47) * ( IF( PP_Template="Pee Wee", Drills_PW, IF( PP_Template="JV", Drills_JV, IF( PP_Template="Varsity", Drills_Varsity, Drills_VT ) ) ) = "X" ), "No matching drills" ))} -> Playbook - Walkthrough | AB47: QB/WR Pass Routes | AC47: QB/RB Handoff Drill | AD47: QB/RB Toss/Pitch Drill | AE47: QB/RB Handoff Cut Drill | AF47: Playbook - Full Speed
D48: 0.0055555556 | E48: Defense | F48: LB Pursuit Drill (Toss) | G48: 2 | AA48: {=TRANSPOSE(_xlfn._xlws.FILTER( Drills_Drill, (Drills_Competency=$E48) * ( IF( PP_Template="Pee Wee", Drills_PW, IF( PP_Template="JV", Drills_JV, IF( PP_Template="Varsity", Drills_Varsity, Drills_VT ) ) ) = "X" ), "No matching drills" ))} -> Flag Pulling Drills | AB48: LB Pursuit Drill (Toss) | AC48: Safety Pursuit Drill (Sideline Tackle) | AD48: Man to Man Responsibilities/Walkthrough | AE48: Zone Responsibilities/Walkthrough
D49: 0.0055555556 | E49: Defense | F49: Safety Pursuit Drill (Sideline Tackle) | G49: 3 | AA49: {=TRANSPOSE(_xlfn._xlws.FILTER( Drills_Drill, (Drills_Competency=$E49) * ( IF( PP_Template="Pee Wee", Drills_PW, IF( PP_Template="JV", Drills_JV, IF( PP_Template="Varsity", Drills_Varsity, Drills_VT ) ) ) = "X" ), "No matching drills" ))} -> Flag Pulling Drills | AB49: LB Pursuit Drill (Toss) | AC49: Safety Pursuit Drill (Sideline Tackle) | AD49: Man to Man Responsibilities/Walkthrough | AE49: Zone Responsibilities/Walkthrough
D50: 0.0055555556 | E50: Scrimmage Games | F50: 1 on 1 - Handoff Gauntlet | G50: 4 | AA50: {=TRANSPOSE(_xlfn._xlws.FILTER( Drills_Drill, (Drills_Competency=$E50) * ( IF( PP_Template="Pee Wee", Drills_PW, IF( PP_Template="JV", Drills_JV, IF( PP_Template="Varsity", Drills_Varsity, Drills_VT ) ) ) = "X" ), "No matching drills" ))} -> 2 on 2 - LB Switch or Stick (Communication) | AB50: 1 on 1 - Pursuit Guantlet | AC50: 1 on 1 - Handoff Gauntlet | AD50: 1 on 1 - Toss/Pitch Pursuit | AE50: 1 on 1 - Pass Coverage | AF50: Red Rover | AG50: Box Drill Relay
D51: 0.0034722222 | E51: Warmup/Cooldown | F51: Chalk Talk | G51: Whole Team | AA51: {=TRANSPOSE(_xlfn._xlws.FILTER( Drills_Drill, (Drills_Competency=$E51) * ( IF( PP_Template="Pee Wee", Drills_PW, IF( PP_Template="JV", Drills_JV, IF( PP_Template="Varsity", Drills_Varsity, Drills_VT ) ) ) = "X" ), "No matching drills" ))} -> Pin up | AB51: Dynamic Stretching Routine | AC51: Sprints | AD51: Chalk Talk | AE51: Water Break
AA52: {=TRANSPOSE(_xlfn._xlws.FILTER( Drills_Drill, (Drills_Competency=$E52) * ( IF( PP_Template="Pee Wee", Drills_PW, IF( PP_Template="JV", Drills_JV, IF( PP_Template="Varsity", Drills_Varsity, Drills_VT ) ) ) = "X" ), "No matching drills" ))} -> No matching drills
AA53: {=TRANSPOSE(_xlfn._xlws.FILTER( Drills_Drill, (Drills_Competency=$E53) * ( IF( PP_Template="Pee Wee", Drills_PW, IF( PP_Template="JV", Drills_JV, IF( PP_Template="Varsity", Drills_Varsity, Drills_VT ) ) ) = "X" ), "No matching drills" ))} -> No matching drills
AA54: {=TRANSPOSE(_xlfn._xlws.FILTER( Drills_Drill, (Drills_Competency=$E54) * ( IF( PP_Template="Pee Wee", Drills_PW, IF( PP_Template="JV", Drills_JV, IF( PP_Template="Varsity", Drills_Varsity, Drills_VT ) ) ) = "X" ), "No matching drills" ))} -> No matching drills
AA55: {=TRANSPOSE(_xlfn._xlws.FILTER( Drills_Drill, (Drills_Competency=$E55) * ( IF( PP_Template="Pee Wee", Drills_PW, IF( PP_Template="JV", Drills_JV, IF( PP_Template="Varsity", Drills_Varsity, Drills_VT ) ) ) = "X" ), "No matching drills" ))} -> No matching drills
AA56: {=TRANSPOSE(_xlfn._xlws.FILTER( Drills_Drill, (Drills_Competency=$E56) * ( IF( PP_Template="Pee Wee", Drills_PW, IF( PP_Template="JV", Drills_JV, IF( PP_Template="Varsity", Drills_Varsity, Drills_VT ) ) ) = "X" ), "No matching drills" ))} -> No matching drills
AA57: {=TRANSPOSE(_xlfn._xlws.FILTER( Drills_Drill, (Drills_Competency=$E57) * ( IF( PP_Template="Pee Wee", Drills_PW, IF( PP_Template="JV", Drills_JV, IF( PP_Template="Varsity", Drills_Varsity, Drills_VT ) ) ) = "X" ), "No matching drills" ))} -> No matching drills
B58: Week 2 Thursday | C58: =IF(B58="","",SUM(D58:D75)) -> 0.061111111 | D58: 0.0013888889 | E58: Warmup/Cooldown | F58: Pin up | G58: Whole Team | AA58: {=TRANSPOSE(_xlfn._xlws.FILTER( Drills_Drill, (Drills_Competency=$E58) * ( IF( PP_Template="Pee Wee", Drills_PW, IF( PP_Template="JV", Drills_JV, IF( PP_Template="Varsity", Drills_Varsity, Drills_VT ) ) ) = "X" ), "No matching drills" ))} -> Pin up | AB58: Dynamic Stretching Routine | AC58: Sprints | AD58: Chalk Talk | AE58: Water Break
D59: 0.010416667 | E59: Warmup/Cooldown | F59: Dynamic Stretching Routine | G59: Whole Team | AA59: {=TRANSPOSE(_xlfn._xlws.FILTER( Drills_Drill, (Drills_Competency=$E59) * ( IF( PP_Template="Pee Wee", Drills_PW, IF( PP_Template="JV", Drills_JV, IF( PP_Template="Varsity", Drills_Varsity, Drills_VT ) ) ) = "X" ), "No matching drills" ))} -> Pin up | AB59: Dynamic Stretching Routine | AC59: Sprints | AD59: Chalk Talk | AE59: Water Break
D60: 0.0055555556 | E60: Agility | F60: Box Drill | G60: 1 | AA60: {=TRANSPOSE(_xlfn._xlws.FILTER( Drills_Drill, (Drills_Competency=$E60) * ( IF( PP_Template="Pee Wee", Drills_PW, IF( PP_Template="JV", Drills_JV, IF( PP_Template="Varsity", Drills_Varsity, Drills_VT ) ) ) = "X" ), "No matching drills" ))} -> Zig Zag Footwork Drill | AB60: L-Drill | AC60: T-Drill | AD60: Box Drill | AE60: Bag Drills | AF60: LB Box Drill | AG60: LB X-Mas Tree Drill | AH60: Defensive Back Drill | AI60: Agility Ladder Drills | AJ60: Mirror Drill | AK60: DB Call-out Drill (Right, Left, Back)
D61: 0.0055555556 | E61: Fundamentals | F61: Pass Patterns - WR | G61: 2 | AA61: {=TRANSPOSE(_xlfn._xlws.FILTER( Drills_Drill, (Drills_Competency=$E61) * ( IF( PP_Template="Pee Wee", Drills_PW, IF( PP_Template="JV", Drills_JV, IF( PP_Template="Varsity", Drills_Varsity, Drills_VT ) ) ) = "X" ), "No matching drills" ))} -> Receiving/Catching a ball | AB61: QB Footwork - 3 Step Drop | AC61: QB Footwork - Fake Handoff Rollout | AD61: QB Footwork - Toss/Pitch | AE61: Receiver Stance - First Step Explosion | AF61: RB Stance - First Step Explosion | AG61: 3 Point Stance - First Step Explosion | AH61: Handoff footwork - RB | AI61: Handoff footwork - QB | AJ61: Handoff footwork - QB & RB | AK61: Pass Patterns - WR | AL61: Ball Security Overview | AM61: Stance Simon Says | AN61: Turn and Burn
D62: 0.0055555556 | E62: Fundamentals | F62: Receiver Stance - First Step Explosion | G62: 3 | AA62: {=TRANSPOSE(_xlfn._xlws.FILTER( Drills_Drill, (Drills_Competency=$E62) * ( IF( PP_Template="Pee Wee", Drills_PW, IF( PP_Template="JV", Drills_JV, IF( PP_Template="Varsity", Drills_Varsity, Drills_VT ) ) ) = "X" ), "No matching drills" ))} -> Receiving/Catching a ball | AB62: QB Footwork - 3 Step Drop | AC62: QB Footwork - Fake Handoff Rollout | AD62: QB Footwork - Toss/Pitch | AE62: Receiver Stance - First Step Explosion | AF62: RB Stance - First Step Explosion | AG62: 3 Point Stance - First Step Explosion | AH62: Handoff footwork - RB | AI62: Handoff footwork - QB | AJ62: Handoff footwork - QB & RB | AK62: Pass Patterns - WR | AL62: Ball Security Overview | AM62: Stance Simon Says | AN62: Turn and Burn
D63: 0.0055555556 | E63: Fundamentals | F63: QB Footwork - Toss/Pitch | G63: 4 | AA63: {=TRANSPOSE(_xlfn._xlws.FILTER( Drills_Drill, (Drills_Competency=$E63) * ( IF( PP_Template="Pee Wee", Drills_PW, IF( PP_Template="JV", Drills_JV, IF( PP_Template="Varsity", Drills_Varsity, Drills_VT ) ) ) = "X" ), "No matching drills" ))} -> Receiving/Catching a ball | AB63: QB Footwork - 3 Step Drop | AC63: QB Footwork - Fake Handoff Rollout | AD63: QB Footwork - Toss/Pitch | AE63: Receiver Stance - First Step Explosion | AF63: RB Stance - First Step Explosion | AG63: 3 Point Stance - First Step Explosion | AH63: Handoff footwork - RB | AI63: Handoff footwork - QB | AJ63: Handoff footwork - QB & RB | AK63: Pass Patterns - WR | AL63: Ball Security Overview | AM63: Stance Simon Says | AN63: Turn and Burn
D64: 0.0013888889 | E64: Warmup/Cooldown | F64: Water Break | G64: Whole Team | AA64: {=TRANSPOSE(_xlfn._xlws.FILTER( Drills_Drill, (Drills_Competency=$E64) * ( IF( PP_Template="Pee Wee", Drills_PW, IF( PP_Template="JV", Drills_JV, IF( PP_Template="Varsity", Drills_Varsity, Drills_VT ) ) ) = "X" ), "No matching drills" ))} -> Pin up | AB64: Dynamic Stretching Routine | AC64: Sprints | AD64: Chalk Talk | AE64: Water Break
D65: 0.0055555556 | E65: Offense | F65: QB/RB Toss/Pitch Drill | G65: 1 | AA65: {=TRANSPOSE(_xlfn._xlws.FILTER( Drills_Drill, (Drills_Competency=$E65) * ( IF( PP_Template="Pee Wee", Drills_PW, IF( PP_Template="JV", Drills_JV, IF( PP_Template="Varsity", Drills_Varsity, Drills_VT ) ) ) = "X" ), "No matching drills" ))} -> Playbook - Walkthrough | AB65: QB/WR Pass Routes | AC65: QB/RB Handoff Drill | AD65: QB/RB Toss/Pitch Drill | AE65: QB/RB Handoff Cut Drill | AF65: Playbook - Full Speed
D66: 0.0055555556 | E66: Fundamentals | F66: Turn and Burn | G66: 2 | AA66: {=TRANSPOSE(_xlfn._xlws.FILTER( Drills_Drill, (Drills_Competency=$E66) * ( IF( PP_Template="Pee Wee", Drills_PW, IF( PP_Template="JV", Drills_JV, IF( PP_Template="Varsity", Drills_Varsity, Drills_VT ) ) ) = "X" ), "No matching drills" ))} -> Receiving/Catching a ball | AB66: QB Footwork - 3 Step Drop | AC66: QB Footwork - Fake Handoff Rollout | AD66: QB Footwork - Toss/Pitch | AE66: Receiver Stance - First Step Explosion | AF66: RB Stance - First Step Explosion | AG66: 3 Point Stance - First Step Explosion | AH66: Handoff footwork - RB | AI66: Handoff footwork - QB | AJ66: Handoff footwork - QB & RB | AK66: Pass Patterns - WR | AL66: Ball Security Overview | AM66: Stance Simon Says | AN66: Turn and Burn
D67: 0.0055555556 | E67: Scrimmage Games | F67: 1 on 1 - Pass Coverage | G67: 3 | AA67: {=TRANSPOSE(_xlfn._xlws.FILTER( Drills_Drill, (Drills_Competency=$E67) * ( IF( PP_Template="Pee Wee", Drills_PW, IF( PP_Template="JV", Drills_JV, IF( PP_Template="Varsity", Drills_Varsity, Drills_VT ) ) ) = "X" ), "No matching drills" ))} -> 2 on 2 - LB Switch or Stick (Communication) | AB67: 1 on 1 - Pursuit Guantlet | AC67: 1 on 1 - Handoff Gauntlet | AD67: 1 on 1 - Toss/Pitch Pursuit | AE67: 1 on 1 - Pass Coverage | AF67: Red Rover | AG67: Box Drill Relay
D68: 0.0055555556 | E68: Scrimmage Games | F68: 1 on 1 - Handoff Gauntlet | G68: 4 | AA68: {=TRANSPOSE(_xlfn._xlws.FILTER( Drills_Drill, (Drills_Competency=$E68) * ( IF( PP_Template="Pee Wee", Drills_PW, IF( PP_Template="JV", Drills_JV, IF( PP_Template="Varsity", Drills_Varsity, Drills_VT ) ) ) = "X" ), "No matching drills" ))} -> 2 on 2 - LB Switch or Stick (Communication) | AB68: 1 on 1 - Pursuit Guantlet | AC68: 1 on 1 - Handoff Gauntlet | AD68: 1 on 1 - Toss/Pitch Pursuit | AE68: 1 on 1 - Pass Coverage | AF68: Red Rover | AG68: Box Drill Relay
D69: 0.0034722222 | E69: Warmup/Cooldown | F69: Chalk Talk | G69: Whole Team | AA69: {=TRANSPOSE(_xlfn._xlws.FILTER( Drills_Drill, (Drills_Competency=$E69) * ( IF( PP_Template="Pee Wee", Drills_PW, IF( PP_Template="JV", Drills_JV, IF( PP_Template="Varsity", Drills_Varsity, Drills_VT ) ) ) = "X" ), "No matching drills" ))} -> Pin up | AB69: Dynamic Stretching Routine | AC69: Sprints | AD69: Chalk Talk | AE69: Water Break
AA70: {=TRANSPOSE(_xlfn._xlws.FILTER( Drills_Drill, (Drills_Competency=$E70) * ( IF( PP_Template="Pee Wee", Drills_PW, IF( PP_Template="JV", Drills_JV, IF( PP_Template="Varsity", Drills_Varsity, Drills_VT ) ) ) = "X" ), "No matching drills" ))} -> No matching drills
AA71: {=TRANSPOSE(_xlfn._xlws.FILTER( Drills_Drill, (Drills_Competency=$E71) * ( IF( PP_Template="Pee Wee", Drills_PW, IF( PP_Template="JV", Drills_JV, IF( PP_Template="Varsity", Drills_Varsity, Drills_VT ) ) ) = "X" ), "No matching drills" ))} -> No matching drills
AA72: {=TRANSPOSE(_xlfn._xlws.FILTER( Drills_Drill, (Drills_Competency=$E72) * ( IF( PP_Template="Pee Wee", Drills_PW, IF( PP_Template="JV", Drills_JV, IF( PP_Template="Varsity", Drills_Varsity, Drills_VT ) ) ) = "X" ), "No matching drills" ))} -> No matching drills
AA73: {=TRANSPOSE(_xlfn._xlws.FILTER( Drills_Drill, (Drills_Competency=$E73) * ( IF( PP_Template="Pee Wee", Drills_PW, IF( PP_Template="JV", Drills_JV, IF( PP_Template="Varsity", Drills_Varsity, Drills_VT ) ) ) = "X" ), "No matching drills" ))} -> No matching drills
AA74: {=TRANSPOSE(_xlfn._xlws.FILTER( Drills_Drill, (Drills_Competency=$E74) * ( IF( PP_Template="Pee Wee", Drills_PW, IF( PP_Template="JV", Drills_JV, IF( PP_Template="Varsity", Drills_Varsity, Drills_VT ) ) ) = "X" ), "No matching drills" ))} -> No matching drills
AA75: {=TRANSPOSE(_xlfn._xlws.FILTER( Drills_Drill, (Drills_Competency=$E75) * ( IF( PP_Template="Pee Wee", Drills_PW, IF( PP_Template="JV", Drills_JV, IF( PP_Template="Varsity", Drills_Varsity, Drills_VT ) ) ) = "X" ), "No matching drills" ))} -> No matching drills
B76: Week 3 Tuesday | C76: =IF(B76="","",SUM(D76:D93)) -> 0 | AA76: {=TRANSPOSE(_xlfn._xlws.FILTER( Drills_Drill, (Drills_Competency=$E76) * ( IF( PP_Template="Pee Wee", Drills_PW, IF( PP_Template="JV", Drills_JV, IF( PP_Template="Varsity", Drills_Varsity, Drills_VT ) ) ) = "X" ), "No matching drills" ))} -> No matching drills
AA77: {=TRANSPOSE(_xlfn._xlws.FILTER( Drills_Drill, (Drills_Competency=$E77) * ( IF( PP_Template="Pee Wee", Drills_PW, IF( PP_Template="JV", Drills_JV, IF( PP_Template="Varsity", Drills_Varsity, Drills_VT ) ) ) = "X" ), "No matching drills" ))} -> No matching drills
AA78: {=TRANSPOSE(_xlfn._xlws.FILTER( Drills_Drill, (Drills_Competency=$E78) * ( IF( PP_Template="Pee Wee", Drills_PW, IF( PP_Template="JV", Drills_JV, IF( PP_Template="Varsity", Drills_Varsity, Drills_VT ) ) ) = "X" ), "No matching drills" ))} -> No matching drills
AA79: {=TRANSPOSE(_xlfn._xlws.FILTER( Drills_Drill, (Drills_Competency=$E79) * ( IF( PP_Template="Pee Wee", Drills_PW, IF( PP_Template="JV", Drills_JV, IF( PP_Template="Varsity", Drills_Varsity, Drills_VT ) ) ) = "X" ), "No matching drills" ))} -> No matching drills
AA80: {=TRANSPOSE(_xlfn._xlws.FILTER( Drills_Drill, (Drills_Competency=$E80) * ( IF( PP_Template="Pee Wee", Drills_PW, IF( PP_Template="JV", Drills_JV, IF( PP_Template="Varsity", Drills_Varsity, Drills_VT ) ) ) = "X" ), "No matching drills" ))} -> No matching drills
AA81: {=TRANSPOSE(_xlfn._xlws.FILTER( Drills_Drill, (Drills_Competency=$E81) * ( IF( PP_Template="Pee Wee", Drills_PW, IF( PP_Template="JV", Drills_JV, IF( PP_Template="Varsity", Drills_Varsity, Drills_VT ) ) ) = "X" ), "No matching drills" ))} -> No matching drills
AA82: {=TRANSPOSE(_xlfn._xlws.FILTER( Drills_Drill, (Drills_Competency=$E82) * ( IF( PP_Template="Pee Wee", Drills_PW, IF( PP_Template="JV", Drills_JV, IF( PP_Template="Varsity", Drills_Varsity, Drills_VT ) ) ) = "X" ), "No matching drills" ))} -> No matching drills
AA83: {=TRANSPOSE(_xlfn._xlws.FILTER( Drills_Drill, (Drills_Competency=$E83) * ( IF( PP_Template="Pee Wee", Drills_PW, IF( PP_Template="JV", Drills_JV, IF( PP_Template="Varsity", Drills_Varsity, Drills_VT ) ) ) = "X" ), "No matching drills" ))} -> No matching drills
AA84: {=TRANSPOSE(_xlfn._xlws.FILTER( Drills_Drill, (Drills_Competency=$E84) * ( IF( PP_Template="Pee Wee", Drills_PW, IF( PP_Template="JV", Drills_JV, IF( PP_Template="Varsity", Drills_Varsity, Drills_VT ) ) ) = "X" ), "No matching drills" ))} -> No matching drills
AA85: {=TRANSPOSE(_xlfn._xlws.FILTER( Drills_Drill, (Drills_Competency=$E85) * ( IF( PP_Template="Pee Wee", Drills_PW, IF( PP_Template="JV", Drills_JV, IF( PP_Template="Varsity", Drills_Varsity, Drills_VT ) ) ) = "X" ), "No matching drills" ))} -> No matching drills
AA86: {=TRANSPOSE(_xlfn._xlws.FILTER( Drills_Drill, (Drills_Competency=$E86) * ( IF( PP_Template="Pee Wee", Drills_PW, IF( PP_Template="JV", Drills_JV, IF( PP_Template="Varsity", Drills_Varsity, Drills_VT ) ) ) = "X" ), "No matching drills" ))} -> No matching drills
AA87: {=TRANSPOSE(_xlfn._xlws.FILTER( Drills_Drill, (Drills_Competency=$E87) * ( IF( PP_Template="Pee Wee", Drills_PW, IF( PP_Template="JV", Drills_JV, IF( PP_Template="Varsity", Drills_Varsity, Drills_VT ) ) ) = "X" ), "No matching drills" ))} -> No matching drills
AA88: {=TRANSPOSE(_xlfn._xlws.FILTER( Drills_Drill, (Drills_Competency=$E88) * ( IF( PP_Template="Pee Wee", Drills_PW, IF( PP_Template="JV", Drills_JV, IF( PP_Template="Varsity", Drills_Varsity, Drills_VT ) ) ) = "X" ), "No matching drills" ))} -> No matching drills
... AA93: {=TRANSPOSE(_xlfn._xlws.FILTER( Drills_Drill, (Drills_Competency=$E93) * ( IF( PP_Template="Pee Wee", Drills_PW, IF( PP_Template="JV", Drills_JV, IF( PP_Template="Varsity", Drills_Varsity, Drills_VT ) ) ) = "X" ), "No matching drills" ))} -> No matching drills
B94: Week 4 Thursday | C94: =IF(B94="","",SUM(D94:D111)) -> 0 | AA94: {=TRANSPOSE(_xlfn._xlws.FILTER( Drills_Drill, (Drills_Competency=$E94) * ( IF( PP_Template="Pee Wee", Drills_PW, IF( PP_Template="JV", Drills_JV, IF( PP_Template="Varsity", Drills_Varsity, Drills_VT ) ) ) = "X" ), "No matching drills" ))} -> No matching drills
AA95: {=TRANSPOSE(_xlfn._xlws.FILTER( Drills_Drill, (Drills_Competency=$E95) * ( IF( PP_Template="Pee Wee", Drills_PW, IF( PP_Template="JV", Drills_JV, IF( PP_Template="Varsity", Drills_Varsity, Drills_VT ) ) ) = "X" ), "No matching drills" ))} -> No matching drills
AA96: {=TRANSPOSE(_xlfn._xlws.FILTER( Drills_Drill, (Drills_Competency=$E96) * ( IF( PP_Template="Pee Wee", Drills_PW, IF( PP_Template="JV", Drills_JV, IF( PP_Template="Varsity", Drills_Varsity, Drills_VT ) ) ) = "X" ), "No matching drills" ))} -> No matching drills
AA97: {=TRANSPOSE(_xlfn._xlws.FILTER( Drills_Drill, (Drills_Competency=$E97) * ( IF( PP_Template="Pee Wee", Drills_PW, IF( PP_Template="JV", Drills_JV, IF( PP_Template="Varsity", Drills_Varsity, Drills_VT ) ) ) = "X" ), "No matching drills" ))} -> No matching drills
AA98: {=TRANSPOSE(_xlfn._xlws.FILTER( Drills_Drill, (Drills_Competency=$E98) * ( IF( PP_Template="Pee Wee", Drills_PW, IF( PP_Template="JV", Drills_JV, IF( PP_Template="Varsity", Drills_Varsity, Drills_VT ) ) ) = "X" ), "No matching drills" ))} -> No matching drills
AA99: {=TRANSPOSE(_xlfn._xlws.FILTER( Drills_Drill, (Drills_Competency=$E99) * ( IF( PP_Template="Pee Wee", Drills_PW, IF( PP_Template="JV", Drills_JV, IF( PP_Template="Varsity", Drills_Varsity, Drills_VT ) ) ) = "X" ), "No matching drills" ))} -> No matching drills
AA100: {=TRANSPOSE(_xlfn._xlws.FILTER( Drills_Drill, (Drills_Competency=$E100) * ( IF( PP_Template="Pee Wee", Drills_PW, IF( PP_Template="JV", Drills_JV, IF( PP_Template="Varsity", Drills_Varsity, Drills_VT ) ) ) = "X" ), "No matching drills" ))} -> No matching drills
AA101: {=TRANSPOSE(_xlfn._xlws.FILTER( Drills_Drill, (Drills_Competency=$E101) * ( IF( PP_Template="Pee Wee", Drills_PW, IF( PP_Template="JV", Drills_JV, IF( PP_Template="Varsity", Drills_Varsity, Drills_VT ) ) ) = "X" ), "No matching drills" ))} -> No matching drills
AA102: {=TRANSPOSE(_xlfn._xlws.FILTER( Drills_Drill, (Drills_Competency=$E102) * ( IF( PP_Template="Pee Wee", Drills_PW, IF( PP_Template="JV", Drills_JV, IF( PP_Template="Varsity", Drills_Varsity, Drills_VT ) ) ) = "X" ), "No matching drills" ))} -> No matching drills
AA103: {=TRANSPOSE(_xlfn._xlws.FILTER( Drills_Drill, (Drills_Competency=$E103) * ( IF( PP_Template="Pee Wee", Drills_PW, IF( PP_Template="JV", Drills_JV, IF( PP_Template="Varsity", Drills_Varsity, Drills_VT ) ) ) = "X" ), "No matching drills" ))} -> No matching drills
AA104: {=TRANSPOSE(_xlfn._xlws.FILTER( Drills_Drill, (Drills_Competency=$E104) * ( IF( PP_Template="Pee Wee", Drills_PW, IF( PP_Template="JV", Drills_JV, IF( PP_Template="Varsity", Drills_Varsity, Drills_VT ) ) ) = "X" ), "No matching drills" ))} -> No matching drills
AA105: {=TRANSPOSE(_xlfn._xlws.FILTER( Drills_Drill, (Drills_Competency=$E105) * ( IF( PP_Template="Pee Wee", Drills_PW, IF( PP_Template="JV", Drills_JV, IF( PP_Template="Varsity", Drills_Varsity, Drills_VT ) ) ) = "X" ), "No matching drills" ))} -> No matching drills
...

Sheet JV Practice Templates
D2: JV
B3: Practice Description | D3: Duration | E3: Competency | F3: Drill | G3: Station | AA3: JV Drill Options
B4: Week 1 Tuesday (All CG) | C4: =IF(B4="","",SUM(D4:D21)) -> 0.061111111 | D4: 0.0013888889 | E4: Warmup/Cooldown | F4: Pin up | G4: Whole Team | AA4: {=TRANSPOSE(_xlfn._xlws.FILTER( Drills_Drill, (Drills_Competency=$E4) * ( IF( PP_Template="Pee Wee", Drills_PW, IF( PP_Template="JV", Drills_JV, IF( PP_Template="Varsity", Drills_Varsity, Drills_VT ) ) ) = "X" ), "No matching drills" ))} -> Pin up | AB4: Dynamic Stretching Routine | AC4: Sprints | AD4: Chalk Talk | AE4: Water Break
D5: 0.010416667 | E5: Warmup/Cooldown | F5: Dynamic Stretching Routine | G5: Whole Team | AA5: {=TRANSPOSE(_xlfn._xlws.FILTER( Drills_Drill, (Drills_Competency=$E5) * ( IF( PP_Template="Pee Wee", Drills_PW, IF( PP_Template="JV", Drills_JV, IF( PP_Template="Varsity", Drills_Varsity, Drills_VT ) ) ) = "X" ), "No matching drills" ))} -> Pin up | AB5: Dynamic Stretching Routine | AC5: Sprints | AD5: Chalk Talk | AE5: Water Break
D6: 0.0055555556 | E6: Agility | F6: Zig Zag Footwork Drill | G6: 1 | AA6: {=TRANSPOSE(_xlfn._xlws.FILTER( Drills_Drill, (Drills_Competency=$E6) * ( IF( PP_Template="Pee Wee", Drills_PW, IF( PP_Template="JV", Drills_JV, IF( PP_Template="Varsity", Drills_Varsity, Drills_VT ) ) ) = "X" ), "No matching drills" ))} -> Zig Zag Footwork Drill | AB6: L-Drill | AC6: T-Drill | AD6: Sideline Tackle Drill | AE6: Box Drill | AF6: Bag Drills | AG6: LB Box Drill | AH6: LB X-Mas Tree Drill | AI6: Defensive Back Drill | AJ6: Agility Ladder Drills | AK6: Mirror Drill | AL6: DB Call-out Drill (Right, Left, Back)
D7: 0.0055555556 | E7: Agility | F7: Box Drill | G7: 2 | AA7: {=TRANSPOSE(_xlfn._xlws.FILTER( Drills_Drill, (Drills_Competency=$E7) * ( IF( PP_Template="Pee Wee", Drills_PW, IF( PP_Template="JV", Drills_JV, IF( PP_Template="Varsity", Drills_Varsity, Drills_VT ) ) ) = "X" ), "No matching drills" ))} -> Zig Zag Footwork Drill | AB7: L-Drill | AC7: T-Drill | AD7: Sideline Tackle Drill | AE7: Box Drill | AF7: Bag Drills | AG7: LB Box Drill | AH7: LB X-Mas Tree Drill | AI7: Defensive Back Drill | AJ7: Agility Ladder Drills | AK7: Mirror Drill | AL7: DB Call-out Drill (Right, Left, Back)
D8: 0.0055555556 | E8: Agility | F8: DB Call-out Drill (Right, Left, Back) | G8: 3 | AA8: {=TRANSPOSE(_xlfn._xlws.FILTER( Drills_Drill, (Drills_Competency=$E8) * ( IF( PP_Template="Pee Wee", Drills_PW, IF( PP_Template="JV", Drills_JV, IF( PP_Template="Varsity", Drills_Varsity, Drills_VT ) ) ) = "X" ), "No matching drills" ))} -> Zig Zag Footwork Drill | AB8: L-Drill | AC8: T-Drill | AD8: Sideline Tackle Drill | AE8: Box Drill | AF8: Bag Drills | AG8: LB Box Drill | AH8: LB X-Mas Tree Drill | AI8: Defensive Back Drill | AJ8: Agility Ladder Drills | AK8: Mirror Drill | AL8: DB Call-out Drill (Right, Left, Back)
D9: 0.0055555556 | E9: Agility | F9: LB Box Drill | G9: 4 | AA9: {=TRANSPOSE(_xlfn._xlws.FILTER( Drills_Drill, (Drills_Competency=$E9) * ( IF( PP_Template="Pee Wee", Drills_PW, IF( PP_Template="JV", Drills_JV, IF( PP_Template="Varsity", Drills_Varsity, Drills_VT ) ) ) = "X" ), "No matching drills" ))} -> Zig Zag Footwork Drill | AB9: L-Drill | AC9: T-Drill | AD9: Sideline Tackle Drill | AE9: Box Drill | AF9: Bag Drills | AG9: LB Box Drill | AH9: LB X-Mas Tree Drill | AI9: Defensive Back Drill | AJ9: Agility Ladder Drills | AK9: Mirror Drill | AL9: DB Call-out Drill (Right, Left, Back)
D10: 0.0013888889 | E10: Warmup/Cooldown | F10: Water Break | G10: Whole Team | AA10: {=TRANSPOSE(_xlfn._xlws.FILTER( Drills_Drill, (Drills_Competency=$E10) * ( IF( PP_Template="Pee Wee", Drills_PW, IF( PP_Template="JV", Drills_JV, IF( PP_Template="Varsity", Drills_Varsity, Drills_VT ) ) ) = "X" ), "No matching drills" ))} -> Pin up | AB10: Dynamic Stretching Routine | AC10: Sprints | AD10: Chalk Talk | AE10: Water Break
D11: 0.0055555556 | E11: Fundamentals | F11: Receiver Stance - First Step Explosion | G11: 5 | AA11: {=TRANSPOSE(_xlfn._xlws.FILTER( Drills_Drill, (Drills_Competency=$E11) * ( IF( PP_Template="Pee Wee", Drills_PW, IF( PP_Template="JV", Drills_JV, IF( PP_Template="Varsity", Drills_Varsity, Drills_VT ) ) ) = "X" ), "No matching drills" ))} -> Receiving/Catching a ball | AB11: QB Footwork - 3 Step Drop | AC11: QB Footwork - Fake Handoff Rollout | AD11: QB Footwork - Toss/Pitch | AE11: Receiver Stance - First Step Explosion | AF11: RB Stance - First Step Explosion | AG11: 3 Point Stance - First Step Explosion | AH11: Cadence Quick Sprint | AI11: Handoff footwork - RB | AJ11: Handoff footwork - QB | AK11: Handoff footwork - QB & RB | AL11: Pass Patterns - WR | AM11: Ball Security Overview | AN11: Stance Simon Says | AO11: Turn and Burn
D12: 0 | E12: Fundamentals | F12: Ball Security Overview | G12: 6 | AA12: {=TRANSPOSE(_xlfn._xlws.FILTER( Drills_Drill, (Drills_Competency=$E12) * ( IF( PP_Template="Pee Wee", Drills_PW, IF( PP_Template="JV", Drills_JV, IF( PP_Template="Varsity", Drills_Varsity, Drills_VT ) ) ) = "X" ), "No matching drills" ))} -> Receiving/Catching a ball | AB12: QB Footwork - 3 Step Drop | AC12: QB Footwork - Fake Handoff Rollout | AD12: QB Footwork - Toss/Pitch | AE12: Receiver Stance - First Step Explosion | AF12: RB Stance - First Step Explosion | AG12: 3 Point Stance - First Step Explosion | AH12: Cadence Quick Sprint | AI12: Handoff footwork - RB | AJ12: Handoff footwork - QB | AK12: Handoff footwork - QB & RB | AL12: Pass Patterns - WR | AM12: Ball Security Overview | AN12: Stance Simon Says | AO12: Turn and Burn
D13: 0.0055555556 | E13: Fundamentals | F13: Handoff footwork - RB | G13: 6 | AA13: {=TRANSPOSE(_xlfn._xlws.FILTER( Drills_Drill, (Drills_Competency=$E13) * ( IF( PP_Template="Pee Wee", Drills_PW, IF( PP_Template="JV", Drills_JV, IF( PP_Template="Varsity", Drills_Varsity, Drills_VT ) ) ) = "X" ), "No matching drills" ))} -> Receiving/Catching a ball | AB13: QB Footwork - 3 Step Drop | AC13: QB Footwork - Fake Handoff Rollout | AD13: QB Footwork - Toss/Pitch | AE13: Receiver Stance - First Step Explosion | AF13: RB Stance - First Step Explosion | AG13: 3 Point Stance - First Step Explosion | AH13: Cadence Quick Sprint | AI13: Handoff footwork - RB | AJ13: Handoff footwork - QB | AK13: Handoff footwork - QB & RB | AL13: Pass Patterns - WR | AM13: Ball Security Overview | AN13: Stance Simon Says | AO13: Turn and Burn
D14: 0 | E14: Fundamentals | F14: Receiving/Catching a ball | G14: 7 | AA14: {=TRANSPOSE(_xlfn._xlws.FILTER( Drills_Drill, (Drills_Competency=$E14) * ( IF( PP_Template="Pee Wee", Drills_PW, IF( PP_Template="JV", Drills_JV, IF( PP_Template="Varsity", Drills_Varsity, Drills_VT ) ) ) = "X" ), "No matching drills" ))} -> Receiving/Catching a ball | AB14: QB Footwork - 3 Step Drop | AC14: QB Footwork - Fake Handoff Rollout | AD14: QB Footwork - Toss/Pitch | AE14: Receiver Stance - First Step Explosion | AF14: RB Stance - First Step Explosion | AG14: 3 Point Stance - First Step Explosion | AH14: Cadence Quick Sprint | AI14: Handoff footwork - RB | AJ14: Handoff footwork - QB | AK14: Handoff footwork - QB & RB | AL14: Pass Patterns - WR | AM14: Ball Security Overview | AN14: Stance Simon Says | AO14: Turn and Burn
D15: 0.0055555556 | E15: Fundamentals | F15: Pass Patterns - WR | G15: 7 | AA15: {=TRANSPOSE(_xlfn._xlws.FILTER( Drills_Drill, (Drills_Competency=$E15) * ( IF( PP_Template="Pee Wee", Drills_PW, IF( PP_Template="JV", Drills_JV, IF( PP_Template="Varsity", Drills_Varsity, Drills_VT ) ) ) = "X" ), "No matching drills" ))} -> Receiving/Catching a ball | AB15: QB Footwork - 3 Step Drop | AC15: QB Footwork - Fake Handoff Rollout | AD15: QB Footwork - Toss/Pitch | AE15: Receiver Stance - First Step Explosion | AF15: RB Stance - First Step Explosion | AG15: 3 Point Stance - First Step Explosion | AH15: Cadence Quick Sprint | AI15: Handoff footwork - RB | AJ15: Handoff footwork - QB | AK15: Handoff footwork - QB & RB | AL15: Pass Patterns - WR | AM15: Ball Security Overview | AN15: Stance Simon Says | AO15: Turn and Burn
D16: 0.0055555556 | E16: Fundamentals | F16: Stance Simon Says | G16: 8 | AA16: {=TRANSPOSE(_xlfn._xlws.FILTER( Drills_Drill, (Drills_Competency=$E16) * ( IF( PP_Template="Pee Wee", Drills_PW, IF( PP_Template="JV", Drills_JV, IF( PP_Template="Varsity", Drills_Varsity, Drills_VT ) ) ) = "X" ), "No matching drills" ))} -> Receiving/Catching a ball | AB16: QB Footwork - 3 Step Drop | AC16: QB Footwork - Fake Handoff Rollout | AD16: QB Footwork - Toss/Pitch | AE16: Receiver Stance - First Step Explosion | AF16: RB Stance - First Step Explosion | AG16: 3 Point Stance - First Step Explosion | AH16: Cadence Quick Sprint | AI16: Handoff footwork - RB | AJ16: Handoff footwork - QB | AK16: Handoff footwork - QB & RB | AL16: Pass Patterns - WR | AM16: Ball Security Overview | AN16: Stance Simon Says | AO16: Turn and Burn
D17: 0.0034722222 | E17: Warmup/Cooldown | F17: Chalk Talk | G17: Whole Team | AA17: {=TRANSPOSE(_xlfn._xlws.FILTER( Drills_Drill, (Drills_Competency=$E17) * ( IF( PP_Template="Pee Wee", Drills_PW, IF( PP_Template="JV", Drills_JV, IF( PP_Template="Varsity", Drills_Varsity, Drills_VT ) ) ) = "X" ), "No matching drills" ))} -> Pin up | AB17: Dynamic Stretching Routine | AC17: Sprints | AD17: Chalk Talk | AE17: Water Break
AA18: {=TRANSPOSE(_xlfn._xlws.FILTER( Drills_Drill, (Drills_Competency=$E18) * ( IF( PP_Template="Pee Wee", Drills_PW, IF( PP_Template="JV", Drills_JV, IF( PP_Template="Varsity", Drills_Varsity, Drills_VT ) ) ) = "X" ), "No matching drills" ))} -> No matching drills
AA19: {=TRANSPOSE(_xlfn._xlws.FILTER( Drills_Drill, (Drills_Competency=$E19) * ( IF( PP_Template="Pee Wee", Drills_PW, IF( PP_Template="JV", Drills_JV, IF( PP_Template="Varsity", Drills_Varsity, Drills_VT ) ) ) = "X" ), "No matching drills" ))} -> No matching drills
AA20: {=TRANSPOSE(_xlfn._xlws.FILTER( Drills_Drill, (Drills_Competency=$E20) * ( IF( PP_Template="Pee Wee", Drills_PW, IF( PP_Template="JV", Drills_JV, IF( PP_Template="Varsity", Drills_Varsity, Drills_VT ) ) ) = "X" ), "No matching drills" ))} -> No matching drills
AA21: {=TRANSPOSE(_xlfn._xlws.FILTER( Drills_Drill, (Drills_Competency=$E21) * ( IF( PP_Template="Pee Wee", Drills_PW, IF( PP_Template="JV", Drills_JV, IF( PP_Template="Varsity", Drills_Varsity, Drills_VT ) ) ) = "X" ), "No matching drills" ))} -> No matching drills
B22: Week 1 Thursday (All CG) | C22: =IF(B22="","",SUM(D22:D39)) -> 0.061111111 | D22: 0.0013888889 | E22: Warmup/Cooldown | F22: Pin up | G22: Whole Team | AA22: {=TRANSPOSE(_xlfn._xlws.FILTER( Drills_Drill, (Drills_Competency=$E22) * ( IF( PP_Template="Pee Wee", Drills_PW, IF( PP_Template="JV", Drills_JV, IF( PP_Template="Varsity", Drills_Varsity, Drills_VT ) ) ) = "X" ), "No matching drills" ))} -> Pin up | AB22: Dynamic Stretching Routine | AC22: Sprints | AD22: Chalk Talk | AE22: Water Break
D23: 0.010416667 | E23: Warmup/Cooldown | F23: Dynamic Stretching Routine | G23: Whole Team | AA23: {=TRANSPOSE(_xlfn._xlws.FILTER( Drills_Drill, (Drills_Competency=$E23) * ( IF( PP_Template="Pee Wee", Drills_PW, IF( PP_Template="JV", Drills_JV, IF( PP_Template="Varsity", Drills_Varsity, Drills_VT ) ) ) = "X" ), "No matching drills" ))} -> Pin up | AB23: Dynamic Stretching Routine | AC23: Sprints | AD23: Chalk Talk | AE23: Water Break
D24: 0.0055555556 | E24: Agility | F24: Zig Zag Footwork Drill | G24: 1 | AA24: {=TRANSPOSE(_xlfn._xlws.FILTER( Drills_Drill, (Drills_Competency=$E24) * ( IF( PP_Template="Pee Wee", Drills_PW, IF( PP_Template="JV", Drills_JV, IF( PP_Template="Varsity", Drills_Varsity, Drills_VT ) ) ) = "X" ), "No matching drills" ))} -> Zig Zag Footwork Drill | AB24: L-Drill | AC24: T-Drill | AD24: Sideline Tackle Drill | AE24: Box Drill | AF24: Bag Drills | AG24: LB Box Drill | AH24: LB X-Mas Tree Drill | AI24: Defensive Back Drill | AJ24: Agility Ladder Drills | AK24: Mirror Drill | AL24: DB Call-out Drill (Right, Left, Back)
D25: 0.0055555556 | E25: Agility | F25: T-Drill | G25: 2 | AA25: {=TRANSPOSE(_xlfn._xlws.FILTER( Drills_Drill, (Drills_Competency=$E25) * ( IF( PP_Template="Pee Wee", Drills_PW, IF( PP_Template="JV", Drills_JV, IF( PP_Template="Varsity", Drills_Varsity, Drills_VT ) ) ) = "X" ), "No matching drills" ))} -> Zig Zag Footwork Drill | AB25: L-Drill | AC25: T-Drill | AD25: Sideline Tackle Drill | AE25: Box Drill | AF25: Bag Drills | AG25: LB Box Drill | AH25: LB X-Mas Tree Drill | AI25: Defensive Back Drill | AJ25: Agility Ladder Drills | AK25: Mirror Drill | AL25: DB Call-out Drill (Right, Left, Back)
D26: 0.0055555556 | E26: Agility | F26: LB X-Mas Tree Drill | G26: 3 | AA26: {=TRANSPOSE(_xlfn._xlws.FILTER( Drills_Drill, (Drills_Competency=$E26) * ( IF( PP_Template="Pee Wee", Drills_PW, IF( PP_Template="JV", Drills_JV, IF( PP_Template="Varsity", Drills_Varsity, Drills_VT ) ) ) = "X" ), "No matching drills" ))} -> Zig Zag Footwork Drill | AB26: L-Drill | AC26: T-Drill | AD26: Sideline Tackle Drill | AE26: Box Drill | AF26: Bag Drills | AG26: LB Box Drill | AH26: LB X-Mas Tree Drill | AI26: Defensive Back Drill | AJ26: Agility Ladder Drills | AK26: Mirror Drill | AL26: DB Call-out Drill (Right, Left, Back)
D27: 0.0055555556 | E27: Agility | F27: Mirror Drill | G27: 4 | AA27: {=TRANSPOSE(_xlfn._xlws.FILTER( Drills_Drill, (Drills_Competency=$E27) * ( IF( PP_Template="Pee Wee", Drills_PW, IF( PP_Template="JV", Drills_JV, IF( PP_Template="Varsity", Drills_Varsity, Drills_VT ) ) ) = "X" ), "No matching drills" ))} -> Zig Zag Footwork Drill | AB27: L-Drill | AC27: T-Drill | AD27: Sideline Tackle Drill | AE27: Box Drill | AF27: Bag Drills | AG27: LB Box Drill | AH27: LB X-Mas Tree Drill | AI27: Defensive Back Drill | AJ27: Agility Ladder Drills | AK27: Mirror Drill | AL27: DB Call-out Drill (Right, Left, Back)
D28: 0.0013888889 | E28: Warmup/Cooldown | F28: Water Break | G28: Whole Team | AA28: {=TRANSPOSE(_xlfn._xlws.FILTER( Drills_Drill, (Drills_Competency=$E28) * ( IF( PP_Template="Pee Wee", Drills_PW, IF( PP_Template="JV", Drills_JV, IF( PP_Template="Varsity", Drills_Varsity, Drills_VT ) ) ) = "X" ), "No matching drills" ))} -> Pin up | AB28: Dynamic Stretching Routine | AC28: Sprints | AD28: Chalk Talk | AE28: Water Break
D29: 0.0055555556 | E29: Fundamentals | F29: RB Stance - First Step Explosion | G29: 5 | AA29: {=TRANSPOSE(_xlfn._xlws.FILTER( Drills_Drill, (Drills_Competency=$E29) * ( IF( PP_Template="Pee Wee", Drills_PW, IF( PP_Template="JV", Drills_JV, IF( PP_Template="Varsity", Drills_Varsity, Drills_VT ) ) ) = "X" ), "No matching drills" ))} -> Receiving/Catching a ball | AB29: QB Footwork - 3 Step Drop | AC29: QB Footwork - Fake Handoff Rollout | AD29: QB Footwork - Toss/Pitch | AE29: Receiver Stance - First Step Explosion | AF29: RB Stance - First Step Explosion | AG29: 3 Point Stance - First Step Explosion | AH29: Cadence Quick Sprint | AI29: Handoff footwork - RB | AJ29: Handoff footwork - QB | AK29: Handoff footwork - QB & RB | AL29: Pass Patterns - WR | AM29: Ball Security Overview | AN29: Stance Simon Says | AO29: Turn and Burn
D30: 0.0055555556 | E30: Fundamentals | F30: Turn and Burn | G30: 6 | AA30: {=TRANSPOSE(_xlfn._xlws.FILTER( Drills_Drill, (Drills_Competency=$E30) * ( IF( PP_Template="Pee Wee", Drills_PW, IF( PP_Template="JV", Drills_JV, IF( PP_Template="Varsity", Drills_Varsity, Drills_VT ) ) ) = "X" ), "No matching drills" ))} -> Receiving/Catching a ball | AB30: QB Footwork - 3 Step Drop | AC30: QB Footwork - Fake Handoff Rollout | AD30: QB Footwork - Toss/Pitch | AE30: Receiver Stance - First Step Explosion | AF30: RB Stance - First Step Explosion | AG30: 3 Point Stance - First Step Explosion | AH30: Cadence Quick Sprint | AI30: Handoff footwork - RB | AJ30: Handoff footwork - QB | AK30: Handoff footwork - QB & RB | AL30: Pass Patterns - WR | AM30: Ball Security Overview | AN30: Stance Simon Says | AO30: Turn and Burn
D31: 0.0055555556 | E31: Fundamentals | F31: Pass Patterns - WR | G31: 7 | AA31: {=TRANSPOSE(_xlfn._xlws.FILTER( Drills_Drill, (Drills_Competency=$E31) * ( IF( PP_Template="Pee Wee", Drills_PW, IF( PP_Template="JV", Drills_JV, IF( PP_Template="Varsity", Drills_Varsity, Drills_VT ) ) ) = "X" ), "No matching drills" ))} -> Receiving/Catching a ball | AB31: QB Footwork - 3 Step Drop | AC31: QB Footwork - Fake Handoff Rollout | AD31: QB Footwork - Toss/Pitch | AE31: Receiver Stance - First Step Explosion | AF31: RB Stance - First Step Explosion | AG31: 3 Point Stance - First Step Explosion | AH31: Cadence Quick Sprint | AI31: Handoff footwork - RB | AJ31: Handoff footwork - QB | AK31: Handoff footwork - QB & RB | AL31: Pass Patterns - WR | AM31: Ball Security Overview | AN31: Stance Simon Says | AO31: Turn and Burn
D32: 0.0055555556 | E32: Fundamentals | F32: Handoff footwork - QB & RB | G32: 8 | AA32: {=TRANSPOSE(_xlfn._xlws.FILTER( Drills_Drill, (Drills_Competency=$E32) * ( IF( PP_Template="Pee Wee", Drills_PW, IF( PP_Template="JV", Drills_JV, IF( PP_Template="Varsity", Drills_Varsity, Drills_VT ) ) ) = "X" ), "No matching drills" ))} -> Receiving/Catching a ball | AB32: QB Footwork - 3 Step Drop | AC32: QB Footwork - Fake Handoff Rollout | AD32: QB Footwork - Toss/Pitch | AE32: Receiver Stance - First Step Explosion | AF32: RB Stance - First Step Explosion | AG32: 3 Point Stance - First Step Explosion | AH32: Cadence Quick Sprint | AI32: Handoff footwork - RB | AJ32: Handoff footwork - QB | AK32: Handoff footwork - QB & RB | AL32: Pass Patterns - WR | AM32: Ball Security Overview | AN32: Stance Simon Says | AO32: Turn and Burn
D33: 0.0034722222 | E33: Warmup/Cooldown | F33: Chalk Talk | G33: Whole Team | AA33: {=TRANSPOSE(_xlfn._xlws.FILTER( Drills_Drill, (Drills_Competency=$E33) * ( IF( PP_Template="Pee Wee", Drills_PW, IF( PP_Template="JV", Drills_JV, IF( PP_Template="Varsity", Drills_Varsity, Drills_VT ) ) ) = "X" ), "No matching drills" ))} -> Pin up | AB33: Dynamic Stretching Routine | AC33: Sprints | AD33: Chalk Talk | AE33: Water Break
AA34: {=TRANSPOSE(_xlfn._xlws.FILTER( Drills_Drill, (Drills_Competency=$E34) * ( IF( PP_Template="Pee Wee", Drills_PW, IF( PP_Template="JV", Drills_JV, IF( PP_Template="Varsity", Drills_Varsity, Drills_VT ) ) ) = "X" ), "No matching drills" ))} -> No matching drills
AA35: {=TRANSPOSE(_xlfn._xlws.FILTER( Drills_Drill, (Drills_Competency=$E35) * ( IF( PP_Template="Pee Wee", Drills_PW, IF( PP_Template="JV", Drills_JV, IF( PP_Template="Varsity", Drills_Varsity, Drills_VT ) ) ) = "X" ), "No matching drills" ))} -> No matching drills
AA36: {=TRANSPOSE(_xlfn._xlws.FILTER( Drills_Drill, (Drills_Competency=$E36) * ( IF( PP_Template="Pee Wee", Drills_PW, IF( PP_Template="JV", Drills_JV, IF( PP_Template="Varsity", Drills_Varsity, Drills_VT ) ) ) = "X" ), "No matching drills" ))} -> No matching drills
AA37: {=TRANSPOSE(_xlfn._xlws.FILTER( Drills_Drill, (Drills_Competency=$E37) * ( IF( PP_Template="Pee Wee", Drills_PW, IF( PP_Template="JV", Drills_JV, IF( PP_Template="Varsity", Drills_Varsity, Drills_VT ) ) ) = "X" ), "No matching drills" ))} -> No matching drills
AA38: {=TRANSPOSE(_xlfn._xlws.FILTER( Drills_Drill, (Drills_Competency=$E38) * ( IF( PP_Template="Pee Wee", Drills_PW, IF( PP_Template="JV", Drills_JV, IF( PP_Template="Varsity", Drills_Varsity, Drills_VT ) ) ) = "X" ), "No matching drills" ))} -> No matching drills
AA39: {=TRANSPOSE(_xlfn._xlws.FILTER( Drills_Drill, (Drills_Competency=$E39) * ( IF( PP_Template="Pee Wee", Drills_PW, IF( PP_Template="JV", Drills_JV, IF( PP_Template="Varsity", Drills_Varsity, Drills_VT ) ) ) = "X" ), "No matching drills" ))} -> No matching drills
B40: Week 2 Tuesday | C40: =IF(B40="","",SUM(D40:D57)) -> 0.061111111 | D40: 0.0013888889 | E40: Warmup/Cooldown | F40: Pin up | G40: Whole Team | AA40: {=TRANSPOSE(_xlfn._xlws.FILTER( Drills_Drill, (Drills_Competency=$E40) * ( IF( PP_Template="Pee Wee", Drills_PW, IF( PP_Template="JV", Drills_JV, IF( PP_Template="Varsity", Drills_Varsity, Drills_VT ) ) ) = "X" ), "No matching drills" ))} -> Pin up | AB40: Dynamic Stretching Routine | AC40: Sprints | AD40: Chalk Talk | AE40: Water Break
D41: 0.010416667 | E41: Warmup/Cooldown | F41: Dynamic Stretching Routine | G41: Whole Team | AA41: {=TRANSPOSE(_xlfn._xlws.FILTER( Drills_Drill, (Drills_Competency=$E41) * ( IF( PP_Template="Pee Wee", Drills_PW, IF( PP_Template="JV", Drills_JV, IF( PP_Template="Varsity", Drills_Varsity, Drills_VT ) ) ) = "X" ), "No matching drills" ))} -> Pin up | AB41: Dynamic Stretching Routine | AC41: Sprints | AD41: Chalk Talk | AE41: Water Break
D42: 0.0055555556 | E42: Agility | F42: Zig Zag Footwork Drill | G42: 1 | AA42: {=TRANSPOSE(_xlfn._xlws.FILTER( Drills_Drill, (Drills_Competency=$E42) * ( IF( PP_Template="Pee Wee", Drills_PW, IF( PP_Template="JV", Drills_JV, IF( PP_Template="Varsity", Drills_Varsity, Drills_VT ) ) ) = "X" ), "No matching drills" ))} -> Zig Zag Footwork Drill | AB42: L-Drill | AC42: T-Drill | AD42: Sideline Tackle Drill | AE42: Box Drill | AF42: Bag Drills | AG42: LB Box Drill | AH42: LB X-Mas Tree Drill | AI42: Defensive Back Drill | AJ42: Agility Ladder Drills | AK42: Mirror Drill | AL42: DB Call-out Drill (Right, Left, Back)
D43: 0.0055555556 | E43: Fundamentals | F43: Pass Patterns - WR | G43: 2 | AA43: {=TRANSPOSE(_xlfn._xlws.FILTER( Drills_Drill, (Drills_Competency=$E43) * ( IF( PP_Template="Pee Wee", Drills_PW, IF( PP_Template="JV", Drills_JV, IF( PP_Template="Varsity", Drills_Varsity, Drills_VT ) ) ) = "X" ), "No matching drills" ))} -> Receiving/Catching a ball | AB43: QB Footwork - 3 Step Drop | AC43: QB Footwork - Fake Handoff Rollout | AD43: QB Footwork - Toss/Pitch | AE43: Receiver Stance - First Step Explosion | AF43: RB Stance - First Step Explosion | AG43: 3 Point Stance - First Step Explosion | AH43: Cadence Quick Sprint | AI43: Handoff footwork - RB | AJ43: Handoff footwork - QB | AK43: Handoff footwork - QB & RB | AL43: Pass Patterns - WR | AM43: Ball Security Overview | AN43: Stance Simon Says | AO43: Turn and Burn
D44: 0.0055555556 | E44: Fundamentals | F44: RB Stance - First Step Explosion | G44: 3 | AA44: {=TRANSPOSE(_xlfn._xlws.FILTER( Drills_Drill, (Drills_Competency=$E44) * ( IF( PP_Template="Pee Wee", Drills_PW, IF( PP_Template="JV", Drills_JV, IF( PP_Template="Varsity", Drills_Varsity, Drills_VT ) ) ) = "X" ), "No matching drills" ))} -> Receiving/Catching a ball | AB44: QB Footwork - 3 Step Drop | AC44: QB Footwork - Fake Handoff Rollout | AD44: QB Footwork - Toss/Pitch | AE44: Receiver Stance - First Step Explosion | AF44: RB Stance - First Step Explosion | AG44: 3 Point Stance - First Step Explosion | AH44: Cadence Quick Sprint | AI44: Handoff footwork - RB | AJ44: Handoff footwork - QB | AK44: Handoff footwork - QB & RB | AL44: Pass Patterns - WR | AM44: Ball Security Overview | AN44: Stance Simon Says | AO44: Turn and Burn
D45: 0.0055555556 | E45: Fundamentals | F45: Handoff footwork - QB & RB | G45: 4 | AA45: {=TRANSPOSE(_xlfn._xlws.FILTER( Drills_Drill, (Drills_Competency=$E45) * ( IF( PP_Template="Pee Wee", Drills_PW, IF( PP_Template="JV", Drills_JV, IF( PP_Template="Varsity", Drills_Varsity, Drills_VT ) ) ) = "X" ), "No matching drills" ))} -> Receiving/Catching a ball | AB45: QB Footwork - 3 Step Drop | AC45: QB Footwork - Fake Handoff Rollout | AD45: QB Footwork - Toss/Pitch | AE45: Receiver Stance - First Step Explosion | AF45: RB Stance - First Step Explosion | AG45: 3 Point Stance - First Step Explosion | AH45: Cadence Quick Sprint | AI45: Handoff footwork - RB | AJ45: Handoff footwork - QB | AK45: Handoff footwork - QB & RB | AL45: Pass Patterns - WR | AM45: Ball Security Overview | AN45: Stance Simon Says | AO45: Turn and Burn
D46: 0.0013888889 | E46: Warmup/Cooldown | F46: Water Break | G46: Whole Team | AA46: {=TRANSPOSE(_xlfn._xlws.FILTER( Drills_Drill, (Drills_Competency=$E46) * ( IF( PP_Template="Pee Wee", Drills_PW, IF( PP_Template="JV", Drills_JV, IF( PP_Template="Varsity", Drills_Varsity, Drills_VT ) ) ) = "X" ), "No matching drills" ))} -> Pin up | AB46: Dynamic Stretching Routine | AC46: Sprints | AD46: Chalk Talk | AE46: Water Break
D47: 0.0055555556 | E47: Offense | F47: QB/WR Pass Routes | G47: 1 | AA47: {=TRANSPOSE(_xlfn._xlws.FILTER( Drills_Drill, (Drills_Competency=$E47) * ( IF( PP_Template="Pee Wee", Drills_PW, IF( PP_Template="JV", Drills_JV, IF( PP_Template="Varsity", Drills_Varsity, Drills_VT ) ) ) = "X" ), "No matching drills" ))} -> Playbook - Walkthrough | AB47: QB/WR Pass Routes | AC47: QB/RB Handoff Drill | AD47: QB/RB Toss/Pitch Drill | AE47: QB/RB Handoff Cut Drill | AF47: Playbook - Full Speed
D48: 0.0055555556 | E48: Defense | F48: LB Pursuit Drill (Toss) | G48: 2 | AA48: {=TRANSPOSE(_xlfn._xlws.FILTER( Drills_Drill, (Drills_Competency=$E48) * ( IF( PP_Template="Pee Wee", Drills_PW, IF( PP_Template="JV", Drills_JV, IF( PP_Template="Varsity", Drills_Varsity, Drills_VT ) ) ) = "X" ), "No matching drills" ))} -> Flag Pulling Drills | AB48: LB Pursuit Drill (Toss) | AC48: Safety Pursuit Drill (Sideline Tackle) | AD48: Man to Man Responsibilities/Walkthrough | AE48: Zone Responsibilities/Walkthrough | AF48: Zone Strong Man Responsibilities/Walkthrough
D49: 0.0055555556 | E49: Defense | F49: Safety Pursuit Drill (Sideline Tackle) | G49: 3 | AA49: {=TRANSPOSE(_xlfn._xlws.FILTER( Drills_Drill, (Drills_Competency=$E49) * ( IF( PP_Template="Pee Wee", Drills_PW, IF( PP_Template="JV", Drills_JV, IF( PP_Template="Varsity", Drills_Varsity, Drills_VT ) ) ) = "X" ), "No matching drills" ))} -> Flag Pulling Drills | AB49: LB Pursuit Drill (Toss) | AC49: Safety Pursuit Drill (Sideline Tackle) | AD49: Man to Man Responsibilities/Walkthrough | AE49: Zone Responsibilities/Walkthrough | AF49: Zone Strong Man Responsibilities/Walkthrough
D50: 0.0055555556 | E50: Scrimmage Games | F50: 1 on 1 - Handoff Gauntlet | G50: 4 | AA50: {=TRANSPOSE(_xlfn._xlws.FILTER( Drills_Drill, (Drills_Competency=$E50) * ( IF( PP_Template="Pee Wee", Drills_PW, IF( PP_Template="JV", Drills_JV, IF( PP_Template="Varsity", Drills_Varsity, Drills_VT ) ) ) = "X" ), "No matching drills" ))} -> 2 on 2 - LB Switch or Stick (Communication) | AB50: 1 on 1 - Pursuit Guantlet | AC50: 1 on 1 - Handoff Gauntlet | AD50: 1 on 1 - Toss/Pitch Pursuit | AE50: 1 on 1 - Pass Coverage | AF50: Red Rover | AG50: Box Drill Relay
D51: 0.0034722222 | E51: Warmup/Cooldown | F51: Chalk Talk | G51: Whole Team | AA51: {=TRANSPOSE(_xlfn._xlws.FILTER( Drills_Drill, (Drills_Competency=$E51) * ( IF( PP_Template="Pee Wee", Drills_PW, IF( PP_Template="JV", Drills_JV, IF( PP_Template="Varsity", Drills_Varsity, Drills_VT ) ) ) = "X" ), "No matching drills" ))} -> Pin up | AB51: Dynamic Stretching Routine | AC51: Sprints | AD51: Chalk Talk | AE51: Water Break
AA52: {=TRANSPOSE(_xlfn._xlws.FILTER( Drills_Drill, (Drills_Competency=$E52) * ( IF( PP_Template="Pee Wee", Drills_PW, IF( PP_Template="JV", Drills_JV, IF( PP_Template="Varsity", Drills_Varsity, Drills_VT ) ) ) = "X" ), "No matching drills" ))} -> No matching drills
AA53: {=TRANSPOSE(_xlfn._xlws.FILTER( Drills_Drill, (Drills_Competency=$E53) * ( IF( PP_Template="Pee Wee", Drills_PW, IF( PP_Template="JV", Drills_JV, IF( PP_Template="Varsity", Drills_Varsity, Drills_VT ) ) ) = "X" ), "No matching drills" ))} -> No matching drills
AA54: {=TRANSPOSE(_xlfn._xlws.FILTER( Drills_Drill, (Drills_Competency=$E54) * ( IF( PP_Template="Pee Wee", Drills_PW, IF( PP_Template="JV", Drills_JV, IF( PP_Template="Varsity", Drills_Varsity, Drills_VT ) ) ) = "X" ), "No matching drills" ))} -> No matching drills
AA55: {=TRANSPOSE(_xlfn._xlws.FILTER( Drills_Drill, (Drills_Competency=$E55) * ( IF( PP_Template="Pee Wee", Drills_PW, IF( PP_Template="JV", Drills_JV, IF( PP_Template="Varsity", Drills_Varsity, Drills_VT ) ) ) = "X" ), "No matching drills" ))} -> No matching drills
AA56: {=TRANSPOSE(_xlfn._xlws.FILTER( Drills_Drill, (Drills_Competency=$E56) * ( IF( PP_Template="Pee Wee", Drills_PW, IF( PP_Template="JV", Drills_JV, IF( PP_Template="Varsity", Drills_Varsity, Drills_VT ) ) ) = "X" ), "No matching drills" ))} -> No matching drills
AA57: {=TRANSPOSE(_xlfn._xlws.FILTER( Drills_Drill, (Drills_Competency=$E57) * ( IF( PP_Template="Pee Wee", Drills_PW, IF( PP_Template="JV", Drills_JV, IF( PP_Template="Varsity", Drills_Varsity, Drills_VT ) ) ) = "X" ), "No matching drills" ))} -> No matching drills
B58: Week 2 Thursday | C58: =IF(B58="","",SUM(D58:D75)) -> 0.061805556 | D58: 0.0013888889 | E58: Warmup/Cooldown | F58: Pin up | G58: Whole Team | AA58: {=TRANSPOSE(_xlfn._xlws.FILTER( Drills_Drill, (Drills_Competency=$E58) * ( IF( PP_Template="Pee Wee", Drills_PW, IF( PP_Template="JV", Drills_JV, IF( PP_Template="Varsity", Drills_Varsity, Drills_VT ) ) ) = "X" ), "No matching drills" ))} -> Pin up | AB58: Dynamic Stretching Routine | AC58: Sprints | AD58: Chalk Talk | AE58: Water Break
D59: 0.010416667 | E59: Warmup/Cooldown | F59: Dynamic Stretching Routine | G59: Whole Team | AA59: {=TRANSPOSE(_xlfn._xlws.FILTER( Drills_Drill, (Drills_Competency=$E59) * ( IF( PP_Template="Pee Wee", Drills_PW, IF( PP_Template="JV", Drills_JV, IF( PP_Template="Varsity", Drills_Varsity, Drills_VT ) ) ) = "X" ), "No matching drills" ))} -> Pin up | AB59: Dynamic Stretching Routine | AC59: Sprints | AD59: Chalk Talk | AE59: Water Break
D60: 0.0055555556 | E60: Offense | F60: QB/RB Toss/Pitch Drill | G60: 1 | AA60: {=TRANSPOSE(_xlfn._xlws.FILTER( Drills_Drill, (Drills_Competency=$E60) * ( IF( PP_Template="Pee Wee", Drills_PW, IF( PP_Template="JV", Drills_JV, IF( PP_Template="Varsity", Drills_Varsity, Drills_VT ) ) ) = "X" ), "No matching drills" ))} -> Playbook - Walkthrough | AB60: QB/WR Pass Routes | AC60: QB/RB Handoff Drill | AD60: QB/RB Toss/Pitch Drill | AE60: QB/RB Handoff Cut Drill | AF60: Playbook - Full Speed
D61: 0.0055555556 | E61: Fundamentals | F61: Turn and Burn | G61: 2 | AA61: {=TRANSPOSE(_xlfn._xlws.FILTER( Drills_Drill, (Drills_Competency=$E61) * ( IF( PP_Template="Pee Wee", Drills_PW, IF( PP_Template="JV", Drills_JV, IF( PP_Template="Varsity", Drills_Varsity, Drills_VT ) ) ) = "X" ), "No matching drills" ))} -> Receiving/Catching a ball | AB61: QB Footwork - 3 Step Drop | AC61: QB Footwork - Fake Handoff Rollout | AD61: QB Footwork - Toss/Pitch | AE61: Receiver Stance - First Step Explosion | AF61: RB Stance - First Step Explosion | AG61: 3 Point Stance - First Step Explosion | AH61: Cadence Quick Sprint | AI61: Handoff footwork - RB | AJ61: Handoff footwork - QB | AK61: Handoff footwork - QB & RB | AL61: Pass Patterns - WR | AM61: Ball Security Overview | AN61: Stance Simon Says | AO61: Turn and Burn
D62: 0.0055555556 | E62: Scrimmage Games | F62: 1 on 1 - Pass Coverage | G62: 3 | AA62: {=TRANSPOSE(_xlfn._xlws.FILTER( Drills_Drill, (Drills_Competency=$E62) * ( IF( PP_Template="Pee Wee", Drills_PW, IF( PP_Template="JV", Drills_JV, IF( PP_Template="Varsity", Drills_Varsity, Drills_VT ) ) ) = "X" ), "No matching drills" ))} -> 2 on 2 - LB Switch or Stick (Communication) | AB62: 1 on 1 - Pursuit Guantlet | AC62: 1 on 1 - Handoff Gauntlet | AD62: 1 on 1 - Toss/Pitch Pursuit | AE62: 1 on 1 - Pass Coverage | AF62: Red Rover | AG62: Box Drill Relay
D63: 0.0055555556 | E63: Scrimmage Games | F63: 1 on 1 - Handoff Gauntlet | G63: 4 | AA63: {=TRANSPOSE(_xlfn._xlws.FILTER( Drills_Drill, (Drills_Competency=$E63) * ( IF( PP_Template="Pee Wee", Drills_PW, IF( PP_Template="JV", Drills_JV, IF( PP_Template="Varsity", Drills_Varsity, Drills_VT ) ) ) = "X" ), "No matching drills" ))} -> 2 on 2 - LB Switch or Stick (Communication) | AB63: 1 on 1 - Pursuit Guantlet | AC63: 1 on 1 - Handoff Gauntlet | AD63: 1 on 1 - Toss/Pitch Pursuit | AE63: 1 on 1 - Pass Coverage | AF63: Red Rover | AG63: Box Drill Relay
D64: 0.0013888889 | E64: Warmup/Cooldown | F64: Water Break | G64: Whole Team | AA64: {=TRANSPOSE(_xlfn._xlws.FILTER( Drills_Drill, (Drills_Competency=$E64) * ( IF( PP_Template="Pee Wee", Drills_PW, IF( PP_Template="JV", Drills_JV, IF( PP_Template="Varsity", Drills_Varsity, Drills_VT ) ) ) = "X" ), "No matching drills" ))} -> Pin up | AB64: Dynamic Stretching Routine | AC64: Sprints | AD64: Chalk Talk | AE64: Water Break
D65: 0.017361111 | E65: Team Breakout | F65: Playbook Overview | G65: Whole Team | AA65: {=TRANSPOSE(_xlfn._xlws.FILTER( Drills_Drill, (Drills_Competency=$E65) * ( IF( PP_Template="Pee Wee", Drills_PW, IF( PP_Template="JV", Drills_JV, IF( PP_Template="Varsity", Drills_Varsity, Drills_VT ) ) ) = "X" ), "No matching drills" ))} -> Playbook Overview
D66: 0.0055555556 | E66: Conditioning/Strength | F66: Relay Sprints | G66: Whole Team | AA66: {=TRANSPOSE(_xlfn._xlws.FILTER( Drills_Drill, (Drills_Competency=$E66) * ( IF( PP_Template="Pee Wee", Drills_PW, IF( PP_Template="JV", Drills_JV, IF( PP_Template="Varsity", Drills_Varsity, Drills_VT ) ) ) = "X" ), "No matching drills" ))} -> Relay Sprints | AB66: Gauntlet Sprints | AC66: Bear Crawls | AD66: Burpee Sprints | AE66: Grapevine Sprints
D67: 0.0034722222 | E67: Warmup/Cooldown | F67: Chalk Talk | G67: Whole Team | AA67: {=TRANSPOSE(_xlfn._xlws.FILTER( Drills_Drill, (Drills_Competency=$E67) * ( IF( PP_Template="Pee Wee", Drills_PW, IF( PP_Template="JV", Drills_JV, IF( PP_Template="Varsity", Drills_Varsity, Drills_VT ) ) ) = "X" ), "No matching drills" ))} -> Pin up | AB67: Dynamic Stretching Routine | AC67: Sprints | AD67: Chalk Talk | AE67: Water Break
AA68: {=TRANSPOSE(_xlfn._xlws.FILTER( Drills_Drill, (Drills_Competency=$E68) * ( IF( PP_Template="Pee Wee", Drills_PW, IF( PP_Template="JV", Drills_JV, IF( PP_Template="Varsity", Drills_Varsity, Drills_VT ) ) ) = "X" ), "No matching drills" ))} -> No matching drills
AA69: {=TRANSPOSE(_xlfn._xlws.FILTER( Drills_Drill, (Drills_Competency=$E69) * ( IF( PP_Template="Pee Wee", Drills_PW, IF( PP_Template="JV", Drills_JV, IF( PP_Template="Varsity", Drills_Varsity, Drills_VT ) ) ) = "X" ), "No matching drills" ))} -> No matching drills
AA70: {=TRANSPOSE(_xlfn._xlws.FILTER( Drills_Drill, (Drills_Competency=$E70) * ( IF( PP_Template="Pee Wee", Drills_PW, IF( PP_Template="JV", Drills_JV, IF( PP_Template="Varsity", Drills_Varsity, Drills_VT ) ) ) = "X" ), "No matching drills" ))} -> No matching drills
AA71: {=TRANSPOSE(_xlfn._xlws.FILTER( Drills_Drill, (Drills_Competency=$E71) * ( IF( PP_Template="Pee Wee", Drills_PW, IF( PP_Template="JV", Drills_JV, IF( PP_Template="Varsity", Drills_Varsity, Drills_VT ) ) ) = "X" ), "No matching drills" ))} -> No matching drills
AA72: {=TRANSPOSE(_xlfn._xlws.FILTER( Drills_Drill, (Drills_Competency=$E72) * ( IF( PP_Template="Pee Wee", Drills_PW, IF( PP_Template="JV", Drills_JV, IF( PP_Template="Varsity", Drills_Varsity, Drills_VT ) ) ) = "X" ), "No matching drills" ))} -> No matching drills
AA73: {=TRANSPOSE(_xlfn._xlws.FILTER( Drills_Drill, (Drills_Competency=$E73) * ( IF( PP_Template="Pee Wee", Drills_PW, IF( PP_Template="JV", Drills_JV, IF( PP_Template="Varsity", Drills_Varsity, Drills_VT ) ) ) = "X" ), "No matching drills" ))} -> No matching drills
AA74: {=TRANSPOSE(_xlfn._xlws.FILTER( Drills_Drill, (Drills_Competency=$E74) * ( IF( PP_Template="Pee Wee", Drills_PW, IF( PP_Template="JV", Drills_JV, IF( PP_Template="Varsity", Drills_Varsity, Drills_VT ) ) ) = "X" ), "No matching drills" ))} -> No matching drills
AA75: {=TRANSPOSE(_xlfn._xlws.FILTER( Drills_Drill, (Drills_Competency=$E75) * ( IF( PP_Template="Pee Wee", Drills_PW, IF( PP_Template="JV", Drills_JV, IF( PP_Template="Varsity", Drills_Varsity, Drills_VT ) ) ) = "X" ), "No matching drills" ))} -> No matching drills
B76: Week 3 Tuesday | C76: =IF(B76="","",SUM(D76:D93)) -> 0 | AA76: {=TRANSPOSE(_xlfn._xlws.FILTER( Drills_Drill, (Drills_Competency=$E76) * ( IF( PP_Template="Pee Wee", Drills_PW, IF( PP_Template="JV", Drills_JV, IF( PP_Template="Varsity", Drills_Varsity, Drills_VT ) ) ) = "X" ), "No matching drills" ))} -> No matching drills
AA77: {=TRANSPOSE(_xlfn._xlws.FILTER( Drills_Drill, (Drills_Competency=$E77) * ( IF( PP_Template="Pee Wee", Drills_PW, IF( PP_Template="JV", Drills_JV, IF( PP_Template="Varsity", Drills_Varsity, Drills_VT ) ) ) = "X" ), "No matching drills" ))} -> No matching drills
AA78: {=TRANSPOSE(_xlfn._xlws.FILTER( Drills_Drill, (Drills_Competency=$E78) * ( IF( PP_Template="Pee Wee", Drills_PW, IF( PP_Template="JV", Drills_JV, IF( PP_Template="Varsity", Drills_Varsity, Drills_VT ) ) ) = "X" ), "No matching drills" ))} -> No matching drills
AA79: {=TRANSPOSE(_xlfn._xlws.FILTER( Drills_Drill, (Drills_Competency=$E79) * ( IF( PP_Template="Pee Wee", Drills_PW, IF( PP_Template="JV", Drills_JV, IF( PP_Template="Varsity", Drills_Varsity, Drills_VT ) ) ) = "X" ), "No matching drills" ))} -> No matching drills
AA80: {=TRANSPOSE(_xlfn._xlws.FILTER( Drills_Drill, (Drills_Competency=$E80) * ( IF( PP_Template="Pee Wee", Drills_PW, IF( PP_Template="JV", Drills_JV, IF( PP_Template="Varsity", Drills_Varsity, Drills_VT ) ) ) = "X" ), "No matching drills" ))} -> No matching drills
AA81: {=TRANSPOSE(_xlfn._xlws.FILTER( Drills_Drill, (Drills_Competency=$E81) * ( IF( PP_Template="Pee Wee", Drills_PW, IF( PP_Template="JV", Drills_JV, IF( PP_Template="Varsity", Drills_Varsity, Drills_VT ) ) ) = "X" ), "No matching drills" ))} -> No matching drills
AA82: {=TRANSPOSE(_xlfn._xlws.FILTER( Drills_Drill, (Drills_Competency=$E82) * ( IF( PP_Template="Pee Wee", Drills_PW, IF( PP_Template="JV", Drills_JV, IF( PP_Template="Varsity", Drills_Varsity, Drills_VT ) ) ) = "X" ), "No matching drills" ))} -> No matching drills
AA83: {=TRANSPOSE(_xlfn._xlws.FILTER( Drills_Drill, (Drills_Competency=$E83) * ( IF( PP_Template="Pee Wee", Drills_PW, IF( PP_Template="JV", Drills_JV, IF( PP_Template="Varsity", Drills_Varsity, Drills_VT ) ) ) = "X" ), "No matching drills" ))} -> No matching drills
AA84: {=TRANSPOSE(_xlfn._xlws.FILTER( Drills_Drill, (Drills_Competency=$E84) * ( IF( PP_Template="Pee Wee", Drills_PW, IF( PP_Template="JV", Drills_JV, IF( PP_Template="Varsity", Drills_Varsity, Drills_VT ) ) ) = "X" ), "No matching drills" ))} -> No matching drills
AA85: {=TRANSPOSE(_xlfn._xlws.FILTER( Drills_Drill, (Drills_Competency=$E85) * ( IF( PP_Template="Pee Wee", Drills_PW, IF( PP_Template="JV", Drills_JV, IF( PP_Template="Varsity", Drills_Varsity, Drills_VT ) ) ) = "X" ), "No matching drills" ))} -> No matching drills
AA86: {=TRANSPOSE(_xlfn._xlws.FILTER( Drills_Drill, (Drills_Competency=$E86) * ( IF( PP_Template="Pee Wee", Drills_PW, IF( PP_Template="JV", Drills_JV, IF( PP_Template="Varsity", Drills_Varsity, Drills_VT ) ) ) = "X" ), "No matching drills" ))} -> No matching drills
AA87: {=TRANSPOSE(_xlfn._xlws.FILTER( Drills_Drill, (Drills_Competency=$E87) * ( IF( PP_Template="Pee Wee", Drills_PW, IF( PP_Template="JV", Drills_JV, IF( PP_Template="Varsity", Drills_Varsity, Drills_VT ) ) ) = "X" ), "No matching drills" ))} -> No matching drills
AA88: {=TRANSPOSE(_xlfn._xlws.FILTER( Drills_Drill, (Drills_Competency=$E88) * ( IF( PP_Template="Pee Wee", Drills_PW, IF( PP_Template="JV", Drills_JV, IF( PP_Template="Varsity", Drills_Varsity, Drills_VT ) ) ) = "X" ), "No matching drills" ))} -> No matching drills
... AA93: {=TRANSPOSE(_xlfn._xlws.FILTER( Drills_Drill, (Drills_Competency=$E93) * ( IF( PP_Template="Pee Wee", Drills_PW, IF( PP_Template="JV", Drills_JV, IF( PP_Template="Varsity", Drills_Varsity, Drills_VT ) ) ) = "X" ), "No matching drills" ))} -> No matching drills
B94: Week 4 Thursday | C94: =IF(B94="","",SUM(D94:D111)) -> 0 | AA94: {=TRANSPOSE(_xlfn._xlws.FILTER( Drills_Drill, (Drills_Competency=$E94) * ( IF( PP_Template="Pee Wee", Drills_PW, IF( PP_Template="JV", Drills_JV, IF( PP_Template="Varsity", Drills_Varsity, Drills_VT ) ) ) = "X" ), "No matching drills" ))} -> No matching drills
AA95: {=TRANSPOSE(_xlfn._xlws.FILTER( Drills_Drill, (Drills_Competency=$E95) * ( IF( PP_Template="Pee Wee", Drills_PW, IF( PP_Template="JV", Drills_JV, IF( PP_Template="Varsity", Drills_Varsity, Drills_VT ) ) ) = "X" ), "No matching drills" ))} -> No matching drills
AA96: {=TRANSPOSE(_xlfn._xlws.FILTER( Drills_Drill, (Drills_Competency=$E96) * ( IF( PP_Template="Pee Wee", Drills_PW, IF( PP_Template="JV", Drills_JV, IF( PP_Template="Varsity", Drills_Varsity, Drills_VT ) ) ) = "X" ), "No matching drills" ))} -> No matching drills
AA97: {=TRANSPOSE(_xlfn._xlws.FILTER( Drills_Drill, (Drills_Competency=$E97) * ( IF( PP_Template="Pee Wee", Drills_PW, IF( PP_Template="JV", Drills_JV, IF( PP_Template="Varsity", Drills_Varsity, Drills_VT ) ) ) = "X" ), "No matching drills" ))} -> No matching drills
AA98: {=TRANSPOSE(_xlfn._xlws.FILTER( Drills_Drill, (Drills_Competency=$E98) * ( IF( PP_Template="Pee Wee", Drills_PW, IF( PP_Template="JV", Drills_JV, IF( PP_Template="Varsity", Drills_Varsity, Drills_VT ) ) ) = "X" ), "No matching drills" ))} -> No matching drills
AA99: {=TRANSPOSE(_xlfn._xlws.FILTER( Drills_Drill, (Drills_Competency=$E99) * ( IF( PP_Template="Pee Wee", Drills_PW, IF( PP_Template="JV", Drills_JV, IF( PP_Template="Varsity", Drills_Varsity, Drills_VT ) ) ) = "X" ), "No matching drills" ))} -> No matching drills
AA100: {=TRANSPOSE(_xlfn._xlws.FILTER( Drills_Drill, (Drills_Competency=$E100) * ( IF( PP_Template="Pee Wee", Drills_PW, IF( PP_Template="JV", Drills_JV, IF( PP_Template="Varsity", Drills_Varsity, Drills_VT ) ) ) = "X" ), "No matching drills" ))} -> No matching drills
AA101: {=TRANSPOSE(_xlfn._xlws.FILTER( Drills_Drill, (Drills_Competency=$E101) * ( IF( PP_Template="Pee Wee", Drills_PW, IF( PP_Template="JV", Drills_JV, IF( PP_Template="Varsity", Drills_Varsity, Drills_VT ) ) ) = "X" ), "No matching drills" ))} -> No matching drills
AA102: {=TRANSPOSE(_xlfn._xlws.FILTER( Drills_Drill, (Drills_Competency=$E102) * ( IF( PP_Template="Pee Wee", Drills_PW, IF( PP_Template="JV", Drills_JV, IF( PP_Template="Varsity", Drills_Varsity, Drills_VT ) ) ) = "X" ), "No matching drills" ))} -> No matching drills
AA103: {=TRANSPOSE(_xlfn._xlws.FILTER( Drills_Drill, (Drills_Competency=$E103) * ( IF( PP_Template="Pee Wee", Drills_PW, IF( PP_Template="JV", Drills_JV, IF( PP_Template="Varsity", Drills_Varsity, Drills_VT ) ) ) = "X" ), "No matching drills" ))} -> No matching drills
AA104: {=TRANSPOSE(_xlfn._xlws.FILTER( Drills_Drill, (Drills_Competency=$E104) * ( IF( PP_Template="Pee Wee", Drills_PW, IF( PP_Template="JV", Drills_JV, IF( PP_Template="Varsity", Drills_Varsity, Drills_VT ) ) ) = "X" ), "No matching drills" ))} -> No matching drills
AA105: {=TRANSPOSE(_xlfn._xlws.FILTER( Drills_Drill, (Drills_Competency=$E105) * ( IF( PP_Template="Pee Wee", Drills_PW, IF( PP_Template="JV", Drills_JV, IF( PP_Template="Varsity", Drills_Varsity, Drills_VT ) ) ) = "X" ), "No matching drills" ))} -> No matching drills
...

Sheet Varsity Practice Templates
D2: Varsity
B3: Practice Description | D3: Duration | E3: Competency | F3: Drill | G3: Station | AA3: Varsity Drill Options
B4: Week 1 Tuesday (All CG) | C4: =IF(B4="","",SUM(D4:D21)) -> 0.061111111 | D4: 0.0013888889 | E4: Warmup/Cooldown | F4: Pin up | G4: Whole Team | AA4: {=TRANSPOSE(_xlfn._xlws.FILTER( Drills_Drill, (Drills_Competency=$E4) * ( IF( PP_Template="Pee Wee", Drills_PW, IF( PP_Template="JV", Drills_JV, IF( PP_Template="Varsity", Drills_Varsity, Drills_VT ) ) ) = "X" ), "No matching drills" ))} -> Pin up | AB4: Dynamic Stretching Routine | AC4: Sprints | AD4: Chalk Talk | AE4: Water Break
D5: 0.010416667 | E5: Warmup/Cooldown | F5: Dynamic Stretching Routine | G5: Whole Team | AA5: {=TRANSPOSE(_xlfn._xlws.FILTER( Drills_Drill, (Drills_Competency=$E5) * ( IF( PP_Template="Pee Wee", Drills_PW, IF( PP_Template="JV", Drills_JV, IF( PP_Template="Varsity", Drills_Varsity, Drills_VT ) ) ) = "X" ), "No matching drills" ))} -> Pin up | AB5: Dynamic Stretching Routine | AC5: Sprints | AD5: Chalk Talk | AE5: Water Break
D6: 0.0055555556 | E6: Agility | F6: Zig Zag Footwork Drill | G6: 1 | AA6: {=TRANSPOSE(_xlfn._xlws.FILTER( Drills_Drill, (Drills_Competency=$E6) * ( IF( PP_Template="Pee Wee", Drills_PW, IF( PP_Template="JV", Drills_JV, IF( PP_Template="Varsity", Drills_Varsity, Drills_VT ) ) ) = "X" ), "No matching drills" ))} -> Zig Zag Footwork Drill | AB6: L-Drill | AC6: T-Drill | AD6: Sideline Tackle Drill | AE6: Box Drill | AF6: Bag Drills | AG6: LB Box Drill | AH6: LB X-Mas Tree Drill | AI6: Defensive Back Drill | AJ6: Agility Ladder Drills | AK6: Mirror Drill | AL6: DB Call-out Drill (Right, Left, Back)
D7: 0.0055555556 | E7: Agility | F7: Box Drill | G7: 2 | AA7: {=TRANSPOSE(_xlfn._xlws.FILTER( Drills_Drill, (Drills_Competency=$E7) * ( IF( PP_Template="Pee Wee", Drills_PW, IF( PP_Template="JV", Drills_JV, IF( PP_Template="Varsity", Drills_Varsity, Drills_VT ) ) ) = "X" ), "No matching drills" ))} -> Zig Zag Footwork Drill | AB7: L-Drill | AC7: T-Drill | AD7: Sideline Tackle Drill | AE7: Box Drill | AF7: Bag Drills | AG7: LB Box Drill | AH7: LB X-Mas Tree Drill | AI7: Defensive Back Drill | AJ7: Agility Ladder Drills | AK7: Mirror Drill | AL7: DB Call-out Drill (Right, Left, Back)
D8: 0.0055555556 | E8: Agility | F8: DB Call-out Drill (Right, Left, Back) | G8: 3 | AA8: {=TRANSPOSE(_xlfn._xlws.FILTER( Drills_Drill, (Drills_Competency=$E8) * ( IF( PP_Template="Pee Wee", Drills_PW, IF( PP_Template="JV", Drills_JV, IF( PP_Template="Varsity", Drills_Varsity, Drills_VT ) ) ) = "X" ), "No matching drills" ))} -> Zig Zag Footwork Drill | AB8: L-Drill | AC8: T-Drill | AD8: Sideline Tackle Drill | AE8: Box Drill | AF8: Bag Drills | AG8: LB Box Drill | AH8: LB X-Mas Tree Drill | AI8: Defensive Back Drill | AJ8: Agility Ladder Drills | AK8: Mirror Drill | AL8: DB Call-out Drill (Right, Left, Back)
D9: 0.0055555556 | E9: Agility | F9: LB Box Drill | G9: 4 | AA9: {=TRANSPOSE(_xlfn._xlws.FILTER( Drills_Drill, (Drills_Competency=$E9) * ( IF( PP_Template="Pee Wee", Drills_PW, IF( PP_Template="JV", Drills_JV, IF( PP_Template="Varsity", Drills_Varsity, Drills_VT ) ) ) = "X" ), "No matching drills" ))} -> Zig Zag Footwork Drill | AB9: L-Drill | AC9: T-Drill | AD9: Sideline Tackle Drill | AE9: Box Drill | AF9: Bag Drills | AG9: LB Box Drill | AH9: LB X-Mas Tree Drill | AI9: Defensive Back Drill | AJ9: Agility Ladder Drills | AK9: Mirror Drill | AL9: DB Call-out Drill (Right, Left, Back)
D10: 0.0013888889 | E10: Warmup/Cooldown | F10: Water Break | G10: Whole Team | AA10: {=TRANSPOSE(_xlfn._xlws.FILTER( Drills_Drill, (Drills_Competency=$E10) * ( IF( PP_Template="Pee Wee", Drills_PW, IF( PP_Template="JV", Drills_JV, IF( PP_Template="Varsity", Drills_Varsity, Drills_VT ) ) ) = "X" ), "No matching drills" ))} -> Pin up | AB10: Dynamic Stretching Routine | AC10: Sprints | AD10: Chalk Talk | AE10: Water Break
D11: 0.0055555556 | E11: Fundamentals | F11: Receiver Stance - First Step Explosion | G11: 5 | AA11: {=TRANSPOSE(_xlfn._xlws.FILTER( Drills_Drill, (Drills_Competency=$E11) * ( IF( PP_Template="Pee Wee", Drills_PW, IF( PP_Template="JV", Drills_JV, IF( PP_Template="Varsity", Drills_Varsity, Drills_VT ) ) ) = "X" ), "No matching drills" ))} -> QB Footwork - 3 Step Drop | AB11: QB Footwork - Fake Handoff Rollout | AC11: QB Footwork - Toss/Pitch | AD11: Receiver Stance - First Step Explosion | AE11: RB Stance - First Step Explosion | AF11: 3 Point Stance - First Step Explosion | AG11: Cadence Quick Sprint | AH11: Handoff footwork - RB | AI11: Handoff footwork - QB | AJ11: Handoff footwork - QB & RB | AK11: Pass Patterns - WR | AL11: Ball Security Overview | AM11: Gauntlet Drill (Ball Security) | AN11: Turn and Burn
D12: 0 | E12: Fundamentals | F12: Ball Security Overview | G12: 6 | AA12: {=TRANSPOSE(_xlfn._xlws.FILTER( Drills_Drill, (Drills_Competency=$E12) * ( IF( PP_Template="Pee Wee", Drills_PW, IF( PP_Template="JV", Drills_JV, IF( PP_Template="Varsity", Drills_Varsity, Drills_VT ) ) ) = "X" ), "No matching drills" ))} -> QB Footwork - 3 Step Drop | AB12: QB Footwork - Fake Handoff Rollout | AC12: QB Footwork - Toss/Pitch | AD12: Receiver Stance - First Step Explosion | AE12: RB Stance - First Step Explosion | AF12: 3 Point Stance - First Step Explosion | AG12: Cadence Quick Sprint | AH12: Handoff footwork - RB | AI12: Handoff footwork - QB | AJ12: Handoff footwork - QB & RB | AK12: Pass Patterns - WR | AL12: Ball Security Overview | AM12: Gauntlet Drill (Ball Security) | AN12: Turn and Burn
D13: 0.0055555556 | E13: Fundamentals | F13: Handoff footwork - RB | G13: 6 | AA13: {=TRANSPOSE(_xlfn._xlws.FILTER( Drills_Drill, (Drills_Competency=$E13) * ( IF( PP_Template="Pee Wee", Drills_PW, IF( PP_Template="JV", Drills_JV, IF( PP_Template="Varsity", Drills_Varsity, Drills_VT ) ) ) = "X" ), "No matching drills" ))} -> QB Footwork - 3 Step Drop | AB13: QB Footwork - Fake Handoff Rollout | AC13: QB Footwork - Toss/Pitch | AD13: Receiver Stance - First Step Explosion | AE13: RB Stance - First Step Explosion | AF13: 3 Point Stance - First Step Explosion | AG13: Cadence Quick Sprint | AH13: Handoff footwork - RB | AI13: Handoff footwork - QB | AJ13: Handoff footwork - QB & RB | AK13: Pass Patterns - WR | AL13: Ball Security Overview | AM13: Gauntlet Drill (Ball Security) | AN13: Turn and Burn
D14: 0 | E14: Fundamentals | F14: Receiving/Catching a ball | G14: 7 | AA14: {=TRANSPOSE(_xlfn._xlws.FILTER( Drills_Drill, (Drills_Competency=$E14) * ( IF( PP_Template="Pee Wee", Drills_PW, IF( PP_Template="JV", Drills_JV, IF( PP_Template="Varsity", Drills_Varsity, Drills_VT ) ) ) = "X" ), "No matching drills" ))} -> QB Footwork - 3 Step Drop | AB14: QB Footwork - Fake Handoff Rollout | AC14: QB Footwork - Toss/Pitch | AD14: Receiver Stance - First Step Explosion | AE14: RB Stance - First Step Explosion | AF14: 3 Point Stance - First Step Explosion | AG14: Cadence Quick Sprint | AH14: Handoff footwork - RB | AI14: Handoff footwork - QB | AJ14: Handoff footwork - QB & RB | AK14: Pass Patterns - WR | AL14: Ball Security Overview | AM14: Gauntlet Drill (Ball Security) | AN14: Turn and Burn
D15: 0.0055555556 | E15: Fundamentals | F15: Pass Patterns - WR | G15: 7 | AA15: {=TRANSPOSE(_xlfn._xlws.FILTER( Drills_Drill, (Drills_Competency=$E15) * ( IF( PP_Template="Pee Wee", Drills_PW, IF( PP_Template="JV", Drills_JV, IF( PP_Template="Varsity", Drills_Varsity, Drills_VT ) ) ) = "X" ), "No matching drills" ))} -> QB Footwork - 3 Step Drop | AB15: QB Footwork - Fake Handoff Rollout | AC15: QB Footwork - Toss/Pitch | AD15: Receiver Stance - First Step Explosion | AE15: RB Stance - First Step Explosion | AF15: 3 Point Stance - First Step Explosion | AG15: Cadence Quick Sprint | AH15: Handoff footwork - RB | AI15: Handoff footwork - QB | AJ15: Handoff footwork - QB & RB | AK15: Pass Patterns - WR | AL15: Ball Security Overview | AM15: Gauntlet Drill (Ball Security) | AN15: Turn and Burn
D16: 0.0055555556 | E16: Fundamentals | F16: Stance Simon Says | G16: 8 | AA16: {=TRANSPOSE(_xlfn._xlws.FILTER( Drills_Drill, (Drills_Competency=$E16) * ( IF( PP_Template="Pee Wee", Drills_PW, IF( PP_Template="JV", Drills_JV, IF( PP_Template="Varsity", Drills_Varsity, Drills_VT ) ) ) = "X" ), "No matching drills" ))} -> QB Footwork - 3 Step Drop | AB16: QB Footwork - Fake Handoff Rollout | AC16: QB Footwork - Toss/Pitch | AD16: Receiver Stance - First Step Explosion | AE16: RB Stance - First Step Explosion | AF16: 3 Point Stance - First Step Explosion | AG16: Cadence Quick Sprint | AH16: Handoff footwork - RB | AI16: Handoff footwork - QB | AJ16: Handoff footwork - QB & RB | AK16: Pass Patterns - WR | AL16: Ball Security Overview | AM16: Gauntlet Drill (Ball Security) | AN16: Turn and Burn
D17: 0.0034722222 | E17: Warmup/Cooldown | F17: Chalk Talk | G17: Whole Team | AA17: {=TRANSPOSE(_xlfn._xlws.FILTER( Drills_Drill, (Drills_Competency=$E17) * ( IF( PP_Template="Pee Wee", Drills_PW, IF( PP_Template="JV", Drills_JV, IF( PP_Template="Varsity", Drills_Varsity, Drills_VT ) ) ) = "X" ), "No matching drills" ))} -> Pin up | AB17: Dynamic Stretching Routine | AC17: Sprints | AD17: Chalk Talk | AE17: Water Break
AA18: {=TRANSPOSE(_xlfn._xlws.FILTER( Drills_Drill, (Drills_Competency=$E18) * ( IF( PP_Template="Pee Wee", Drills_PW, IF( PP_Template="JV", Drills_JV, IF( PP_Template="Varsity", Drills_Varsity, Drills_VT ) ) ) = "X" ), "No matching drills" ))} -> No matching drills
AA19: {=TRANSPOSE(_xlfn._xlws.FILTER( Drills_Drill, (Drills_Competency=$E19) * ( IF( PP_Template="Pee Wee", Drills_PW, IF( PP_Template="JV", Drills_JV, IF( PP_Template="Varsity", Drills_Varsity, Drills_VT ) ) ) = "X" ), "No matching drills" ))} -> No matching drills
AA20: {=TRANSPOSE(_xlfn._xlws.FILTER( Drills_Drill, (Drills_Competency=$E20) * ( IF( PP_Template="Pee Wee", Drills_PW, IF( PP_Template="JV", Drills_JV, IF( PP_Template="Varsity", Drills_Varsity, Drills_VT ) ) ) = "X" ), "No matching drills" ))} -> No matching drills
AA21: {=TRANSPOSE(_xlfn._xlws.FILTER( Drills_Drill, (Drills_Competency=$E21) * ( IF( PP_Template="Pee Wee", Drills_PW, IF( PP_Template="JV", Drills_JV, IF( PP_Template="Varsity", Drills_Varsity, Drills_VT ) ) ) = "X" ), "No matching drills" ))} -> No matching drills
B22: Week 1 Thursday (All CG) | C22: =IF(B22="","",SUM(D22:D39)) -> 0.061111111 | D22: 0.0013888889 | E22: Warmup/Cooldown | F22: Pin up | G22: Whole Team | AA22: {=TRANSPOSE(_xlfn._xlws.FILTER( Drills_Drill, (Drills_Competency=$E22) * ( IF( PP_Template="Pee Wee", Drills_PW, IF( PP_Template="JV", Drills_JV, IF( PP_Template="Varsity", Drills_Varsity, Drills_VT ) ) ) = "X" ), "No matching drills" ))} -> Pin up | AB22: Dynamic Stretching Routine | AC22: Sprints | AD22: Chalk Talk | AE22: Water Break
D23: 0.010416667 | E23: Warmup/Cooldown | F23: Dynamic Stretching Routine | G23: Whole Team | AA23: {=TRANSPOSE(_xlfn._xlws.FILTER( Drills_Drill, (Drills_Competency=$E23) * ( IF( PP_Template="Pee Wee", Drills_PW, IF( PP_Template="JV", Drills_JV, IF( PP_Template="Varsity", Drills_Varsity, Drills_VT ) ) ) = "X" ), "No matching drills" ))} -> Pin up | AB23: Dynamic Stretching Routine | AC23: Sprints | AD23: Chalk Talk | AE23: Water Break
D24: 0.0055555556 | E24: Agility | F24: Zig Zag Footwork Drill | G24: 1 | AA24: {=TRANSPOSE(_xlfn._xlws.FILTER( Drills_Drill, (Drills_Competency=$E24) * ( IF( PP_Template="Pee Wee", Drills_PW, IF( PP_Template="JV", Drills_JV, IF( PP_Template="Varsity", Drills_Varsity, Drills_VT ) ) ) = "X" ), "No matching drills" ))} -> Zig Zag Footwork Drill | AB24: L-Drill | AC24: T-Drill | AD24: Sideline Tackle Drill | AE24: Box Drill | AF24: Bag Drills | AG24: LB Box Drill | AH24: LB X-Mas Tree Drill | AI24: Defensive Back Drill | AJ24: Agility Ladder Drills | AK24: Mirror Drill | AL24: DB Call-out Drill (Right, Left, Back)
D25: 0.0055555556 | E25: Agility | F25: T-Drill | G25: 2 | AA25: {=TRANSPOSE(_xlfn._xlws.FILTER( Drills_Drill, (Drills_Competency=$E25) * ( IF( PP_Template="Pee Wee", Drills_PW, IF( PP_Template="JV", Drills_JV, IF( PP_Template="Varsity", Drills_Varsity, Drills_VT ) ) ) = "X" ), "No matching drills" ))} -> Zig Zag Footwork Drill | AB25: L-Drill | AC25: T-Drill | AD25: Sideline Tackle Drill | AE25: Box Drill | AF25: Bag Drills | AG25: LB Box Drill | AH25: LB X-Mas Tree Drill | AI25: Defensive Back Drill | AJ25: Agility Ladder Drills | AK25: Mirror Drill | AL25: DB Call-out Drill (Right, Left, Back)
D26: 0.0055555556 | E26: Agility | F26: LB X-Mas Tree Drill | G26: 3 | AA26: {=TRANSPOSE(_xlfn._xlws.FILTER( Drills_Drill, (Drills_Competency=$E26) * ( IF( PP_Template="Pee Wee", Drills_PW, IF( PP_Template="JV", Drills_JV, IF( PP_Template="Varsity", Drills_Varsity, Drills_VT ) ) ) = "X" ), "No matching drills" ))} -> Zig Zag Footwork Drill | AB26: L-Drill | AC26: T-Drill | AD26: Sideline Tackle Drill | AE26: Box Drill | AF26: Bag Drills | AG26: LB Box Drill | AH26: LB X-Mas Tree Drill | AI26: Defensive Back Drill | AJ26: Agility Ladder Drills | AK26: Mirror Drill | AL26: DB Call-out Drill (Right, Left, Back)
D27: 0.0055555556 | E27: Agility | F27: Mirror Drill | G27: 4 | AA27: {=TRANSPOSE(_xlfn._xlws.FILTER( Drills_Drill, (Drills_Competency=$E27) * ( IF( PP_Template="Pee Wee", Drills_PW, IF( PP_Template="JV", Drills_JV, IF( PP_Template="Varsity", Drills_Varsity, Drills_VT ) ) ) = "X" ), "No matching drills" ))} -> Zig Zag Footwork Drill | AB27: L-Drill | AC27: T-Drill | AD27: Sideline Tackle Drill | AE27: Box Drill | AF27: Bag Drills | AG27: LB Box Drill | AH27: LB X-Mas Tree Drill | AI27: Defensive Back Drill | AJ27: Agility Ladder Drills | AK27: Mirror Drill | AL27: DB Call-out Drill (Right, Left, Back)
D28: 0.0013888889 | E28: Warmup/Cooldown | F28: Water Break | G28: Whole Team | AA28: {=TRANSPOSE(_xlfn._xlws.FILTER( Drills_Drill, (Drills_Competency=$E28) * ( IF( PP_Template="Pee Wee", Drills_PW, IF( PP_Template="JV", Drills_JV, IF( PP_Template="Varsity", Drills_Varsity, Drills_VT ) ) ) = "X" ), "No matching drills" ))} -> Pin up | AB28: Dynamic Stretching Routine | AC28: Sprints | AD28: Chalk Talk | AE28: Water Break
D29: 0.0055555556 | E29: Fundamentals | F29: RB Stance - First Step Explosion | G29: 5 | AA29: {=TRANSPOSE(_xlfn._xlws.FILTER( Drills_Drill, (Drills_Competency=$E29) * ( IF( PP_Template="Pee Wee", Drills_PW, IF( PP_Template="JV", Drills_JV, IF( PP_Template="Varsity", Drills_Varsity, Drills_VT ) ) ) = "X" ), "No matching drills" ))} -> QB Footwork - 3 Step Drop | AB29: QB Footwork - Fake Handoff Rollout | AC29: QB Footwork - Toss/Pitch | AD29: Receiver Stance - First Step Explosion | AE29: RB Stance - First Step Explosion | AF29: 3 Point Stance - First Step Explosion | AG29: Cadence Quick Sprint | AH29: Handoff footwork - RB | AI29: Handoff footwork - QB | AJ29: Handoff footwork - QB & RB | AK29: Pass Patterns - WR | AL29: Ball Security Overview | AM29: Gauntlet Drill (Ball Security) | AN29: Turn and Burn
D30: 0.0055555556 | E30: Fundamentals | F30: Turn and Burn | G30: 6 | AA30: {=TRANSPOSE(_xlfn._xlws.FILTER( Drills_Drill, (Drills_Competency=$E30) * ( IF( PP_Template="Pee Wee", Drills_PW, IF( PP_Template="JV", Drills_JV, IF( PP_Template="Varsity", Drills_Varsity, Drills_VT ) ) ) = "X" ), "No matching drills" ))} -> QB Footwork - 3 Step Drop | AB30: QB Footwork - Fake Handoff Rollout | AC30: QB Footwork - Toss/Pitch | AD30: Receiver Stance - First Step Explosion | AE30: RB Stance - First Step Explosion | AF30: 3 Point Stance - First Step Explosion | AG30: Cadence Quick Sprint | AH30: Handoff footwork - RB | AI30: Handoff footwork - QB | AJ30: Handoff footwork - QB & RB | AK30: Pass Patterns - WR | AL30: Ball Security Overview | AM30: Gauntlet Drill (Ball Security) | AN30: Turn and Burn
D31: 0.0055555556 | E31: Fundamentals | F31: Pass Patterns - WR | G31: 7 | AA31: {=TRANSPOSE(_xlfn._xlws.FILTER( Drills_Drill, (Drills_Competency=$E31) * ( IF( PP_Template="Pee Wee", Drills_PW, IF( PP_Template="JV", Drills_JV, IF( PP_Template="Varsity", Drills_Varsity, Drills_VT ) ) ) = "X" ), "No matching drills" ))} -> QB Footwork - 3 Step Drop | AB31: QB Footwork - Fake Handoff Rollout | AC31: QB Footwork - Toss/Pitch | AD31: Receiver Stance - First Step Explosion | AE31: RB Stance - First Step Explosion | AF31: 3 Point Stance - First Step Explosion | AG31: Cadence Quick Sprint | AH31: Handoff footwork - RB | AI31: Handoff footwork - QB | AJ31: Handoff footwork - QB & RB | AK31: Pass Patterns - WR | AL31: Ball Security Overview | AM31: Gauntlet Drill (Ball Security) | AN31: Turn and Burn
D32: 0.0055555556 | E32: Fundamentals | F32: Handoff footwork - QB & RB | G32: 8 | AA32: {=TRANSPOSE(_xlfn._xlws.FILTER( Drills_Drill, (Drills_Competency=$E32) * ( IF( PP_Template="Pee Wee", Drills_PW, IF( PP_Template="JV", Drills_JV, IF( PP_Template="Varsity", Drills_Varsity, Drills_VT ) ) ) = "X" ), "No matching drills" ))} -> QB Footwork - 3 Step Drop | AB32: QB Footwork - Fake Handoff Rollout | AC32: QB Footwork - Toss/Pitch | AD32: Receiver Stance - First Step Explosion | AE32: RB Stance - First Step Explosion | AF32: 3 Point Stance - First Step Explosion | AG32: Cadence Quick Sprint | AH32: Handoff footwork - RB | AI32: Handoff footwork - QB | AJ32: Handoff footwork - QB & RB | AK32: Pass Patterns - WR | AL32: Ball Security Overview | AM32: Gauntlet Drill (Ball Security) | AN32: Turn and Burn
D33: 0.0034722222 | E33: Warmup/Cooldown | F33: Chalk Talk | G33: Whole Team | AA33: {=TRANSPOSE(_xlfn._xlws.FILTER( Drills_Drill, (Drills_Competency=$E33) * ( IF( PP_Template="Pee Wee", Drills_PW, IF( PP_Template="JV", Drills_JV, IF( PP_Template="Varsity", Drills_Varsity, Drills_VT ) ) ) = "X" ), "No matching drills" ))} -> Pin up | AB33: Dynamic Stretching Routine | AC33: Sprints | AD33: Chalk Talk | AE33: Water Break
AA34: {=TRANSPOSE(_xlfn._xlws.FILTER( Drills_Drill, (Drills_Competency=$E34) * ( IF( PP_Template="Pee Wee", Drills_PW, IF( PP_Template="JV", Drills_JV, IF( PP_Template="Varsity", Drills_Varsity, Drills_VT ) ) ) = "X" ), "No matching drills" ))} -> No matching drills
AA35: {=TRANSPOSE(_xlfn._xlws.FILTER( Drills_Drill, (Drills_Competency=$E35) * ( IF( PP_Template="Pee Wee", Drills_PW, IF( PP_Template="JV", Drills_JV, IF( PP_Template="Varsity", Drills_Varsity, Drills_VT ) ) ) = "X" ), "No matching drills" ))} -> No matching drills
AA36: {=TRANSPOSE(_xlfn._xlws.FILTER( Drills_Drill, (Drills_Competency=$E36) * ( IF( PP_Template="Pee Wee", Drills_PW, IF( PP_Template="JV", Drills_JV, IF( PP_Template="Varsity", Drills_Varsity, Drills_VT ) ) ) = "X" ), "No matching drills" ))} -> No matching drills
AA37: {=TRANSPOSE(_xlfn._xlws.FILTER( Drills_Drill, (Drills_Competency=$E37) * ( IF( PP_Template="Pee Wee", Drills_PW, IF( PP_Template="JV", Drills_JV, IF( PP_Template="Varsity", Drills_Varsity, Drills_VT ) ) ) = "X" ), "No matching drills" ))} -> No matching drills
AA38: {=TRANSPOSE(_xlfn._xlws.FILTER( Drills_Drill, (Drills_Competency=$E38) * ( IF( PP_Template="Pee Wee", Drills_PW, IF( PP_Template="JV", Drills_JV, IF( PP_Template="Varsity", Drills_Varsity, Drills_VT ) ) ) = "X" ), "No matching drills" ))} -> No matching drills
AA39: {=TRANSPOSE(_xlfn._xlws.FILTER( Drills_Drill, (Drills_Competency=$E39) * ( IF( PP_Template="Pee Wee", Drills_PW, IF( PP_Template="JV", Drills_JV, IF( PP_Template="Varsity", Drills_Varsity, Drills_VT ) ) ) = "X" ), "No matching drills" ))} -> No matching drills
B40: Week 2 Tuesday | C40: =IF(B40="","",SUM(D40:D57)) -> 0 | AA40: {=TRANSPOSE(_xlfn._xlws.FILTER( Drills_Drill, (Drills_Competency=$E40) * ( IF( PP_Template="Pee Wee", Drills_PW, IF( PP_Template="JV", Drills_JV, IF( PP_Template="Varsity", Drills_Varsity, Drills_VT ) ) ) = "X" ), "No matching drills" ))} -> No matching drills
AA41: {=TRANSPOSE(_xlfn._xlws.FILTER( Drills_Drill, (Drills_Competency=$E41) * ( IF( PP_Template="Pee Wee", Drills_PW, IF( PP_Template="JV", Drills_JV, IF( PP_Template="Varsity", Drills_Varsity, Drills_VT ) ) ) = "X" ), "No matching drills" ))} -> No matching drills
AA42: {=TRANSPOSE(_xlfn._xlws.FILTER( Drills_Drill, (Drills_Competency=$E42) * ( IF( PP_Template="Pee Wee", Drills_PW, IF( PP_Template="JV", Drills_JV, IF( PP_Template="Varsity", Drills_Varsity, Drills_VT ) ) ) = "X" ), "No matching drills" ))} -> No matching drills
AA43: {=TRANSPOSE(_xlfn._xlws.FILTER( Drills_Drill, (Drills_Competency=$E43) * ( IF( PP_Template="Pee Wee", Drills_PW, IF( PP_Template="JV", Drills_JV, IF( PP_Template="Varsity", Drills_Varsity, Drills_VT ) ) ) = "X" ), "No matching drills" ))} -> No matching drills
AA44: {=TRANSPOSE(_xlfn._xlws.FILTER( Drills_Drill, (Drills_Competency=$E44) * ( IF( PP_Template="Pee Wee", Drills_PW, IF( PP_Template="JV", Drills_JV, IF( PP_Template="Varsity", Drills_Varsity, Drills_VT ) ) ) = "X" ), "No matching drills" ))} -> No matching drills
AA45: {=TRANSPOSE(_xlfn._xlws.FILTER( Drills_Drill, (Drills_Competency=$E45) * ( IF( PP_Template="Pee Wee", Drills_PW, IF( PP_Template="JV", Drills_JV, IF( PP_Template="Varsity", Drills_Varsity, Drills_VT ) ) ) = "X" ), "No matching drills" ))} -> No matching drills
AA46: {=TRANSPOSE(_xlfn._xlws.FILTER( Drills_Drill, (Drills_Competency=$E46) * ( IF( PP_Template="Pee Wee", Drills_PW, IF( PP_Template="JV", Drills_JV, IF( PP_Template="Varsity", Drills_Varsity, Drills_VT ) ) ) = "X" ), "No matching drills" ))} -> No matching drills
AA47: {=TRANSPOSE(_xlfn._xlws.FILTER( Drills_Drill, (Drills_Competency=$E47) * ( IF( PP_Template="Pee Wee", Drills_PW, IF( PP_Template="JV", Drills_JV, IF( PP_Template="Varsity", Drills_Varsity, Drills_VT ) ) ) = "X" ), "No matching drills" ))} -> No matching drills
AA48: {=TRANSPOSE(_xlfn._xlws.FILTER( Drills_Drill, (Drills_Competency=$E48) * ( IF( PP_Template="Pee Wee", Drills_PW, IF( PP_Template="JV", Drills_JV, IF( PP_Template="Varsity", Drills_Varsity, Drills_VT ) ) ) = "X" ), "No matching drills" ))} -> No matching drills
AA49: {=TRANSPOSE(_xlfn._xlws.FILTER( Drills_Drill, (Drills_Competency=$E49) * ( IF( PP_Template="Pee Wee", Drills_PW, IF( PP_Template="JV", Drills_JV, IF( PP_Template="Varsity", Drills_Varsity, Drills_VT ) ) ) = "X" ), "No matching drills" ))} -> No matching drills
AA50: {=TRANSPOSE(_xlfn._xlws.FILTER( Drills_Drill, (Drills_Competency=$E50) * ( IF( PP_Template="Pee Wee", Drills_PW, IF( PP_Template="JV", Drills_JV, IF( PP_Template="Varsity", Drills_Varsity, Drills_VT ) ) ) = "X" ), "No matching drills" ))} -> No matching drills
AA51: {=TRANSPOSE(_xlfn._xlws.FILTER( Drills_Drill, (Drills_Competency=$E51) * ( IF( PP_Template="Pee Wee", Drills_PW, IF( PP_Template="JV", Drills_JV, IF( PP_Template="Varsity", Drills_Varsity, Drills_VT ) ) ) = "X" ), "No matching drills" ))} -> No matching drills
AA52: {=TRANSPOSE(_xlfn._xlws.FILTER( Drills_Drill, (Drills_Competency=$E52) * ( IF( PP_Template="Pee Wee", Drills_PW, IF( PP_Template="JV", Drills_JV, IF( PP_Template="Varsity", Drills_Varsity, Drills_VT ) ) ) = "X" ), "No matching drills" ))} -> No matching drills
... AA57: {=TRANSPOSE(_xlfn._xlws.FILTER( Drills_Drill, (Drills_Competency=$E57) * ( IF( PP_Template="Pee Wee", Drills_PW, IF( PP_Template="JV", Drills_JV, IF( PP_Template="Varsity", Drills_Varsity, Drills_VT ) ) ) = "X" ), "No matching drills" ))} -> No matching drills
B58: Week 2 Thursday | C58: =IF(B58="","",SUM(D58:D75)) -> 0 | AA58: {=TRANSPOSE(_xlfn._xlws.FILTER( Drills_Drill, (Drills_Competency=$E58) * ( IF( PP_Template="Pee Wee", Drills_PW, IF( PP_Template="JV", Drills_JV, IF( PP_Template="Varsity", Drills_Varsity, Drills_VT ) ) ) = "X" ), "No matching drills" ))} -> No matching drills
AA59: {=TRANSPOSE(_xlfn._xlws.FILTER( Drills_Drill, (Drills_Competency=$E59) * ( IF( PP_Template="Pee Wee", Drills_PW, IF( PP_Template="JV", Drills_JV, IF( PP_Template="Varsity", Drills_Varsity, Drills_VT ) ) ) = "X" ), "No matching drills" ))} -> No matching drills
AA60: {=TRANSPOSE(_xlfn._xlws.FILTER( Drills_Drill, (Drills_Competency=$E60) * ( IF( PP_Template="Pee Wee", Drills_PW, IF( PP_Template="JV", Drills_JV, IF( PP_Template="Varsity", Drills_Varsity, Drills_VT ) ) ) = "X" ), "No matching drills" ))} -> No matching drills
AA61: {=TRANSPOSE(_xlfn._xlws.FILTER( Drills_Drill, (Drills_Competency=$E61) * ( IF( PP_Template="Pee Wee", Drills_PW, IF( PP_Template="JV", Drills_JV, IF( PP_Template="Varsity", Drills_Varsity, Drills_VT ) ) ) = "X" ), "No matching drills" ))} -> No matching drills
AA62: {=TRANSPOSE(_xlfn._xlws.FILTER( Drills_Drill, (Drills_Competency=$E62) * ( IF( PP_Template="Pee Wee", Drills_PW, IF( PP_Template="JV", Drills_JV, IF( PP_Template="Varsity", Drills_Varsity, Drills_VT ) ) ) = "X" ), "No matching drills" ))} -> No matching drills
AA63: {=TRANSPOSE(_xlfn._xlws.FILTER( Drills_Drill, (Drills_Competency=$E63) * ( IF( PP_Template="Pee Wee", Drills_PW, IF( PP_Template="JV", Drills_JV, IF( PP_Template="Varsity", Drills_Varsity, Drills_VT ) ) ) = "X" ), "No matching drills" ))} -> No matching drills
AA64: {=TRANSPOSE(_xlfn._xlws.FILTER( Drills_Drill, (Drills_Competency=$E64) * ( IF( PP_Template="Pee Wee", Drills_PW, IF( PP_Template="JV", Drills_JV, IF( PP_Template="Varsity", Drills_Varsity, Drills_VT ) ) ) = "X" ), "No matching drills" ))} -> No matching drills
AA65: {=TRANSPOSE(_xlfn._xlws.FILTER( Drills_Drill, (Drills_Competency=$E65) * ( IF( PP_Template="Pee Wee", Drills_PW, IF( PP_Template="JV", Drills_JV, IF( PP_Template="Varsity", Drills_Varsity, Drills_VT ) ) ) = "X" ), "No matching drills" ))} -> No matching drills
AA66: {=TRANSPOSE(_xlfn._xlws.FILTER( Drills_Drill, (Drills_Competency=$E66) * ( IF( PP_Template="Pee Wee", Drills_PW, IF( PP_Template="JV", Drills_JV, IF( PP_Template="Varsity", Drills_Varsity, Drills_VT ) ) ) = "X" ), "No matching drills" ))} -> No matching drills
AA67: {=TRANSPOSE(_xlfn._xlws.FILTER( Drills_Drill, (Drills_Competency=$E67) * ( IF( PP_Template="Pee Wee", Drills_PW, IF( PP_Template="JV", Drills_JV, IF( PP_Template="Varsity", Drills_Varsity, Drills_VT ) ) ) = "X" ), "No matching drills" ))} -> No matching drills
AA68: {=TRANSPOSE(_xlfn._xlws.FILTER( Drills_Drill, (Drills_Competency=$E68) * ( IF( PP_Template="Pee Wee", Drills_PW, IF( PP_Template="JV", Drills_JV, IF( PP_Template="Varsity", Drills_Varsity, Drills_VT ) ) ) = "X" ), "No matching drills" ))} -> No matching drills
AA69: {=TRANSPOSE(_xlfn._xlws.FILTER( Drills_Drill, (Drills_Competency=$E69) * ( IF( PP_Template="Pee Wee", Drills_PW, IF( PP_Template="JV", Drills_JV, IF( PP_Template="Varsity", Drills_Varsity, Drills_VT ) ) ) = "X" ), "No matching drills" ))} -> No matching drills
AA70: {=TRANSPOSE(_xlfn._xlws.FILTER( Drills_Drill, (Drills_Competency=$E70) * ( IF( PP_Template="Pee Wee", Drills_PW, IF( PP_Template="JV", Drills_JV, IF( PP_Template="Varsity", Drills_Varsity, Drills_VT ) ) ) = "X" ), "No matching drills" ))} -> No matching drills
... AA75: {=TRANSPOSE(_xlfn._xlws.FILTER( Drills_Drill, (Drills_Competency=$E75) * ( IF( PP_Template="Pee Wee", Drills_PW, IF( PP_Template="JV", Drills_JV, IF( PP_Template="Varsity", Drills_Varsity, Drills_VT ) ) ) = "X" ), "No matching drills" ))} -> No matching drills
B76: Week 3 Tuesday | C76: =IF(B76="","",SUM(D76:D93)) -> 0 | AA76: {=TRANSPOSE(_xlfn._xlws.FILTER( Drills_Drill, (Drills_Competency=$E76) * ( IF( PP_Template="Pee Wee", Drills_PW, IF( PP_Template="JV", Drills_JV, IF( PP_Template="Varsity", Drills_Varsity, Drills_VT ) ) ) = "X" ), "No matching drills" ))} -> No matching drills
AA77: {=TRANSPOSE(_xlfn._xlws.FILTER( Drills_Drill, (Drills_Competency=$E77) * ( IF( PP_Template="Pee Wee", Drills_PW, IF( PP_Template="JV", Drills_JV, IF( PP_Template="Varsity", Drills_Varsity, Drills_VT ) ) ) = "X" ), "No matching drills" ))} -> No matching drills
AA78: {=TRANSPOSE(_xlfn._xlws.FILTER( Drills_Drill, (Drills_Competency=$E78) * ( IF( PP_Template="Pee Wee", Drills_PW, IF( PP_Template="JV", Drills_JV, IF( PP_Template="Varsity", Drills_Varsity, Drills_VT ) ) ) = "X" ), "No matching drills" ))} -> No matching drills
AA79: {=TRANSPOSE(_xlfn._xlws.FILTER( Drills_Drill, (Drills_Competency=$E79) * ( IF( PP_Template="Pee Wee", Drills_PW, IF( PP_Template="JV", Drills_JV, IF( PP_Template="Varsity", Drills_Varsity, Drills_VT ) ) ) = "X" ), "No matching drills" ))} -> No matching drills
AA80: {=TRANSPOSE(_xlfn._xlws.FILTER( Drills_Drill, (Drills_Competency=$E80) * ( IF( PP_Template="Pee Wee", Drills_PW, IF( PP_Template="JV", Drills_JV, IF( PP_Template="Varsity", Drills_Varsity, Drills_VT ) ) ) = "X" ), "No matching drills" ))} -> No matching drills
AA81: {=TRANSPOSE(_xlfn._xlws.FILTER( Drills_Drill, (Drills_Competency=$E81) * ( IF( PP_Template="Pee Wee", Drills_PW, IF( PP_Template="JV", Drills_JV, IF( PP_Template="Varsity", Drills_Varsity, Drills_VT ) ) ) = "X" ), "No matching drills" ))} -> No matching drills
AA82: {=TRANSPOSE(_xlfn._xlws.FILTER( Drills_Drill, (Drills_Competency=$E82) * ( IF( PP_Template="Pee Wee", Drills_PW, IF( PP_Template="JV", Drills_JV, IF( PP_Template="Varsity", Drills_Varsity, Drills_VT ) ) ) = "X" ), "No matching drills" ))} -> No matching drills
AA83: {=TRANSPOSE(_xlfn._xlws.FILTER( Drills_Drill, (Drills_Competency=$E83) * ( IF( PP_Template="Pee Wee", Drills_PW, IF( PP_Template="JV", Drills_JV, IF( PP_Template="Varsity", Drills_Varsity, Drills_VT ) ) ) = "X" ), "No matching drills" ))} -> No matching drills
AA84: {=TRANSPOSE(_xlfn._xlws.FILTER( Drills_Drill, (Drills_Competency=$E84) * ( IF( PP_Template="Pee Wee", Drills_PW, IF( PP_Template="JV", Drills_JV, IF( PP_Template="Varsity", Drills_Varsity, Drills_VT ) ) ) = "X" ), "No matching drills" ))} -> No matching drills
AA85: {=TRANSPOSE(_xlfn._xlws.FILTER( Drills_Drill, (Drills_Competency=$E85) * ( IF( PP_Template="Pee Wee", Drills_PW, IF( PP_Template="JV", Drills_JV, IF( PP_Template="Varsity", Drills_Varsity, Drills_VT ) ) ) = "X" ), "No matching drills" ))} -> No matching drills
AA86: {=TRANSPOSE(_xlfn._xlws.FILTER( Drills_Drill, (Drills_Competency=$E86) * ( IF( PP_Template="Pee Wee", Drills_PW, IF( PP_Template="JV", Drills_JV, IF( PP_Template="Varsity", Drills_Varsity, Drills_VT ) ) ) = "X" ), "No matching drills" ))} -> No matching drills
AA87: {=TRANSPOSE(_xlfn._xlws.FILTER( Drills_Drill, (Drills_Competency=$E87) * ( IF( PP_Template="Pee Wee", Drills_PW, IF( PP_Template="JV", Drills_JV, IF( PP_Template="Varsity", Drills_Varsity, Drills_VT ) ) ) = "X" ), "No matching drills" ))} -> No matching drills
AA88: {=TRANSPOSE(_xlfn._xlws.FILTER( Drills_Drill, (Drills_Competency=$E88) * ( IF( PP_Template="Pee Wee", Drills_PW, IF( PP_Template="JV", Drills_JV, IF( PP_Template="Varsity", Drills_Varsity, Drills_VT ) ) ) = "X" ), "No matching drills" ))} -> No matching drills
... AA93: {=TRANSPOSE(_xlfn._xlws.FILTER( Drills_Drill, (Drills_Competency=$E93) * ( IF( PP_Template="Pee Wee", Drills_PW, IF( PP_Template="JV", Drills_JV, IF( PP_Template="Varsity", Drills_Varsity, Drills_VT ) ) ) = "X" ), "No matching drills" ))} -> No matching drills
B94: Week 4 Thursday | C94: =IF(B94="","",SUM(D94:D111)) -> 0 | AA94: {=TRANSPOSE(_xlfn._xlws.FILTER( Drills_Drill, (Drills_Competency=$E94) * ( IF( PP_Template="Pee Wee", Drills_PW, IF( PP_Template="JV", Drills_JV, IF( PP_Template="Varsity", Drills_Varsity, Drills_VT ) ) ) = "X" ), "No matching drills" ))} -> No matching drills
AA95: {=TRANSPOSE(_xlfn._xlws.FILTER( Drills_Drill, (Drills_Competency=$E95) * ( IF( PP_Template="Pee Wee", Drills_PW, IF( PP_Template="JV", Drills_JV, IF( PP_Template="Varsity", Drills_Varsity, Drills_VT ) ) ) = "X" ), "No matching drills" ))} -> No matching drills
AA96: {=TRANSPOSE(_xlfn._xlws.FILTER( Drills_Drill, (Drills_Competency=$E96) * ( IF( PP_Template="Pee Wee", Drills_PW, IF( PP_Template="JV", Drills_JV, IF( PP_Template="Varsity", Drills_Varsity, Drills_VT ) ) ) = "X" ), "No matching drills" ))} -> No matching drills
AA97: {=TRANSPOSE(_xlfn._xlws.FILTER( Drills_Drill, (Drills_Competency=$E97) * ( IF( PP_Template="Pee Wee", Drills_PW, IF( PP_Template="JV", Drills_JV, IF( PP_Template="Varsity", Drills_Varsity, Drills_VT ) ) ) = "X" ), "No matching drills" ))} -> No matching drills
AA98: {=TRANSPOSE(_xlfn._xlws.FILTER( Drills_Drill, (Drills_Competency=$E98) * ( IF( PP_Template="Pee Wee", Drills_PW, IF( PP_Template="JV", Drills_JV, IF( PP_Template="Varsity", Drills_Varsity, Drills_VT ) ) ) = "X" ), "No matching drills" ))} -> No matching drills
AA99: {=TRANSPOSE(_xlfn._xlws.FILTER( Drills_Drill, (Drills_Competency=$E99) * ( IF( PP_Template="Pee Wee", Drills_PW, IF( PP_Template="JV", Drills_JV, IF( PP_Template="Varsity", Drills_Varsity, Drills_VT ) ) ) = "X" ), "No matching drills" ))} -> No matching drills
AA100: {=TRANSPOSE(_xlfn._xlws.FILTER( Drills_Drill, (Drills_Competency=$E100) * ( IF( PP_Template="Pee Wee", Drills_PW, IF( PP_Template="JV", Drills_JV, IF( PP_Template="Varsity", Drills_Varsity, Drills_VT ) ) ) = "X" ), "No matching drills" ))} -> No matching drills
AA101: {=TRANSPOSE(_xlfn._xlws.FILTER( Drills_Drill, (Drills_Competency=$E101) * ( IF( PP_Template="Pee Wee", Drills_PW, IF( PP_Template="JV", Drills_JV, IF( PP_Template="Varsity", Drills_Varsity, Drills_VT ) ) ) = "X" ), "No matching drills" ))} -> No matching drills
AA102: {=TRANSPOSE(_xlfn._xlws.FILTER( Drills_Drill, (Drills_Competency=$E102) * ( IF( PP_Template="Pee Wee", Drills_PW, IF( PP_Template="JV", Drills_JV, IF( PP_Template="Varsity", Drills_Varsity, Drills_VT ) ) ) = "X" ), "No matching drills" ))} -> No matching drills
AA103: {=TRANSPOSE(_xlfn._xlws.FILTER( Drills_Drill, (Drills_Competency=$E103) * ( IF( PP_Template="Pee Wee", Drills_PW, IF( PP_Template="JV", Drills_JV, IF( PP_Template="Varsity", Drills_Varsity, Drills_VT ) ) ) = "X" ), "No matching drills" ))} -> No matching drills
AA104: {=TRANSPOSE(_xlfn._xlws.FILTER( Drills_Drill, (Drills_Competency=$E104) * ( IF( PP_Template="Pee Wee", Drills_PW, IF( PP_Template="JV", Drills_JV, IF( PP_Template="Varsity", Drills_Varsity, Drills_VT ) ) ) = "X" ), "No matching drills" ))} -> No matching drills
AA105: {=TRANSPOSE(_xlfn._xlws.FILTER( Drills_Drill, (Drills_Competency=$E105) * ( IF( PP_Template="Pee Wee", Drills_PW, IF( PP_Template="JV", Drills_JV, IF( PP_Template="Varsity", Drills_Varsity, Drills_VT ) ) ) = "X" ), "No matching drills" ))} -> No matching drills
AA106: {=TRANSPOSE(_xlfn._xlws.FILTER( Drills_Drill, (Drills_Competency=$E106) * ( IF( PP_Template="Pee Wee", Drills_PW, IF( PP_Template="JV", Drills_JV, IF( PP_Template="Varsity", Drills_Varsity, Drills_VT ) ) ) = "X" ), "No matching drills" ))} -> No matching drills
... AA111: {=TRANSPOSE(_xlfn._xlws.FILTER( Drills_Drill, (Drills_Competency=$E111) * ( IF( PP_Template="Pee Wee", Drills_PW, IF( PP_Template="JV", Drills_JV, IF( PP_Template="Varsity", Drills_Varsity, Drills_VT ) ) ) = "X" ), "No matching drills" ))} -> No matching drills
B112: Week 5 Tuesday | C112: =IF(B112="","",SUM(D112:D129)) -> 0 | AA112: {=TRANSPOSE(_xlfn._xlws.FILTER( Drills_Drill, (Drills_Competency=$E112) * ( IF( PP_Template="Pee Wee", Drills_PW, IF( PP_Template="JV", Drills_JV, IF( PP_Template="Varsity", Drills_Varsity, Drills_VT ) ) ) = "X" ), "No matching drills" ))} -> No matching drills
AA113: {=TRANSPOSE(_xlfn._xlws.FILTER( Drills_Drill, (Drills_Competency=$E113) * ( IF( PP_Template="Pee Wee", Drills_PW, IF( PP_Template="JV", Drills_JV, IF( PP_Template="Varsity", Drills_Varsity, Drills_VT ) ) ) = "X" ), "No matching drills" ))} -> No matching drills
AA114: {=TRANSPOSE(_xlfn._xlws.FILTER( Drills_Drill, (Drills_Competency=$E114) * ( IF( PP_Template="Pee Wee", Drills_PW, IF( PP_Template="JV", Drills_JV, IF( PP_Template="Varsity", Drills_Varsity, Drills_VT ) ) ) = "X" ), "No matching drills" ))} -> No matching drills
AA115: {=TRANSPOSE(_xlfn._xlws.FILTER( Drills_Drill, (Drills_Competency=$E115) * ( IF( PP_Template="Pee Wee", Drills_PW, IF( PP_Template="JV", Drills_JV, IF( PP_Template="Varsity", Drills_Varsity, Drills_VT ) ) ) = "X" ), "No matching drills" ))} -> No matching drills
AA116: {=TRANSPOSE(_xlfn._xlws.FILTER( Drills_Drill, (Drills_Competency=$E116) * ( IF( PP_Template="Pee Wee", Drills_PW, IF( PP_Template="JV", Drills_JV, IF( PP_Template="Varsity", Drills_Varsity, Drills_VT ) ) ) = "X" ), "No matching drills" ))} -> No matching drills
AA117: {=TRANSPOSE(_xlfn._xlws.FILTER( Drills_Drill, (Drills_Competency=$E117) * ( IF( PP_Template="Pee Wee", Drills_PW, IF( PP_Template="JV", Drills_JV, IF( PP_Template="Varsity", Drills_Varsity, Drills_VT ) ) ) = "X" ), "No matching drills" ))} -> No matching drills
...

Sheet Tackle Practice Templates
D2: Varsity Tackle
B3: Practice Description | D3: Duration | E3: Competency | F3: Drill | G3: Station | AA3: Tackle Drill Options
B4: Week 1 Tuesday | C4: =IF(B4="","",SUM(D4:D21)) -> 0 | AA4: {=TRANSPOSE(_xlfn._xlws.FILTER( Drills_Drill, (Drills_Competency=$E4) * ( IF( PP_Template="Pee Wee", Drills_PW, IF( PP_Template="JV", Drills_JV, IF( PP_Template="Varsity", Drills_Varsity, Drills_VT ) ) ) = "X" ), "No matching drills" ))} -> No matching drills
AA5: {=TRANSPOSE(_xlfn._xlws.FILTER( Drills_Drill, (Drills_Competency=$E5) * ( IF( PP_Template="Pee Wee", Drills_PW, IF( PP_Template="JV", Drills_JV, IF( PP_Template="Varsity", Drills_Varsity, Drills_VT ) ) ) = "X" ), "No matching drills" ))} -> No matching drills
AA6: {=TRANSPOSE(_xlfn._xlws.FILTER( Drills_Drill, (Drills_Competency=$E6) * ( IF( PP_Template="Pee Wee", Drills_PW, IF( PP_Template="JV", Drills_JV, IF( PP_Template="Varsity", Drills_Varsity, Drills_VT ) ) ) = "X" ), "No matching drills" ))} -> No matching drills
AA7: {=TRANSPOSE(_xlfn._xlws.FILTER( Drills_Drill, (Drills_Competency=$E7) * ( IF( PP_Template="Pee Wee", Drills_PW, IF( PP_Template="JV", Drills_JV, IF( PP_Template="Varsity", Drills_Varsity, Drills_VT ) ) ) = "X" ), "No matching drills" ))} -> No matching drills
AA8: {=TRANSPOSE(_xlfn._xlws.FILTER( Drills_Drill, (Drills_Competency=$E8) * ( IF( PP_Template="Pee Wee", Drills_PW, IF( PP_Template="JV", Drills_JV, IF( PP_Template="Varsity", Drills_Varsity, Drills_VT ) ) ) = "X" ), "No matching drills" ))} -> No matching drills
AA9: {=TRANSPOSE(_xlfn._xlws.FILTER( Drills_Drill, (Drills_Competency=$E9) * ( IF( PP_Template="Pee Wee", Drills_PW, IF( PP_Template="JV", Drills_JV, IF( PP_Template="Varsity", Drills_Varsity, Drills_VT ) ) ) = "X" ), "No matching drills" ))} -> No matching drills
AA10: {=TRANSPOSE(_xlfn._xlws.FILTER( Drills_Drill, (Drills_Competency=$E10) * ( IF( PP_Template="Pee Wee", Drills_PW, IF( PP_Template="JV", Drills_JV, IF( PP_Template="Varsity", Drills_Varsity, Drills_VT ) ) ) = "X" ), "No matching drills" ))} -> No matching drills
AA11: {=TRANSPOSE(_xlfn._xlws.FILTER( Drills_Drill, (Drills_Competency=$E11) * ( IF( PP_Template="Pee Wee", Drills_PW, IF( PP_Template="JV", Drills_JV, IF( PP_Template="Varsity", Drills_Varsity, Drills_VT ) ) ) = "X" ), "No matching drills" ))} -> No matching drills
AA12: {=TRANSPOSE(_xlfn._xlws.FILTER( Drills_Drill, (Drills_Competency=$E12) * ( IF( PP_Template="Pee Wee", Drills_PW, IF( PP_Template="JV", Drills_JV, IF( PP_Template="Varsity", Drills_Varsity, Drills_VT ) ) ) = "X" ), "No matching drills" ))} -> No matching drills
AA13: {=TRANSPOSE(_xlfn._xlws.FILTER( Drills_Drill, (Drills_Competency=$E13) * ( IF( PP_Template="Pee Wee", Drills_PW, IF( PP_Template="JV", Drills_JV, IF( PP_Template="Varsity", Drills_Varsity, Drills_VT ) ) ) = "X" ), "No matching drills" ))} -> No matching drills
AA14: {=TRANSPOSE(_xlfn._xlws.FILTER( Drills_Drill, (Drills_Competency=$E14) * ( IF( PP_Template="Pee Wee", Drills_PW, IF( PP_Template="JV", Drills_JV, IF( PP_Template="Varsity", Drills_Varsity, Drills_VT ) ) ) = "X" ), "No matching drills" ))} -> No matching drills
AA15: {=TRANSPOSE(_xlfn._xlws.FILTER( Drills_Drill, (Drills_Competency=$E15) * ( IF( PP_Template="Pee Wee", Drills_PW, IF( PP_Template="JV", Drills_JV, IF( PP_Template="Varsity", Drills_Varsity, Drills_VT ) ) ) = "X" ), "No matching drills" ))} -> No matching drills
AA16: {=TRANSPOSE(_xlfn._xlws.FILTER( Drills_Drill, (Drills_Competency=$E16) * ( IF( PP_Template="Pee Wee", Drills_PW, IF( PP_Template="JV", Drills_JV, IF( PP_Template="Varsity", Drills_Varsity, Drills_VT ) ) ) = "X" ), "No matching drills" ))} -> No matching drills
... AA21: {=TRANSPOSE(_xlfn._xlws.FILTER( Drills_Drill, (Drills_Competency=$E21) * ( IF( PP_Template="Pee Wee", Drills_PW, IF( PP_Template="JV", Drills_JV, IF( PP_Template="Varsity", Drills_Varsity, Drills_VT ) ) ) = "X" ), "No matching drills" ))} -> No matching drills
B22: Week 1 Thursday | C22: =IF(B22="","",SUM(D22:D39)) -> 0 | AA22: {=TRANSPOSE(_xlfn._xlws.FILTER( Drills_Drill, (Drills_Competency=$E22) * ( IF( PP_Template="Pee Wee", Drills_PW, IF( PP_Template="JV", Drills_JV, IF( PP_Template="Varsity", Drills_Varsity, Drills_VT ) ) ) = "X" ), "No matching drills" ))} -> No matching drills
AA23: {=TRANSPOSE(_xlfn._xlws.FILTER( Drills_Drill, (Drills_Competency=$E23) * ( IF( PP_Template="Pee Wee", Drills_PW, IF( PP_Template="JV", Drills_JV, IF( PP_Template="Varsity", Drills_Varsity, Drills_VT ) ) ) = "X" ), "No matching drills" ))} -> No matching drills
AA24: {=TRANSPOSE(_xlfn._xlws.FILTER( Drills_Drill, (Drills_Competency=$E24) * ( IF( PP_Template="Pee Wee", Drills_PW, IF( PP_Template="JV", Drills_JV, IF( PP_Template="Varsity", Drills_Varsity, Drills_VT ) ) ) = "X" ), "No matching drills" ))} -> No matching drills
AA25: {=TRANSPOSE(_xlfn._xlws.FILTER( Drills_Drill, (Drills_Competency=$E25) * ( IF( PP_Template="Pee Wee", Drills_PW, IF( PP_Template="JV", Drills_JV, IF( PP_Template="Varsity", Drills_Varsity, Drills_VT ) ) ) = "X" ), "No matching drills" ))} -> No matching drills
AA26: {=TRANSPOSE(_xlfn._xlws.FILTER( Drills_Drill, (Drills_Competency=$E26) * ( IF( PP_Template="Pee Wee", Drills_PW, IF( PP_Template="JV", Drills_JV, IF( PP_Template="Varsity", Drills_Varsity, Drills_VT ) ) ) = "X" ), "No matching drills" ))} -> No matching drills
AA27: {=TRANSPOSE(_xlfn._xlws.FILTER( Drills_Drill, (Drills_Competency=$E27) * ( IF( PP_Template="Pee Wee", Drills_PW, IF( PP_Template="JV", Drills_JV, IF( PP_Template="Varsity", Drills_Varsity, Drills_VT ) ) ) = "X" ), "No matching drills" ))} -> No matching drills
AA28: {=TRANSPOSE(_xlfn._xlws.FILTER( Drills_Drill, (Drills_Competency=$E28) * ( IF( PP_Template="Pee Wee", Drills_PW, IF( PP_Template="JV", Drills_JV, IF( PP_Template="Varsity", Drills_Varsity, Drills_VT ) ) ) = "X" ), "No matching drills" ))} -> No matching drills
AA29: {=TRANSPOSE(_xlfn._xlws.FILTER( Drills_Drill, (Drills_Competency=$E29) * ( IF( PP_Template="Pee Wee", Drills_PW, IF( PP_Template="JV", Drills_JV, IF( PP_Template="Varsity", Drills_Varsity, Drills_VT ) ) ) = "X" ), "No matching drills" ))} -> No matching drills
AA30: {=TRANSPOSE(_xlfn._xlws.FILTER( Drills_Drill, (Drills_Competency=$E30) * ( IF( PP_Template="Pee Wee", Drills_PW, IF( PP_Template="JV", Drills_JV, IF( PP_Template="Varsity", Drills_Varsity, Drills_VT ) ) ) = "X" ), "No matching drills" ))} -> No matching drills
AA31: {=TRANSPOSE(_xlfn._xlws.FILTER( Drills_Drill, (Drills_Competency=$E31) * ( IF( PP_Template="Pee Wee", Drills_PW, IF( PP_Template="JV", Drills_JV, IF( PP_Template="Varsity", Drills_Varsity, Drills_VT ) ) ) = "X" ), "No matching drills" ))} -> No matching drills
AA32: {=TRANSPOSE(_xlfn._xlws.FILTER( Drills_Drill, (Drills_Competency=$E32) * ( IF( PP_Template="Pee Wee", Drills_PW, IF( PP_Template="JV", Drills_JV, IF( PP_Template="Varsity", Drills_Varsity, Drills_VT ) ) ) = "X" ), "No matching drills" ))} -> No matching drills
AA33: {=TRANSPOSE(_xlfn._xlws.FILTER( Drills_Drill, (Drills_Competency=$E33) * ( IF( PP_Template="Pee Wee", Drills_PW, IF( PP_Template="JV", Drills_JV, IF( PP_Template="Varsity", Drills_Varsity, Drills_VT ) ) ) = "X" ), "No matching drills" ))} -> No matching drills
AA34: {=TRANSPOSE(_xlfn._xlws.FILTER( Drills_Drill, (Drills_Competency=$E34) * ( IF( PP_Template="Pee Wee", Drills_PW, IF( PP_Template="JV", Drills_JV, IF( PP_Template="Varsity", Drills_Varsity, Drills_VT ) ) ) = "X" ), "No matching drills" ))} -> No matching drills
... AA39: {=TRANSPOSE(_xlfn._xlws.FILTER( Drills_Drill, (Drills_Competency=$E39) * ( IF( PP_Template="Pee Wee", Drills_PW, IF( PP_Template="JV", Drills_JV, IF( PP_Template="Varsity", Drills_Varsity, Drills_VT ) ) ) = "X" ), "No matching drills" ))} -> No matching drills
B40: Week 2 Tuesday | C40: =IF(B40="","",SUM(D40:D57)) -> 0 | AA40: {=TRANSPOSE(_xlfn._xlws.FILTER( Drills_Drill, (Drills_Competency=$E40) * ( IF( PP_Template="Pee Wee", Drills_PW, IF( PP_Template="JV", Drills_JV, IF( PP_Template="Varsity", Drills_Varsity, Drills_VT ) ) ) = "X" ), "No matching drills" ))} -> No matching drills
AA41: {=TRANSPOSE(_xlfn._xlws.FILTER( Drills_Drill, (Drills_Competency=$E41) * ( IF( PP_Template="Pee Wee", Drills_PW, IF( PP_Template="JV", Drills_JV, IF( PP_Template="Varsity", Drills_Varsity, Drills_VT ) ) ) = "X" ), "No matching drills" ))} -> No matching drills
AA42: {=TRANSPOSE(_xlfn._xlws.FILTER( Drills_Drill, (Drills_Competency=$E42) * ( IF( PP_Template="Pee Wee", Drills_PW, IF( PP_Template="JV", Drills_JV, IF( PP_Template="Varsity", Drills_Varsity, Drills_VT ) ) ) = "X" ), "No matching drills" ))} -> No matching drills
AA43: {=TRANSPOSE(_xlfn._xlws.FILTER( Drills_Drill, (Drills_Competency=$E43) * ( IF( PP_Template="Pee Wee", Drills_PW, IF( PP_Template="JV", Drills_JV, IF( PP_Template="Varsity", Drills_Varsity, Drills_VT ) ) ) = "X" ), "No matching drills" ))} -> No matching drills
AA44: {=TRANSPOSE(_xlfn._xlws.FILTER( Drills_Drill, (Drills_Competency=$E44) * ( IF( PP_Template="Pee Wee", Drills_PW, IF( PP_Template="JV", Drills_JV, IF( PP_Template="Varsity", Drills_Varsity, Drills_VT ) ) ) = "X" ), "No matching drills" ))} -> No matching drills
AA45: {=TRANSPOSE(_xlfn._xlws.FILTER( Drills_Drill, (Drills_Competency=$E45) * ( IF( PP_Template="Pee Wee", Drills_PW, IF( PP_Template="JV", Drills_JV, IF( PP_Template="Varsity", Drills_Varsity, Drills_VT ) ) ) = "X" ), "No matching drills" ))} -> No matching drills
AA46: {=TRANSPOSE(_xlfn._xlws.FILTER( Drills_Drill, (Drills_Competency=$E46) * ( IF( PP_Template="Pee Wee", Drills_PW, IF( PP_Template="JV", Drills_JV, IF( PP_Template="Varsity", Drills_Varsity, Drills_VT ) ) ) = "X" ), "No matching drills" ))} -> No matching drills
AA47: {=TRANSPOSE(_xlfn._xlws.FILTER( Drills_Drill, (Drills_Competency=$E47) * ( IF( PP_Template="Pee Wee", Drills_PW, IF( PP_Template="JV", Drills_JV, IF( PP_Template="Varsity", Drills_Varsity, Drills_VT ) ) ) = "X" ), "No matching drills" ))} -> No matching drills
AA48: {=TRANSPOSE(_xlfn._xlws.FILTER( Drills_Drill, (Drills_Competency=$E48) * ( IF( PP_Template="Pee Wee", Drills_PW, IF( PP_Template="JV", Drills_JV, IF( PP_Template="Varsity", Drills_Varsity, Drills_VT ) ) ) = "X" ), "No matching drills" ))} -> No matching drills
AA49: {=TRANSPOSE(_xlfn._xlws.FILTER( Drills_Drill, (Drills_Competency=$E49) * ( IF( PP_Template="Pee Wee", Drills_PW, IF( PP_Template="JV", Drills_JV, IF( PP_Template="Varsity", Drills_Varsity, Drills_VT ) ) ) = "X" ), "No matching drills" ))} -> No matching drills
AA50: {=TRANSPOSE(_xlfn._xlws.FILTER( Drills_Drill, (Drills_Competency=$E50) * ( IF( PP_Template="Pee Wee", Drills_PW, IF( PP_Template="JV", Drills_JV, IF( PP_Template="Varsity", Drills_Varsity, Drills_VT ) ) ) = "X" ), "No matching drills" ))} -> No matching drills
AA51: {=TRANSPOSE(_xlfn._xlws.FILTER( Drills_Drill, (Drills_Competency=$E51) * ( IF( PP_Template="Pee Wee", Drills_PW, IF( PP_Template="JV", Drills_JV, IF( PP_Template="Varsity", Drills_Varsity, Drills_VT ) ) ) = "X" ), "No matching drills" ))} -> No matching drills
AA52: {=TRANSPOSE(_xlfn._xlws.FILTER( Drills_Drill, (Drills_Competency=$E52) * ( IF( PP_Template="Pee Wee", Drills_PW, IF( PP_Template="JV", Drills_JV, IF( PP_Template="Varsity", Drills_Varsity, Drills_VT ) ) ) = "X" ), "No matching drills" ))} -> No matching drills
... AA57: {=TRANSPOSE(_xlfn._xlws.FILTER( Drills_Drill, (Drills_Competency=$E57) * ( IF( PP_Template="Pee Wee", Drills_PW, IF( PP_Template="JV", Drills_JV, IF( PP_Template="Varsity", Drills_Varsity, Drills_VT ) ) ) = "X" ), "No matching drills" ))} -> No matching drills
B58: Week 2 Thursday | C58: =IF(B58="","",SUM(D58:D75)) -> 0 | AA58: {=TRANSPOSE(_xlfn._xlws.FILTER( Drills_Drill, (Drills_Competency=$E58) * ( IF( PP_Template="Pee Wee", Drills_PW, IF( PP_Template="JV", Drills_JV, IF( PP_Template="Varsity", Drills_Varsity, Drills_VT ) ) ) = "X" ), "No matching drills" ))} -> No matching drills
AA59: {=TRANSPOSE(_xlfn._xlws.FILTER( Drills_Drill, (Drills_Competency=$E59) * ( IF( PP_Template="Pee Wee", Drills_PW, IF( PP_Template="JV", Drills_JV, IF( PP_Template="Varsity", Drills_Varsity, Drills_VT ) ) ) = "X" ), "No matching drills" ))} -> No matching drills
AA60: {=TRANSPOSE(_xlfn._xlws.FILTER( Drills_Drill, (Drills_Competency=$E60) * ( IF( PP_Template="Pee Wee", Drills_PW, IF( PP_Template="JV", Drills_JV, IF( PP_Template="Varsity", Drills_Varsity, Drills_VT ) ) ) = "X" ), "No matching drills" ))} -> No matching drills
AA61: {=TRANSPOSE(_xlfn._xlws.FILTER( Drills_Drill, (Drills_Competency=$E61) * ( IF( PP_Template="Pee Wee", Drills_PW, IF( PP_Template="JV", Drills_JV, IF( PP_Template="Varsity", Drills_Varsity, Drills_VT ) ) ) = "X" ), "No matching drills" ))} -> No matching drills
AA62: {=TRANSPOSE(_xlfn._xlws.FILTER( Drills_Drill, (Drills_Competency=$E62) * ( IF( PP_Template="Pee Wee", Drills_PW, IF( PP_Template="JV", Drills_JV, IF( PP_Template="Varsity", Drills_Varsity, Drills_VT ) ) ) = "X" ), "No matching drills" ))} -> No matching drills
AA63: {=TRANSPOSE(_xlfn._xlws.FILTER( Drills_Drill, (Drills_Competency=$E63) * ( IF( PP_Template="Pee Wee", Drills_PW, IF( PP_Template="JV", Drills_JV, IF( PP_Template="Varsity", Drills_Varsity, Drills_VT ) ) ) = "X" ), "No matching drills" ))} -> No matching drills
AA64: {=TRANSPOSE(_xlfn._xlws.FILTER( Drills_Drill, (Drills_Competency=$E64) * ( IF( PP_Template="Pee Wee", Drills_PW, IF( PP_Template="JV", Drills_JV, IF( PP_Template="Varsity", Drills_Varsity, Drills_VT ) ) ) = "X" ), "No matching drills" ))} -> No matching drills
AA65: {=TRANSPOSE(_xlfn._xlws.FILTER( Drills_Drill, (Drills_Competency=$E65) * ( IF( PP_Template="Pee Wee", Drills_PW, IF( PP_Template="JV", Drills_JV, IF( PP_Template="Varsity", Drills_Varsity, Drills_VT ) ) ) = "X" ), "No matching drills" ))} -> No matching drills
AA66: {=TRANSPOSE(_xlfn._xlws.FILTER( Drills_Drill, (Drills_Competency=$E66) * ( IF( PP_Template="Pee Wee", Drills_PW, IF( PP_Template="JV", Drills_JV, IF( PP_Template="Varsity", Drills_Varsity, Drills_VT ) ) ) = "X" ), "No matching drills" ))} -> No matching drills
AA67: {=TRANSPOSE(_xlfn._xlws.FILTER( Drills_Drill, (Drills_Competency=$E67) * ( IF( PP_Template="Pee Wee", Drills_PW, IF( PP_Template="JV", Drills_JV, IF( PP_Template="Varsity", Drills_Varsity, Drills_VT ) ) ) = "X" ), "No matching drills" ))} -> No matching drills
AA68: {=TRANSPOSE(_xlfn._xlws.FILTER( Drills_Drill, (Drills_Competency=$E68) * ( IF( PP_Template="Pee Wee", Drills_PW, IF( PP_Template="JV", Drills_JV, IF( PP_Template="Varsity", Drills_Varsity, Drills_VT ) ) ) = "X" ), "No matching drills" ))} -> No matching drills
AA69: {=TRANSPOSE(_xlfn._xlws.FILTER( Drills_Drill, (Drills_Competency=$E69) * ( IF( PP_Template="Pee Wee", Drills_PW, IF( PP_Template="JV", Drills_JV, IF( PP_Template="Varsity", Drills_Varsity, Drills_VT ) ) ) = "X" ), "No matching drills" ))} -> No matching drills
AA70: {=TRANSPOSE(_xlfn._xlws.FILTER( Drills_Drill, (Drills_Competency=$E70) * ( IF( PP_Template="Pee Wee", Drills_PW, IF( PP_Template="JV", Drills_JV, IF( PP_Template="Varsity", Drills_Varsity, Drills_VT ) ) ) = "X" ), "No matching drills" ))} -> No matching drills
... AA75: {=TRANSPOSE(_xlfn._xlws.FILTER( Drills_Drill, (Drills_Competency=$E75) * ( IF( PP_Template="Pee Wee", Drills_PW, IF( PP_Template="JV", Drills_JV, IF( PP_Template="Varsity", Drills_Varsity, Drills_VT ) ) ) = "X" ), "No matching drills" ))} -> No matching drills
B76: Week 3 Tuesday | C76: =IF(B76="","",SUM(D76:D93)) -> 0 | AA76: {=TRANSPOSE(_xlfn._xlws.FILTER( Drills_Drill, (Drills_Competency=$E76) * ( IF( PP_Template="Pee Wee", Drills_PW, IF( PP_Template="JV", Drills_JV, IF( PP_Template="Varsity", Drills_Varsity, Drills_VT ) ) ) = "X" ), "No matching drills" ))} -> No matching drills
AA77: {=TRANSPOSE(_xlfn._xlws.FILTER( Drills_Drill, (Drills_Competency=$E77) * ( IF( PP_Template="Pee Wee", Drills_PW, IF( PP_Template="JV", Drills_JV, IF( PP_Template="Varsity", Drills_Varsity, Drills_VT ) ) ) = "X" ), "No matching drills" ))} -> No matching drills
AA78: {=TRANSPOSE(_xlfn._xlws.FILTER( Drills_Drill, (Drills_Competency=$E78) * ( IF( PP_Template="Pee Wee", Drills_PW, IF( PP_Template="JV", Drills_JV, IF( PP_Template="Varsity", Drills_Varsity, Drills_VT ) ) ) = "X" ), "No matching drills" ))} -> No matching drills
AA79: {=TRANSPOSE(_xlfn._xlws.FILTER( Drills_Drill, (Drills_Competency=$E79) * ( IF( PP_Template="Pee Wee", Drills_PW, IF( PP_Template="JV", Drills_JV, IF( PP_Template="Varsity", Drills_Varsity, Drills_VT ) ) ) = "X" ), "No matching drills" ))} -> No matching drills
AA80: {=TRANSPOSE(_xlfn._xlws.FILTER( Drills_Drill, (Drills_Competency=$E80) * ( IF( PP_Template="Pee Wee", Drills_PW, IF( PP_Template="JV", Drills_JV, IF( PP_Template="Varsity", Drills_Varsity, Drills_VT ) ) ) = "X" ), "No matching drills" ))} -> No matching drills
AA81: {=TRANSPOSE(_xlfn._xlws.FILTER( Drills_Drill, (Drills_Competency=$E81) * ( IF( PP_Template="Pee Wee", Drills_PW, IF( PP_Template="JV", Drills_JV, IF( PP_Template="Varsity", Drills_Varsity, Drills_VT ) ) ) = "X" ), "No matching drills" ))} -> No matching drills
AA82: {=TRANSPOSE(_xlfn._xlws.FILTER( Drills_Drill, (Drills_Competency=$E82) * ( IF( PP_Template="Pee Wee", Drills_PW, IF( PP_Template="JV", Drills_JV, IF( PP_Template="Varsity", Drills_Varsity, Drills_VT ) ) ) = "X" ), "No matching drills" ))} -> No matching drills
AA83: {=TRANSPOSE(_xlfn._xlws.FILTER( Drills_Drill, (Drills_Competency=$E83) * ( IF( PP_Template="Pee Wee", Drills_PW, IF( PP_Template="JV", Drills_JV, IF( PP_Template="Varsity", Drills_Varsity, Drills_VT ) ) ) = "X" ), "No matching drills" ))} -> No matching drills
AA84: {=TRANSPOSE(_xlfn._xlws.FILTER( Drills_Drill, (Drills_Competency=$E84) * ( IF( PP_Template="Pee Wee", Drills_PW, IF( PP_Template="JV", Drills_JV, IF( PP_Template="Varsity", Drills_Varsity, Drills_VT ) ) ) = "X" ), "No matching drills" ))} -> No matching drills
AA85: {=TRANSPOSE(_xlfn._xlws.FILTER( Drills_Drill, (Drills_Competency=$E85) * ( IF( PP_Template="Pee Wee", Drills_PW, IF( PP_Template="JV", Drills_JV, IF( PP_Template="Varsity", Drills_Varsity, Drills_VT ) ) ) = "X" ), "No matching drills" ))} -> No matching drills
AA86: {=TRANSPOSE(_xlfn._xlws.FILTER( Drills_Drill, (Drills_Competency=$E86) * ( IF( PP_Template="Pee Wee", Drills_PW, IF( PP_Template="JV", Drills_JV, IF( PP_Template="Varsity", Drills_Varsity, Drills_VT ) ) ) = "X" ), "No matching drills" ))} -> No matching drills
AA87: {=TRANSPOSE(_xlfn._xlws.FILTER( Drills_Drill, (Drills_Competency=$E87) * ( IF( PP_Template="Pee Wee", Drills_PW, IF( PP_Template="JV", Drills_JV, IF( PP_Template="Varsity", Drills_Varsity, Drills_VT ) ) ) = "X" ), "No matching drills" ))} -> No matching drills
AA88: {=TRANSPOSE(_xlfn._xlws.FILTER( Drills_Drill, (Drills_Competency=$E88) * ( IF( PP_Template="Pee Wee", Drills_PW, IF( PP_Template="JV", Drills_JV, IF( PP_Template="Varsity", Drills_Varsity, Drills_VT ) ) ) = "X" ), "No matching drills" ))} -> No matching drills
... AA93: {=TRANSPOSE(_xlfn._xlws.FILTER( Drills_Drill, (Drills_Competency=$E93) * ( IF( PP_Template="Pee Wee", Drills_PW, IF( PP_Template="JV", Drills_JV, IF( PP_Template="Varsity", Drills_Varsity, Drills_VT ) ) ) = "X" ), "No matching drills" ))} -> No matching drills
B94: Week 4 Thursday | C94: =IF(B94="","",SUM(D94:D111)) -> 0 | AA94: {=TRANSPOSE(_xlfn._xlws.FILTER( Drills_Drill, (Drills_Competency=$E94) * ( IF( PP_Template="Pee Wee", Drills_PW, IF( PP_Template="JV", Drills_JV, IF( PP_Template="Varsity", Drills_Varsity, Drills_VT ) ) ) = "X" ), "No matching drills" ))} -> No matching drills
AA95: {=TRANSPOSE(_xlfn._xlws.FILTER( Drills_Drill, (Drills_Competency=$E95) * ( IF( PP_Template="Pee Wee", Drills_PW, IF( PP_Template="JV", Drills_JV, IF( PP_Template="Varsity", Drills_Varsity, Drills_VT ) ) ) = "X" ), "No matching drills" ))} -> No matching drills
AA96: {=TRANSPOSE(_xlfn._xlws.FILTER( Drills_Drill, (Drills_Competency=$E96) * ( IF( PP_Template="Pee Wee", Drills_PW, IF( PP_Template="JV", Drills_JV, IF( PP_Template="Varsity", Drills_Varsity, Drills_VT ) ) ) = "X" ), "No matching drills" ))} -> No matching drills
AA97: {=TRANSPOSE(_xlfn._xlws.FILTER( Drills_Drill, (Drills_Competency=$E97) * ( IF( PP_Template="Pee Wee", Drills_PW, IF( PP_Template="JV", Drills_JV, IF( PP_Template="Varsity", Drills_Varsity, Drills_VT ) ) ) = "X" ), "No matching drills" ))} -> No matching drills
AA98: {=TRANSPOSE(_xlfn._xlws.FILTER( Drills_Drill, (Drills_Competency=$E98) * ( IF( PP_Template="Pee Wee", Drills_PW, IF( PP_Template="JV", Drills_JV, IF( PP_Template="Varsity", Drills_Varsity, Drills_VT ) ) ) = "X" ), "No matching drills" ))} -> No matching drills
AA99: {=TRANSPOSE(_xlfn._xlws.FILTER( Drills_Drill, (Drills_Competency=$E99) * ( IF( PP_Template="Pee Wee", Drills_PW, IF( PP_Template="JV", Drills_JV, IF( PP_Template="Varsity", Drills_Varsity, Drills_VT ) ) ) = "X" ), "No matching drills" ))} -> No matching drills
AA100: {=TRANSPOSE(_xlfn._xlws.FILTER( Drills_Drill, (Drills_Competency=$E100) * ( IF( PP_Template="Pee Wee", Drills_PW, IF( PP_Template="JV", Drills_JV, IF( PP_Template="Varsity", Drills_Varsity, Drills_VT ) ) ) = "X" ), "No matching drills" ))} -> No matching drills
AA101: {=TRANSPOSE(_xlfn._xlws.FILTER( Drills_Drill, (Drills_Competency=$E101) * ( IF( PP_Template="Pee Wee", Drills_PW, IF( PP_Template="JV", Drills_JV, IF( PP_Template="Varsity", Drills_Varsity, Drills_VT ) ) ) = "X" ), "No matching drills" ))} -> No matching drills
AA102: {=TRANSPOSE(_xlfn._xlws.FILTER( Drills_Drill, (Drills_Competency=$E102) * ( IF( PP_Template="Pee Wee", Drills_PW, IF( PP_Template="JV", Drills_JV, IF( PP_Template="Varsity", Drills_Varsity, Drills_VT ) ) ) = "X" ), "No matching drills" ))} -> No matching drills
AA103: {=TRANSPOSE(_xlfn._xlws.FILTER( Drills_Drill, (Drills_Competency=$E103) * ( IF( PP_Template="Pee Wee", Drills_PW, IF( PP_Template="JV", Drills_JV, IF( PP_Template="Varsity", Drills_Varsity, Drills_VT ) ) ) = "X" ), "No matching drills" ))} -> No matching drills
AA104: {=TRANSPOSE(_xlfn._xlws.FILTER( Drills_Drill, (Drills_Competency=$E104) * ( IF( PP_Template="Pee Wee", Drills_PW, IF( PP_Template="JV", Drills_JV, IF( PP_Template="Varsity", Drills_Varsity, Drills_VT ) ) ) = "X" ), "No matching drills" ))} -> No matching drills
AA105: {=TRANSPOSE(_xlfn._xlws.FILTER( Drills_Drill, (Drills_Competency=$E105) * ( IF( PP_Template="Pee Wee", Drills_PW, IF( PP_Template="JV", Drills_JV, IF( PP_Template="Varsity", Drills_Varsity, Drills_VT ) ) ) = "X" ), "No matching drills" ))} -> No matching drills
AA106: {=TRANSPOSE(_xlfn._xlws.FILTER( Drills_Drill, (Drills_Competency=$E106) * ( IF( PP_Template="Pee Wee", Drills_PW, IF( PP_Template="JV", Drills_JV, IF( PP_Template="Varsity", Drills_Varsity, Drills_VT ) ) ) = "X" ), "No matching drills" ))} -> No matching drills
... AA111: {=TRANSPOSE(_xlfn._xlws.FILTER( Drills_Drill, (Drills_Competency=$E111) * ( IF( PP_Template="Pee Wee", Drills_PW, IF( PP_Template="JV", Drills_JV, IF( PP_Template="Varsity", Drills_Varsity, Drills_VT ) ) ) = "X" ), "No matching drills" ))} -> No matching drills
B112: Week 5 Tuesday | C112: =IF(B112="","",SUM(D112:D129)) -> 0 | AA112: {=TRANSPOSE(_xlfn._xlws.FILTER( Drills_Drill, (Drills_Competency=$E112) * ( IF( PP_Template="Pee Wee", Drills_PW, IF( PP_Template="JV", Drills_JV, IF( PP_Template="Varsity", Drills_Varsity, Drills_VT ) ) ) = "X" ), "No matching drills" ))} -> No matching drills
AA113: {=TRANSPOSE(_xlfn._xlws.FILTER( Drills_Drill, (Drills_Competency=$E113) * ( IF( PP_Template="Pee Wee", Drills_PW, IF( PP_Template="JV", Drills_JV, IF( PP_Template="Varsity", Drills_Varsity, Drills_VT ) ) ) = "X" ), "No matching drills" ))} -> No matching drills
AA114: {=TRANSPOSE(_xlfn._xlws.FILTER( Drills_Drill, (Drills_Competency=$E114) * ( IF( PP_Template="Pee Wee", Drills_PW, IF( PP_Template="JV", Drills_JV, IF( PP_Template="Varsity", Drills_Varsity, Drills_VT ) ) ) = "X" ), "No matching drills" ))} -> No matching drills
AA115: {=TRANSPOSE(_xlfn._xlws.FILTER( Drills_Drill, (Drills_Competency=$E115) * ( IF( PP_Template="Pee Wee", Drills_PW, IF( PP_Template="JV", Drills_JV, IF( PP_Template="Varsity", Drills_Varsity, Drills_VT ) ) ) = "X" ), "No matching drills" ))} -> No matching drills
AA116: {=TRANSPOSE(_xlfn._xlws.FILTER( Drills_Drill, (Drills_Competency=$E116) * ( IF( PP_Template="Pee Wee", Drills_PW, IF( PP_Template="JV", Drills_JV, IF( PP_Template="Varsity", Drills_Varsity, Drills_VT ) ) ) = "X" ), "No matching drills" ))} -> No matching drills
AA117: {=TRANSPOSE(_xlfn._xlws.FILTER( Drills_Drill, (Drills_Competency=$E117) * ( IF( PP_Template="Pee Wee", Drills_PW, IF( PP_Template="JV", Drills_JV, IF( PP_Template="Varsity", Drills_Varsity, Drills_VT ) ) ) = "X" ), "No matching drills" ))} -> No matching drills
AA118: {=TRANSPOSE(_xlfn._xlws.FILTER( Drills_Drill, (Drills_Competency=$E118) * ( IF( PP_Template="Pee Wee", Drills_PW, IF( PP_Template="JV", Drills_JV, IF( PP_Template="Varsity", Drills_Varsity, Drills_VT ) ) ) = "X" ), "No matching drills" ))} -> No matching drills
AA119: {=TRANSPOSE(_xlfn._xlws.FILTER( Drills_Drill, (Drills_Competency=$E119) * ( IF( PP_Template="Pee Wee", Drills_PW, IF( PP_Template="JV", Drills_JV, IF( PP_Template="Varsity", Drills_Varsity, Drills_VT ) ) ) = "X" ), "No matching drills" ))} -> No matching drills
AA120: {=TRANSPOSE(_xlfn._xlws.FILTER( Drills_Drill, (Drills_Competency=$E120) * ( IF( PP_Template="Pee Wee", Drills_PW, IF( PP_Template="JV", Drills_JV, IF( PP_Template="Varsity", Drills_Varsity, Drills_VT ) ) ) = "X" ), "No matching drills" ))} -> No matching drills
AA121: {=TRANSPOSE(_xlfn._xlws.FILTER( Drills_Drill, (Drills_Competency=$E121) * ( IF( PP_Template="Pee Wee", Drills_PW, IF( PP_Template="JV", Drills_JV, IF( PP_Template="Varsity", Drills_Varsity, Drills_VT ) ) ) = "X" ), "No matching drills" ))} -> No matching drills
AA122: {=TRANSPOSE(_xlfn._xlws.FILTER( Drills_Drill, (Drills_Competency=$E122) * ( IF( PP_Template="Pee Wee", Drills_PW, IF( PP_Template="JV", Drills_JV, IF( PP_Template="Varsity", Drills_Varsity, Drills_VT ) ) ) = "X" ), "No matching drills" ))} -> No matching drills
AA123: {=TRANSPOSE(_xlfn._xlws.FILTER( Drills_Drill, (Drills_Competency=$E123) * ( IF( PP_Template="Pee Wee", Drills_PW, IF( PP_Template="JV", Drills_JV, IF( PP_Template="Varsity", Drills_Varsity, Drills_VT ) ) ) = "X" ), "No matching drills" ))} -> No matching drills
AA124: {=TRANSPOSE(_xlfn._xlws.FILTER( Drills_Drill, (Drills_Competency=$E124) * ( IF( PP_Template="Pee Wee", Drills_PW, IF( PP_Template="JV", Drills_JV, IF( PP_Template="Varsity", Drills_Varsity, Drills_VT ) ) ) = "X" ), "No matching drills" ))} -> No matching drills
... AA129: {=TRANSPOSE(_xlfn._xlws.FILTER( Drills_Drill, (Drills_Competency=$E129) * ( IF( PP_Template="Pee Wee", Drills_PW, IF( PP_Template="JV", Drills_JV, IF( PP_Template="Varsity", Drills_Varsity, Drills_VT ) ) ) = "X" ), "No matching drills" ))} -> No matching drills
...

Sheet Drills
A1: Competency | B1: Drill | C1: Equipment | D1: Reference | E1: Competition | F1: Pee Wee | G1: JV | H1: Varsity | I1: Varsity Tackle
A2: Warmup/Cooldown | B2: Pin up | F2: X | G2: X | H2: X | I2: X
A3: Warmup/Cooldown | B3: Dynamic Stretching Routine | F3: X | G3: X | H3: X | I3: X
A4: Warmup/Cooldown | B4: Sprints | F4: X | G4: X | H4: X | I4: X
A5: Warmup/Cooldown | B5: Chalk Talk | F5: X | G5: X | H5: X | I5: X
A6: Warmup/Cooldown | B6: Water Break | F6: X | G6: X | H6: X | I6: X
A7: Conditioning/Strength | B7: Relay Sprints | E7: Yes | F7: X | G7: X | H7: X | I7: X
A8: Conditioning/Strength | B8: Gauntlet Sprints | G8: X | H8: X | I8: X
A9: Conditioning/Strength | B9: Bear Crawls | G9: X | H9: X | I9: X
A10: Conditioning/Strength | B10: Burpee Sprints | G10: X | H10: X | I10: X
A11: Conditioning/Strength | B11: Grapevine Sprints | F11: X | G11: X | H11: X | I11: X
A12: Agility | B12: Zig Zag Footwork Drill | C12: Cones, Ball | D12: https://carpygang.com/common/_GetDownload.aspx?d=d06SM21oV7%2fN0GBeSjr09vO5U83wqrYR12LSYeti0CY%3d | E12: Yes | F12: X | G12: X | H12: X | I12: X
A13: Agility | B13: L-Drill | C13: Cones | D13: https://carpygang.com/common/_GetDownload.aspx?d=d06SM21oV7%2fN0GBeSjr09vO5U83wqrYR12LSYeti0CY%3d | E13: Yes | F13: X | G13: X | H13: X | I13: X
A14: Agility | B14: T-Drill | C14: Cones | E14: Yes | F14: X | G14: X | H14: X | I14: X
A15: Agility | B15: Sideline Tackle Drill | C15: Cones | D15: https://carpygang.com/common/_GetDownload.aspx?d=d06SM21oV7%2fN0GBeSjr09vO5U83wqrYR12LSYeti0CY%3d | G15: X | H15: X | I15: X
A16: Agility | B16: Box Drill | C16: Cones | D16: https://carpygang.com/common/_GetDownload.aspx?d=d06SM21oV7%2fN0GBeSjr09vO5U83wqrYR12LSYeti0CY%3d | E16: Yes | F16: X | G16: X | H16: X | I16: X
A17: Agility | B17: Bag Drills | C17: Cones, Bags | D17: https://carpygang.com/common/_GetDownload.aspx?d=d06SM21oV7%2fN0GBeSjr09vO5U83wqrYR12LSYeti0CY%3d | F17: X | G17: X | H17: X | I17: X
A18: Agility | B18: LB Box Drill | C18: Cones | D18: https://carpygang.com/common/_GetDownload.aspx?d=d06SM21oV7%2fN0GBeSjr09vO5U83wqrYR12LSYeti0CY%3d | F18: X | G18: X | H18: X | I18: X
A19: Agility | B19: LB X-Mas Tree Drill | C19: Cones | D19: https://carpygang.com/common/_GetDownload.aspx?d=d06SM21oV7%2fN0GBeSjr09vO5U83wqrYR12LSYeti0CY%3d | E19: Yes | F19: X | G19: X | H19: X | I19: X
A20: Agility | B20: Defensive Back Drill | C20: Cones | D20: https://carpygang.com/common/_GetDownload.aspx?d=d06SM21oV7%2fN0GBeSjr09vO5U83wqrYR12LSYeti0CY%3d | F20: X | G20: X | H20: X | I20: X
A21: Agility | B21: Agility Ladder Drills | C21: Agility Ladder | F21: X | G21: X | H21: X | I21: X
A22: Agility | B22: Mirror Drill | F22: X | G22: X | H22: X | I22: X
A23: Agility | B23: DB Call-out Drill (Right, Left, Back) | F23: X | G23: X | H23: X | I23: X
A24: Fundamentals | B24: Receiving/Catching a ball | C24: Ball | F24: X | G24: X
A25: Fundamentals | B25: QB Footwork - 3 Step Drop | C25: Cones | F25: X | G25: X | H25: X | I25: X
A26: Fundamentals | B26: QB Footwork - Fake Handoff Rollout | C26: Cones | F26: X | G26: X | H26: X | I26: X
A27: Fundamentals | B27: QB Footwork - Toss/Pitch | C27: Cones | F27: X | G27: X | H27: X | I27: X
A28: Fundamentals | B28: Receiver Stance - First Step Explosion | C28: Tennis ball, cones | E28: Yes | F28: X | G28: X | H28: X | I28: X
A29: Fundamentals | B29: RB Stance - First Step Explosion | C29: Tennis ball, cones | E29: Yes | F29: X | G29: X | H29: X | I29: X
A30: Fundamentals | B30: 3 Point Stance - First Step Explosion | C30: Tennis ball, cones | E30: Yes | F30: X | G30: X | H30: X | I30: X
A31: Fundamentals | B31: Cadence Quick Sprint | C31: Cones | G31: X | H31: X | I31: X
A32: Fundamentals | B32: Handoff footwork - RB | C32: Ball, cones | F32: X | G32: X | H32: X | I32: X
A33: Fundamentals | B33: Handoff footwork - QB | C33: Ball, cones | F33: X | G33: X | H33: X | I33: X
A34: Fundamentals | B34: Handoff footwork - QB & RB | C34: Ball, cones | F34: X | G34: X | H34: X | I34: X
A35: Fundamentals | B35: Pass Patterns - WR | C35: Cones | F35: X | G35: X | H35: X | I35: X
A36: Fundamentals | B36: Ball Security Overview | C36: Ball | F36: X | G36: X | H36: X | I36: X
A37: Fundamentals | B37: Gauntlet Drill (Ball Security) | C37: Ball | H37: X | I37: X
A38: Fundamentals | B38: Stance Simon Says | E38: Yes | F38: X | G38: X
A39: Fundamentals | B39: Turn and Burn | C39: Ball | E39: Yes | F39: X | G39: X | H39: X | I39: X
A40: Defense | B40: Flag Pulling Drills | F40: X | G40: X
A41: Defense | B41: LB Pursuit Drill (Toss) | C41: Cones | D41: https://carpygang.com/common/_GetDownload.aspx?d=d06SM21oV7%2fN0GBeSjr09vO5U83wqrYR12LSYeti0CY%3d | F41: X | G41: X | H41: X | I41: X
A42: Defense | B42: Safety Pursuit Drill (Sideline Tackle) | C42: Cones | D42: https://carpygang.com/common/_GetDownload.aspx?d=d06SM21oV7%2fN0GBeSjr09vO5U83wqrYR12LSYeti0CY%3d | F42: X | G42: X | H42: X | I42: X
A43: Defense | B43: Man to Man Responsibilities/Walkthrough | F43: X | G43: X | H43: X | I43: X
A44: Defense | B44: Zone Responsibilities/Walkthrough | F44: X | G44: X | H44: X | I44: X
A45: Defense | B45: Zone Strong Man Responsibilities/Walkthrough | G45: X | H45: X | I45: X
A46: Offense | B46: Playbook - Walkthrough | F46: X | G46: X | H46: X | I46: X
A47: Offense | B47: QB/WR Pass Routes | C47: Cones | F47: X | G47: X | H47: X | I47: X
A48: Offense | B48: QB/RB Handoff Drill | C48: Cones | F48: X | G48: X | H48: X | I48: X
A49: Offense | B49: QB/RB Toss/Pitch Drill | C49: Cones | F49: X | G49: X | H49: X | I49: X
A50: Offense | B50: QB/RB Handoff Cut Drill | C50: Cones | F50: X | G50: X | H50: X | I50: X
A51: Offense | B51: Playbook - Full Speed | F51: X | G51: X | H51: X | I51: X
A52: Scrimmage Games | B52: 2 on 2 - LB Switch or Stick (Communication) | E52: Yes | F52: X | G52: X | H52: X | I52: X
A53: Scrimmage Games | B53: 1 on 1 - Pursuit Guantlet | C53: Cones | E53: Yes | F53: X | G53: X | H53: X | I53: X
A54: Scrimmage Games | B54: 1 on 1 - Handoff Gauntlet | C54: Cones | E54: Yes | F54: X | G54: X | H54: X | I54: X
A55: Scrimmage Games | B55: 1 on 1 - Toss/Pitch Pursuit | C55: Cones | E55: Yes | F55: X | G55: X | H55: X | I55: X
A56: Scrimmage Games | B56: 1 on 1 - Pass Coverage | E56: Yes | F56: X | G56: X | H56: X | I56: X
A57: Scrimmage Games | B57: Red Rover | C57: Cones | E57: Yes | F57: X | G57: X
A58: Scrimmage Games | B58: Box Drill Relay | C58: Cones | E58: Yes | F58: X | G58: X | H58: X | I58: X
A59: Tackle Drills | B59: Pads Overview | I59: X
A60: Tackle Drills | B60: Hitting the sled | I60: X
A61: Team Breakout | B61: Playbook Overview | F61: X | G61: X | H61: X | I61: X

Sheet Settings
B2: League | C2: Station Assignment | D2: Competency | E2: Positions | F2: Current League | G2: Teams | H2: Coaches | I2: Players | K2: CG Practice Framework Filepath: | L2: https://carpygang.com/common/_GetDownload.aspx?d=d06SM21oV7%2fN0GBeSjr09vO5U83wqrYR12LSYeti0CY%3d
B3: Pee Wee | C3: Whole Team | D3: Warmup/Cooldown | E3: QB | F3: =PP1_League -> Pee Wee | G3: {=_xlfn.SWITCH( Settings[[#This Row],[Current League]], Settings!$B$21, INDEX(Settings!$B22,1), Settings!$C$21, INDEX(Settings!$C22,1), Settings!$D$21, INDEX(Settings!$D22,1), Settings!$E$21, INDEX(Settings!$E22,1), Settings!$F$21, INDEX(Settings!$F22,1) )} -> PW1 | H3: Rotello
B4: JV | C4: Specialty Pullout | D4: Agility | E4: RB | F4: =PP1_League -> Pee Wee | G4: {=_xlfn.SWITCH( Settings[[#This Row],[Current League]], Settings!$B$21, INDEX(Settings!$B23,1), Settings!$C$21, INDEX(Settings!$C23,1), Settings!$D$21, INDEX(Settings!$D23,1), Settings!$E$21, INDEX(Settings!$E23,1), Settings!$F$21, INDEX(Settings!$F23,1) )} -> PW2 | H4: Hardin
B5: Varsity | C5: 1 | D5: Fundamentals | E5: WR | F5: =PP1_League -> Pee Wee | G5: {=_xlfn.SWITCH( Settings[[#This Row],[Current League]], Settings!$B$21, INDEX(Settings!$B24,1), Settings!$C$21, INDEX(Settings!$C24,1), Settings!$D$21, INDEX(Settings!$D24,1), Settings!$E$21, INDEX(Settings!$E24,1), Settings!$F$21, INDEX(Settings!$F24,1) )} -> PW3 | H5: Bentley
B6: Varsity Tackle | C6: 2 | D6: Defense | E6: LB | F6: =PP1_League -> Pee Wee | G6: {=_xlfn.SWITCH( Settings[[#This Row],[Current League]], Settings!$B$21, INDEX(Settings!$B25,1), Settings!$C$21, INDEX(Settings!$C25,1), Settings!$D$21, INDEX(Settings!$D25,1), Settings!$E$21, INDEX(Settings!$E25,1), Settings!$F$21, INDEX(Settings!$F25,1) )} -> PW4 | H6: MacMillan
B7: All CG | C7: 3 | D7: Offense | E7: CB | F7: =PP1_League -> Pee Wee | G7: {=_xlfn.SWITCH( Settings[[#This Row],[Current League]], Settings!$B$21, INDEX(Settings!$B26,1), Settings!$C$21, INDEX(Settings!$C26,1), Settings!$D$21, INDEX(Settings!$D26,1), Settings!$E$21, INDEX(Settings!$E26,1), Settings!$F$21, INDEX(Settings!$F26,1) )} -> 0 | H7: White
C8: 4 | D8: Scrimmage Games | E8: SS | F8: =PP1_League -> Pee Wee | G8: {=_xlfn.SWITCH( Settings[[#This Row],[Current League]], Settings!$B$21, INDEX(Settings!$B27,1), Settings!$C$21, INDEX(Settings!$C27,1), Settings!$D$21, INDEX(Settings!$D27,1), Settings!$E$21, INDEX(Settings!$E27,1), Settings!$F$21, INDEX(Settings!$F27,1) )} -> 0 | H8: Grimes
C9: 5 | D9: Conditioning/Strength | E9: FS | F9: =PP1_League -> Pee Wee | G9: {=_xlfn.SWITCH( Settings[[#This Row],[Current League]], Settings!$B$21, INDEX(Settings!$B28,1), Settings!$C$21, INDEX(Settings!$C28,1), Settings!$D$21, INDEX(Settings!$D28,1), Settings!$E$21, INDEX(Settings!$E28,1), Settings!$F$21, INDEX(Settings!$F28,1) )} -> 0 | H9: Clark
C10: 6 | D10: Tackle Drills | F10: =PP1_League -> Pee Wee | G10: {=_xlfn.SWITCH( Settings[[#This Row],[Current League]], Settings!$B$21, INDEX(Settings!$B29,1), Settings!$C$21, INDEX(Settings!$C29,1), Settings!$D$21, INDEX(Settings!$D29,1), Settings!$E$21, INDEX(Settings!$E29,1), Settings!$F$21, INDEX(Settings!$F29,1) )} -> 0 | H10: Watermeyer
C11: 7 | D11: Team Breakout | F11: =PP1_League -> Pee Wee | G11: {=_xlfn.SWITCH( Settings[[#This Row],[Current League]], Settings!$B$21, INDEX(Settings!$B30,1), Settings!$C$21, INDEX(Settings!$C30,1), Settings!$D$21, INDEX(Settings!$D30,1), Settings!$E$21, INDEX(Settings!$E30,1), Settings!$F$21, INDEX(Settings!$F30,1) )} -> 0 | H11: Parady
C12: 8 | F12: =PP1_League -> Pee Wee | G12: {=_xlfn.SWITCH( Settings[[#This Row],[Current League]], Settings!$B$21, INDEX(Settings!$B31,1), Settings!$C$21, INDEX(Settings!$C31,1), Settings!$D$21, INDEX(Settings!$D31,1), Settings!$E$21, INDEX(Settings!$E31,1), Settings!$F$21, INDEX(Settings!$F31,1) )} -> 0 | H12: Filippini
F13: =PP1_League -> Pee Wee | G13: {=_xlfn.SWITCH( Settings[[#This Row],[Current League]], Settings!$B$21, INDEX(Settings!$B32,1), Settings!$C$21, INDEX(Settings!$C32,1), Settings!$D$21, INDEX(Settings!$D32,1), Settings!$E$21, INDEX(Settings!$E32,1), Settings!$F$21, INDEX(Settings!$F32,1) )} -> 0 | H13: Ghiringhelli
F14: =PP1_League -> Pee Wee | G14: {=_xlfn.SWITCH( Settings[[#This Row],[Current League]], Settings!$B$21, INDEX(Settings!$B33,1), Settings!$C$21, INDEX(Settings!$C33,1), Settings!$D$21, INDEX(Settings!$D33,1), Settings!$E$21, INDEX(Settings!$E33,1), Settings!$F$21, INDEX(Settings!$F33,1) )} -> 0 | H14: Delgadillo
F15: =PP1_League -> Pee Wee | G15: {=_xlfn.SWITCH( Settings[[#This Row],[Current League]], Settings!$B$21, INDEX(Settings!$B34,1), Settings!$C$21, INDEX(Settings!$C34,1), Settings!$D$21, INDEX(Settings!$D34,1), Settings!$E$21, INDEX(Settings!$E34,1), Settings!$F$21, INDEX(Settings!$F34,1) )} -> 0 | H15: Gamble
F16: =PP1_League -> Pee Wee | G16: {=_xlfn.SWITCH( Settings[[#This Row],[Current League]], Settings!$B$21, INDEX(Settings!$B35,1), Settings!$C$21, INDEX(Settings!$C35,1), Settings!$D$21, INDEX(Settings!$D35,1), Settings!$E$21, INDEX(Settings!$E35,1), Settings!$F$21, INDEX(Settings!$F35,1) )} -> 0 | H16: Particelli
F17: =PP1_League -> Pee Wee | G17: {=_xlfn.SWITCH( Settings[[#This Row],[Current League]], Settings!$B$21, INDEX(Settings!$B36,1), Settings!$C$21, INDEX(Settings!$C36,1), Settings!$D$21, INDEX(Settings!$D36,1), Settings!$E$21, INDEX(Settings!$E36,1), Settings!$F$21, INDEX(Settings!$F36,1) )} -> 0 | H17: Bailey
B20: Teams | G20: =Practice_Type& " Practice" -> Collaborative Practice
B21: {=TRANSPOSE(B3:B6)} -> Pee Wee | C21: JV | D21: Varsity | E21: Varsity Tackle | F21: All CG | G21: {=_xlfn.SWITCH(G20,"Individual Team Practice","Players","Collaborative Practice", "Teams")} -> Teams
B22: PW1 | C22: JV1 | D22: V1 | E22: VT1 | F22: PW1 | G22: {=_xlfn.LET( _xlpm.result, _xlfn.SWITCH( Practice_Type, "Collaborative", Settings[Teams], "Individual Team", Settings[Players] ), _xlfn._xlws.FILTER(_xlpm.result, _xlpm.result<>0) )} -> PW1
B23: PW2 | C23: JV2 | D23: V2 | E23: VT2 | F23: PW2 | G23: PW2
B24: PW3 | C24: JV3 | D24: V3 | F24: PW3 | G24: PW3
B25: PW4 | C25: JV4 | D25: V4 | F25: JV1 | G25: PW4
F26: JV2
F27: JV3
F28: V1
F29: V2
B38: Rosters
B39: Division Name | C39: Team Name | D39: Player First Name | E39: Player Last Name | F39: Player
