Workbook
Name CG_Drills_Framework_Filepath: Settings!$L$2
Name Drills_Competency: DrillsTable[Competency]
Name Drills_Competition: DrillsTable[Competition]
Name Drills_Drill: DrillsTable[Drill]
Name Drills_Equipment: DrillsTable[Equipment]
Name Drills_JV: DrillsTable[JV]
Name Drills_PW: DrillsTable[Pee Wee]
Name Drills_Varsity: DrillsTable[Varsity]
Name Drills_VT: DrillsTable[Varsity Tackle]
Name PP_Template: 'JV Practice Templates'!$D$2
Name PP_Template: 'PeeWee Practice Templates'!$D$2
Name PP_Template: 'Tackle Practice Templates'!$D$2
Name PP_Template: 'Varsity Practice Templates'!$D$2
Name PP1_League: 'Practice Plan'!$L$2
Name Practice_Type: 'Practice Plan'!$Q$2
Name Settings_Coaches: Settings[Coaches]
Name Settings_Competency: Settings[Competency]
Name Settings_League: Settings[League]
Name Settings_Players: Settings[Players]
Name Settings_Positions: Settings[Positions]
Name Settings_Stations: Settings[Station Assignment]
Name Team_Player_Options: Settings!$G$22:$G$36

Sheet Practice Plan
B2: Start Time | C2: Duration | D2: Competency | E2: Drill | F2: Station | G2: Equipment Needed | H2: Competition | I2: Video/PDF Reference | K2: League | L2: Pee Wee | P2: Practice Type | Q2: Collaborative | AA2: Competency Specific Drills | BA2: Drill Groups
B3: 0.72916667 | C3: 0.0013888889 | D3: Warmup/Cooldown | E3: Pin up | F3: Whole Team | G3: =IF($E3="","", IF( _xlfn.XLOOKUP($E3,DrillsTable[Drill],DrillsTable[Equipment],"",0) = "", "None", _xlfn.XLOOKUP($E3,DrillsTable[Drill],DrillsTable[Equipment],"",0) ) ) -> None | H3: =_xlfn.LET( _xlpm.result, _xlfn.XLOOKUP($E3, DrillsTable[Drill], DrillsTable[Competition], "", 0), IF(_xlpm.result = "", "", _xlpm.result) ) | I3: =IF($E3="","", IF( _xlfn.XLOOKUP($E3,DrillsTable[Drill],DrillsTable[Reference],"",0) = "", "", HYPERLINK(_xlfn.XLOOKUP($E3,DrillsTable[Drill],DrillsTable[Reference],"",0),"Link") ) ) | AA3: {=TRANSPOSE(_xlfn._xlws.FILTER( Drills_Drill, (Drills_Competency=$D3) * ( IF( PP1_League="Pee Wee", Drills_PW, IF( PP1_League="JV", Drills_JV, IF( PP1_League="Varsity", Drills_Varsity, IF( PP1_League="All CG", Drills_PW, Drills_VT ) ) ) ) = "X" ), "No matching drills" ))} -> Pin up | AB3: Dynamic Stretching Routine | AC3: Sprints | AD3: Chalk Talk | AE3: Water Break | BA3: {=_xlfn.VSTACK($F$33,$E$3:$E$20)} -> Specialty Pullout
B4: =IF($C4="", "", $B3 + $C3) -> 0.73055556 | C4: 0.010416667 | D4: Warmup/Cooldown | E4: Dynamic Stretching Routine | F4: Whole Team | G4: =IF($E4="","", IF( _xlfn.XLOOKUP($E4,DrillsTable[Drill],DrillsTable[Equipment],"",0) = "", "None", _xlfn.XLOOKUP($E4,DrillsTable[Drill],DrillsTable[Equipment],"",0) ) ) -> None | H4: =_xlfn.LET( _xlpm.result, _xlfn.XLOOKUP($E4, DrillsTable[Drill], DrillsTable[Competition], "", 0), IF(_xlpm.result = "", "", _xlpm.result) ) | I4: =IF($E4="","", IF( _xlfn.XLOOKUP($E4,DrillsTable[Drill],DrillsTable[Reference],"",0) = "", "", HYPERLINK(_xlfn.XLOOKUP($E4,DrillsTable[Drill],DrillsTable[Reference],"",0),"Link") ) ) | K4: Drill Groups | P4: Drill Groups | AA4: {=TRANSPOSE(_xlfn._xlws.FILTER( Drills_Drill, (Drills_Competency=$D4) * ( IF( PP1_League="Pee Wee", Drills_PW, IF( PP1_League="JV", Drills_JV, IF( PP1_League="Varsity", Drills_Varsity, IF( PP1_League="All CG", Drills_PW, Drills_VT ) ) ) ) = "X" ), "No matching drills" ))} -> Pin up | AB4: Dynamic Stretching Routine | AC4: Sprints | AD4: Chalk Talk | AE4: Water Break | BA4: Pin up
B5: =IF($C5="", "", $B4 + $C4) -> 0.74097222 | C5: 0.0055555556 | D5: Agility | E5: Box Drill | F5: 1 | G5: =IF($E5="","", IF( _xlfn.XLOOKUP($E5,DrillsTable[Drill],DrillsTable[Equipment],"",0) = "", "None", _xlfn.XLOOKUP($E5,DrillsTable[Drill],DrillsTable[Equipment],"",0) ) ) -> Cones | H5: =_xlfn.LET( _xlpm.result, _xlfn.XLOOKUP($E5, DrillsTable[Drill], DrillsTable[Competition], "", 0), IF(_xlpm.result = "", "", _xlpm.result) ) -> Yes | I5: =IF($E5="","", IF( _xlfn.XLOOKUP($E5,DrillsTable[Drill],DrillsTable[Reference],"",0) = "", "", HYPERLINK(_xlfn.XLOOKUP($E5,DrillsTable[Drill],DrillsTable[Reference],"",0),"Link") ) ) -> Link | AA5: {=TRANSPOSE(_xlfn._xlws.FILTER( Drills_Drill, (Drills_Competency=$D5) * ( IF( PP1_League="Pee Wee", Drills_PW, IF( PP1_League="JV", Drills_JV, IF( PP1_League="Varsity", Drills_Varsity, IF( PP1_League="All CG", Drills_PW, Drills_VT ) ) ) ) = "X" ), "No matching drills" ))} -> Zig Zag Footwork Drill | AB5: L-Drill | AC5: T-Drill | AD5: Box Drill | AE5: Bag Drills | AF5: LB Box Drill | AG5: LB X-Mas Tree Drill | AH5: Defensive Back Drill | AI5: Agility Ladder Drills | AJ5: Mirror Drill | AK5: DB Call-out Drill (Right, Left, Back) | BA5: Dynamic Stretching Routine
B6: =IF($C6="", "", $B5 + $C5) -> 0.74652778 | C6: 0.0055555556 | D6: Fundamentals | E6: Pass Patterns - WR | F6: 2 | G6: =IF($E6="","", IF( _xlfn.XLOOKUP($E6,DrillsTable[Drill],DrillsTable[Equipment],"",0) = "", "None", _xlfn.XLOOKUP($E6,DrillsTable[Drill],DrillsTable[Equipment],"",0) ) ) -> Cones | H6: =_xlfn.LET( _xlpm.result, _xlfn.XLOOKUP($E6, DrillsTable[Drill], DrillsTable[Competition], "", 0), IF(_xlpm.result = "", "", _xlpm.result) ) | I6: =IF($E6="","", IF( _xlfn.XLOOKUP($E6,DrillsTable[Drill],DrillsTable[Reference],"",0) = "", "", HYPERLINK(_xlfn.XLOOKUP($E6,DrillsTable[Drill],DrillsTable[Reference],"",0),"Link") ) ) | AA6: {=TRANSPOSE(_xlfn._xlws.FILTER( Drills_Drill, (Drills_Competency=$D6) * ( IF( PP1_League="Pee Wee", Drills_PW, IF( PP1_League="JV", Drills_JV, IF( PP1_League="Varsity", Drills_Varsity, IF( PP1_League="All CG", Drills_PW, Drills_VT ) ) ) ) = "X" ), "No matching drills" ))} -> Receiving/Catching a ball | AB6: QB Footwork - 3 Step Drop | AC6: QB Footwork - Fake Handoff Rollout | AD6: QB Footwork - Toss/Pitch | AE6: Receiver Stance - First Step Explosion | AF6: RB Stance - First Step Explosion | AG6: 3 Point Stance - First Step Explosion | AH6: Handoff footwork - RB | AI6: Handoff footwork - QB | AJ6: Handoff footwork - QB & RB | AK6: Pass Patterns - WR | AL6: Ball Security Overview | AM6: Stance Simon Says | AN6: Turn and Burn | BA6: Box Drill
B7: =IF($C7="", "", $B6 + $C6) -> 0.75208333 | C7: 0.0055555556 | D7: Fundamentals | E7: Receiver Stance - First Step Explosion | F7: 3 | G7: =IF($E7="","", IF( _xlfn.XLOOKUP($E7,DrillsTable[Drill],DrillsTable[Equipment],"",0) = "", "None", _xlfn.XLOOKUP($E7,DrillsTable[Drill],DrillsTable[Equipment],"",0) ) ) -> Tennis ball, cones | H7: =_xlfn.LET( _xlpm.result, _xlfn.XLOOKUP($E7, DrillsTable[Drill], DrillsTable[Competition], "", 0), IF(_xlpm.result = "", "", _xlpm.result) ) -> Yes | I7: =IF($E7="","", IF( _xlfn.XLOOKUP($E7,DrillsTable[Drill],DrillsTable[Reference],"",0) = "", "", HYPERLINK(_xlfn.XLOOKUP($E7,DrillsTable[Drill],DrillsTable[Reference],"",0),"Link") ) ) | AA7: {=TRANSPOSE(_xlfn._xlws.FILTER( Drills_Drill, (Drills_Competency=$D7) * ( IF( PP1_League="Pee Wee", Drills_PW, IF( PP1_League="JV", Drills_JV, IF( PP1_League="Varsity", Drills_Varsity, IF( PP1_League="All CG", Drills_PW, Drills_VT ) ) ) ) = "X" ), "No matching drills" ))} -> Receiving/Catching a ball | AB7: QB Footwork - 3 Step Drop | AC7: QB Footwork - Fake Handoff Rollout | AD7: QB Footwork - Toss/Pitch | AE7: Receiver Stance - First Step Explosion | AF7: RB Stance - First Step Explosion | AG7: 3 Point Stance - First Step Explosion | AH7: Handoff footwork - RB | AI7: Handoff footwork - QB | AJ7: Handoff footwork - QB & RB | AK7: Pass Patterns - WR | AL7: Ball Security Overview | AM7: Stance Simon Says | AN7: Turn and Burn | BA7: Pass Patterns - WR
B8: =IF($C8="", "", $B7 + $C7) -> 0.75763889 | C8: 0.0055555556 | D8: Fundamentals | E8: QB Footwork - Toss/Pitch | F8: 4 | G8: =IF($E8="","", IF( _xlfn.XLOOKUP($E8,DrillsTable[Drill],DrillsTable[Equipment],"",0) = "", "None", _xlfn.XLOOKUP($E8,DrillsTable[Drill],DrillsTable[Equipment],"",0) ) ) -> Cones | H8: =_xlfn.LET( _xlpm.result, _xlfn.XLOOKUP($E8, DrillsTable[Drill], DrillsTable[Competition], "", 0), IF(_xlpm.result = "", "", _xlpm.result) ) | I8: =IF($E8="","", IF( _xlfn.XLOOKUP($E8,DrillsTable[Drill],DrillsTable[Reference],"",0) = "", "", HYPERLINK(_xlfn.XLOOKUP($E8,DrillsTable[Drill],DrillsTable[Reference],"",0),"Link") ) ) | AA8: {=TRANSPOSE(_xlfn._xlws.FILTER( Drills_Drill, (Drills_Competency=$D8) * ( IF( PP1_League="Pee Wee", Drills_PW, IF( PP1_League="JV", Drills_JV, IF( PP1_League="Varsity", Drills_Varsity, IF( PP1_League="All CG", Drills_PW, Drills_VT ) ) ) ) = "X" ), "No matching drills" ))} -> Receiving/Catching a ball | AB8: QB Footwork - 3 Step Drop | AC8: QB Footwork - Fake Handoff Rollout | AD8: QB Footwork - Toss/Pitch | AE8: Receiver Stance - First Step Explosion | AF8: RB Stance - First Step Explosion | AG8: 3 Point Stance - First Step Explosion | AH8: Handoff footwork - RB | AI8: Handoff footwork - QB | AJ8: Handoff footwork - QB & RB | AK8: Pass Patterns - WR | AL8: Ball Security Overview | AM8: Stance Simon Says | AN8: Turn and Burn | BA8: Receiver Stance - First Step Explosion
B9: =IF($C9="", "", $B8 + $C8) -> 0.76319444 | C9: 0.0013888889 | D9: Warmup/Cooldown | E9: Water Break | F9: Whole Team | G9: =IF($E9="","", IF( _xlfn.XLOOKUP($E9,DrillsTable[Drill],DrillsTable[Equipment],"",0) = "", "None", _xlfn.XLOOKUP($E9,DrillsTable[Drill],DrillsTable[Equipment],"",0) ) ) -> None | H9: =_xlfn.LET( _xlpm.result, _xlfn.XLOOKUP($E9, DrillsTable[Drill], DrillsTable[Competition], "", 0), IF(_xlpm.result = "", "", _xlpm.result) ) | I9: =IF($E9="","", IF( _xlfn.XLOOKUP($E9,DrillsTable[Drill],DrillsTable[Reference],"",0) = "", "", HYPERLINK(_xlfn.XLOOKUP($E9,DrillsTable[Drill],DrillsTable[Reference],"",0),"Link") ) ) | AA9: {=TRANSPOSE(_xlfn._xlws.FILTER( Drills_Drill, (Drills_Competency=$D9) * ( IF( PP1_League="Pee Wee", Drills_PW, IF( PP1_League="JV", Drills_JV, IF( PP1_League="Varsity", Drills_Varsity, IF( PP1_League="All CG", Drills_PW, Drills_VT ) ) ) ) = "X" ), "No matching drills" ))} -> Pin up | AB9: Dynamic Stretching Routine | AC9: Sprints | AD9: Chalk Talk | AE9: Water Break | BA9: QB Footwork - Toss/Pitch
B10: =IF($C10="", "", $B9 + $C9) -> 0.76458333 | C10: 0.0055555556 | D10: Offense | E10: QB/RB Toss/Pitch Drill | F10: 1 | G10: =IF($E10="","", IF( _xlfn.XLOOKUP($E10,DrillsTable[Drill],DrillsTable[Equipment],"",0) = "", "None", _xlfn.XLOOKUP($E10,DrillsTable[Drill],DrillsTable[Equipment],"",0) ) ) -> Cones | H10: =_xlfn.LET( _xlpm.result, _xlfn.XLOOKUP($E10, DrillsTable[Drill], DrillsTable[Competition], "", 0), IF(_xlpm.result = "", "", _xlpm.result) ) | I10: =IF($E10="","", IF( _xlfn.XLOOKUP($E10,DrillsTable[Drill],DrillsTable[Reference],"",0) = "", "", HYPERLINK(_xlfn.XLOOKUP($E10,DrillsTable[Drill],DrillsTable[Reference],"",0),"Link") ) ) | AA10: {=TRANSPOSE(_xlfn._xlws.FILTER( Drills_Drill, (Drills_Competency=$D10) * ( IF( PP1_League="Pee Wee", Drills_PW, IF( PP1_League="JV", Drills_JV, IF( PP1_League="Varsity", Drills_Varsity, IF( PP1_League="All CG", Drills_PW, Drills_VT ) ) ) ) = "X" ), "No matching drills" ))} -> Playbook - Walkthrough | AB10: QB/WR Pass Routes | AC10: QB/RB Handoff Drill | AD10: QB/RB Toss/Pitch Drill | AE10: QB/RB Handoff Cut Drill | AF10: Playbook - Full Speed | BA10: Water Break
B11: =IF($C11="", "", $B10 + $C10) -> 0.77013889 | C11: 0.0055555556 | D11: Fundamentals | E11: Turn and Burn | F11: 2 | G11: =IF($E11="","", IF( _xlfn.XLOOKUP($E11,DrillsTable[Drill],DrillsTable[Equipment],"",0) = "", "None", _xlfn.XLOOKUP($E11,DrillsTable[Drill],DrillsTable[Equipment],"",0) ) ) -> Ball | H11: =_xlfn.LET( _xlpm.result, _xlfn.XLOOKUP($E11, DrillsTable[Drill], DrillsTable[Competition], "", 0), IF(_xlpm.result = "", "", _xlpm.result) ) -> Yes | I11: =IF($E11="","", IF( _xlfn.XLOOKUP($E11,DrillsTable[Drill],DrillsTable[Reference],"",0) = "", "", HYPERLINK(_xlfn.XLOOKUP($E11,DrillsTable[Drill],DrillsTable[Reference],"",0),"Link") ) ) | AA11: {=TRANSPOSE(_xlfn._xlws.FILTER( Drills_Drill, (Drills_Competency=$D11) * ( IF( PP1_League="Pee Wee", Drills_PW, IF( PP1_League="JV", Drills_JV, IF( PP1_League="Varsity", Drills_Varsity, IF( PP1_League="All CG", Drills_PW, Drills_VT ) ) ) ) = "X" ), "No matching drills" ))} -> Receiving/Catching a ball | AB11: QB Footwork - 3 Step Drop | AC11: QB Footwork - Fake Handoff Rollout | AD11: QB Footwork - Toss/Pitch | AE11: Receiver Stance - First Step Explosion | AF11: RB Stance - First Step Explosion | AG11: 3 Point Stance - First Step Explosion | AH11: Handoff footwork - RB | AI11: Handoff footwork - QB | AJ11: Handoff footwork - QB & RB | AK11: Pass Patterns - WR | AL11: Ball Security Overview | AM11: Stance Simon Says | AN11: Turn and Burn | BA11: QB/RB Toss/Pitch Drill
B12: =IF($C12="", "", $B11 + $C11) -> 0.77569444 | C12: 0.0055555556 | D12: Scrimmage Games | E12: 1 on 1 - Pass Coverage | F12: 3 | G12: =IF($E12="","", IF( _xlfn.XLOOKUP($E12,DrillsTable[Drill],DrillsTable[Equipment],"",0) = "", "None", _xlfn.XLOOKUP($E12,DrillsTable[Drill],DrillsTable[Equipment],"",0) ) ) -> None | H12: =_xlfn.LET( _xlpm.result, _xlfn.XLOOKUP($E12, DrillsTable[Drill], DrillsTable[Competition], "", 0), IF(_xlpm.result = "", "", _xlpm.result) ) -> Yes | I12: =IF($E12="","", IF( _xlfn.XLOOKUP($E12,DrillsTable[Drill],DrillsTable[Reference],"",0) = "", "", HYPERLINK(_xlfn.XLOOKUP($E12,DrillsTable[Drill],DrillsTable[Reference],"",0),"Link") ) ) | AA12: {=TRANSPOSE(_xlfn._xlws.FILTER( Drills_Drill, (Drills_Competency=$D12) * ( IF( PP1_League="Pee Wee", Drills_PW, IF( PP1_League="JV", Drills_JV, IF( PP1_League="Varsity", Drills_Varsity, IF( PP1_League="All CG", Drills_PW, Drills_VT ) ) ) ) = "X" ), "No matching drills" ))} -> 2 on 2 - LB Switch or Stick (Communication) | AB12: 1 on 1 - Pursuit Guantlet | AC12: 1 on 1 - Handoff Gauntlet | AD12: 1 on 1 - Toss/Pitch Pursuit | AE12: 1 on 1 - Pass Coverage | AF12: Red Rover | AG12: Box Drill Relay | BA12: Turn and Burn
B13: =IF($C13="", "", $B12 + $C12) -> 0.78125 | C13: 0.0055555556 | D13: Scrimmage Games | E13: 1 on 1 - Handoff Gauntlet | F13: 4 | G13: =IF($E13="","", IF( _xlfn.XLOOKUP($E13,DrillsTable[Drill],DrillsTable[Equipment],"",0) = "", "None", _xlfn.XLOOKUP($E13,DrillsTable[Drill],DrillsTable[Equipment],"",0) ) ) -> Cones | H13: =_xlfn.LET( _xlpm.result, _xlfn.XLOOKUP($E13, DrillsTable[Drill], DrillsTable[Competition], "", 0), IF(_xlpm.result = "", "", _xlpm.result) ) -> Yes | I13: =IF($E13="","", IF( _xlfn.XLOOKUP($E13,DrillsTable[Drill],DrillsTable[Reference],"",0) = "", "", HYPERLINK(_xlfn.XLOOKUP($E13,DrillsTable[Drill],DrillsTable[Reference],"",0),"Link") ) ) | K13: Drill Groups | P13: Drill Groups | AA13: {=TRANSPOSE(_xlfn._xlws.FILTER( Drills_Drill, (Drills_Competency=$D13) * ( IF( PP1_League="Pee Wee", Drills_PW, IF( PP1_League="JV", Drills_JV, IF( PP1_League="Varsity", Drills_Varsity, IF( PP1_League="All CG", Drills_PW, Drills_VT ) ) ) ) = "X" ), "No matching drills" ))} -> 2 on 2 - LB Switch or Stick (Communication) | AB13: 1 on 1 - Pursuit Guantlet | AC13: 1 on 1 - Handoff Gauntlet | AD13: 1 on 1 - Toss/Pitch Pursuit | AE13: 1 on 1 - Pass Coverage | AF13: Red Rover | AG13: Box Drill Relay | BA13: 1 on 1 - Pass Coverage
B14: =IF($C14="", "", $B13 + $C13) -> 0.78680556 | C14: 0.0034722222 | D14: Warmup/Cooldown | E14: Chalk Talk | F14: Whole Team | G14: =IF($E14="","", IF( _xlfn.XLOOKUP($E14,DrillsTable[Drill],DrillsTable[Equipment],"",0) = "", "None", _xlfn.XLOOKUP($E14,DrillsTable[Drill],DrillsTable[Equipment],"",0) ) ) -> None | H14: =_xlfn.LET( _xlpm.result, _xlfn.XLOOKUP($E14, DrillsTable[Drill], DrillsTable[Competition], "", 0), IF(_xlpm.result = "", "", _xlpm.result) ) | I14: =IF($E14="","", IF( _xlfn.XLOOKUP($E14,DrillsTable[Drill],DrillsTable[Reference],"",0) = "", "", HYPERLINK(_xlfn.XLOOKUP($E14,DrillsTable[Drill],DrillsTable[Reference],"",0),"Link") ) ) | AA14: {=TRANSPOSE(_xlfn._xlws.FILTER( Drills_Drill, (Drills_Competency=$D14) * ( IF( PP1_League="Pee Wee", Drills_PW, IF( PP1_League="JV", Drills_JV, IF( PP1_League="Varsity", Drills_Varsity, IF( PP1_League="All CG", Drills_PW, Drills_VT ) ) ) ) = "X" ), "No matching drills" ))} -> Pin up | AB14: Dynamic Stretching Routine | AC14: Sprints | AD14: Chalk Talk | AE14: Water Break | BA14: 1 on 1 - Handoff Gauntlet
B15: =IF($C15="", "", $B14 + $C14) | G15: =IF($E15="","", IF( _xlfn.XLOOKUP($E15,DrillsTable[Drill],DrillsTable[Equipment],"",0) = "", "None", _xlfn.XLOOKUP($E15,DrillsTable[Drill],DrillsTable[Equipment],"",0) ) ) | H15: =_xlfn.LET( _xlpm.result, _xlfn.XLOOKUP($E15, DrillsTable[Drill], DrillsTable[Competition], "", 0), IF(_xlpm.result = "", "", _xlpm.result) ) | I15: =IF($E15="","", IF( _xlfn.XLOOKUP($E15,DrillsTable[Drill],DrillsTable[Reference],"",0) = "", "", HYPERLINK(_xlfn.XLOOKUP($E15,DrillsTable[Drill],DrillsTable[Reference],"",0),"Link") ) ) | AA15: {=TRANSPOSE(_xlfn._xlws.FILTER( Drills_Drill, (Drills_Competency=$D15) * ( IF( PP1_League="Pee Wee", Drills_PW, IF( PP1_League="JV", Drills_JV, IF( PP1_League="Varsity", Drills_Varsity, IF( PP1_League="All CG", Drills_PW, Drills_VT ) ) ) ) = "X" ), "No matching drills" ))} -> No matching drills | BA15: Chalk Talk
B16: =IF($C16="", "", $B15 + $C15) | G16: =IF($E16="","", IF( _xlfn.XLOOKUP($E16,DrillsTable[Drill],DrillsTable[Equipment],"",0) = "", "None", _xlfn.XLOOKUP($E16,DrillsTable[Drill],DrillsTable[Equipment],"",0) ) ) | H16: =_xlfn.LET( _xlpm.result, _xlfn.XLOOKUP($E16, DrillsTable[Drill], DrillsTable[Competition], "", 0), IF(_xlpm.result = "", "", _xlpm.result) ) | I16: =IF($E16="","", IF( _xlfn.XLOOKUP($E16,DrillsTable[Drill],DrillsTable[Reference],"",0) = "", "", HYPERLINK(_xlfn.XLOOKUP($E16,DrillsTable[Drill],DrillsTable[Reference],"",0),"Link") ) ) | AA16: {=TRANSPOSE(_xlfn._xlws.FILTER( Drills_Drill, (Drills_Competency=$D16) * ( IF( PP1_League="Pee Wee", Drills_PW, IF( PP1_League="JV", Drills_JV, IF( PP1_League="Varsity", Drills_Varsity, IF( PP1_League="All CG", Drills_PW, Drills_VT ) ) ) ) = "X" ), "No matching drills" ))} -> No matching drills | BA16: 0
B17: =IF($C17="", "", $B14 + $C14) | G17: =IF($E17="","", IF( _xlfn.XLOOKUP($E17,DrillsTable[Drill],DrillsTable[Equipment],"",0) = "", "None", _xlfn.XLOOKUP($E17,DrillsTable[Drill],DrillsTable[Equipment],"",0) ) ) | H17: =_xlfn.LET( _xlpm.result, _xlfn.XLOOKUP($E17, DrillsTable[Drill], DrillsTable[Competition], "", 0), IF(_xlpm.result = "", "", _xlpm.result) ) | I17: =IF($E17="","", IF( _xlfn.XLOOKUP($E17,DrillsTable[Drill],DrillsTable[Reference],"",0) = "", "", HYPERLINK(_xlfn.XLOOKUP($E17,DrillsTable[Drill],DrillsTable[Reference],"",0),"Link") ) ) | AA17: {=TRANSPOSE(_xlfn._xlws.FILTER( Drills_Drill, (Drills_Competency=$D17) * ( IF( PP1_League="Pee Wee", Drills_PW, IF( PP1_League="JV", Drills_JV, IF( PP1_League="Varsity", Drills_Varsity, IF( PP1_League="All CG", Drills_PW, Drills_VT ) ) ) ) = "X" ), "No matching drills" ))} -> No matching drills | BA17: 0
B18: =IF($C18="", "", $B15 + $C15) | G18: =IF($E18="","", IF( _xlfn.XLOOKUP($E18,DrillsTable[Drill],DrillsTable[Equipment],"",0) = "", "None", _xlfn.XLOOKUP($E18,DrillsTable[Drill],DrillsTable[Equipment],"",0) ) ) | H18: =_xlfn.LET( _xlpm.result, _xlfn.XLOOKUP($E18, DrillsTable[Drill], DrillsTable[Competition], "", 0), IF(_xlpm.result = "", "", _xlpm.result) ) | I18: =IF($E18="","", IF( _xlfn.XLOOKUP($E18,DrillsTable[Drill],DrillsTable[Reference],"",0) = "", "", HYPERLINK(_xlfn.XLOOKUP($E18,DrillsTable[Drill],DrillsTable[Reference],"",0),"Link") ) ) | AA18: {=TRANSPOSE(_xlfn._xlws.FILTER( Drills_Drill, (Drills_Competency=$D18) * ( IF( PP1_League="Pee Wee", Drills_PW, IF( PP1_League="JV", Drills_JV, IF( PP1_League="Varsity", Drills_Varsity, IF( PP1_League="All CG", Drills_PW, Drills_VT ) ) ) ) = "X" ), "No matching drills" ))} -> No matching drills | BA18: 0
B19: =IF($C19="", "", $B18 + $C18) | G19: =IF($E19="","", IF( _xlfn.XLOOKUP($E19,DrillsTable[Drill],DrillsTable[Equipment],"",0) = "", "None", _xlfn.XLOOKUP($E19,DrillsTable[Drill],DrillsTable[Equipment],"",0) ) ) | H19: =_xlfn.LET( _xlpm.result, _xlfn.XLOOKUP($E19, DrillsTable[Drill], DrillsTable[Competition], "", 0), IF(_xlpm.result = "", "", _xlpm.result) ) | I19: =IF($E19="","", IF( _xlfn.XLOOKUP($E19,DrillsTable[Drill],DrillsTable[Reference],"",0) = "", "", HYPERLINK(_xlfn.XLOOKUP($E19,DrillsTable[Drill],DrillsTable[Reference],"",0),"Link") ) ) | AA19: {=TRANSPOSE(_xlfn._xlws.FILTER( Drills_Drill, (Drills_Competency=$D19) * ( IF( PP1_League="Pee Wee", Drills_PW, IF( PP1_League="JV", Drills_JV, IF( PP1_League="Varsity", Drills_Varsity, IF( PP1_League="All CG", Drills_PW, Drills_VT ) ) ) ) = "X" ), "No matching drills" ))} -> No matching drills | BA19: 0
B20: =IF($C20="", "", $B19 + $C19) | G20: =IF($E20="","", IF( _xlfn.XLOOKUP($E20,DrillsTable[Drill],DrillsTable[Equipment],"",0) = "", "None", _xlfn.XLOOKUP($E20,DrillsTable[Drill],DrillsTable[Equipment],"",0) ) ) | H20: =_xlfn.LET( _xlpm.result, _xlfn.XLOOKUP($E20, DrillsTable[Drill], DrillsTable[Competition], "", 0), IF(_xlpm.result = "", "", _xlpm.result) ) | I20: =IF($E20="","", IF( _xlfn.XLOOKUP($E20,DrillsTable[Drill],DrillsTable[Reference],"",0) = "", "", HYPERLINK(_xlfn.XLOOKUP($E20,DrillsTable[Drill],DrillsTable[Reference],"",0),"Link") ) ) | AA20: {=TRANSPOSE(_xlfn._xlws.FILTER( Drills_Drill, (Drills_Competency=$D20) * ( IF( PP1_League="Pee Wee", Drills_PW, IF( PP1_League="JV", Drills_JV, IF( PP1_League="Varsity", Drills_Varsity, IF( PP1_League="All CG", Drills_PW, Drills_VT ) ) ) ) = "X" ), "No matching drills" ))} -> No matching drills | BA20: 0
B21: {=LOOKUP(2, 1/(C3:C20<>""), C3:C20) + MAX(B3:B20)} -> 0.79027778 | C21: End Time | H21: PDF Reference | I21: =HYPERLINK(CG_Drills_Framework_Filepath,"CG Drills PDF") -> CG Drills PDF | BA21: 0
L22: Row Labels | M22: Total Time
B23: Station | C23: =Settings!G21 -> Teams | L23: Fundamentals | M23: 0.022222222
B24: {=IFERROR( IF( C23="Players", _xlfn.VSTACK(_xlfn.SEQUENCE(MAX(F3:F20)), "Specialty Pullout"), _xlfn.SEQUENCE(MAX(F3:F20)) ), "" )} -> 1 | C24: PW1 | L24: Warmup/Cooldown | M24: 0.016666667
B25: 2 | C25: PW2 | L25: Scrimmage Games | M25: 0.011111111
B26: 3 | C26: PW3 | L26: Agility | M26: 0.0055555556
B27: 4 | C27: PW4 | L27: Offense | M27: 0.0055555556
L28: Grand Total | M28: 0.061111111
B33: Station | C33: Coach | F33: Specialty Pullout
B34: {=_xlfn.ANCHORARRAY(B24)} -> 1 | C34: Parady | F34: Duration | G34: Competency | H34: Drill | I34: Coach
B35: 2 | C35: Bailey | AA35: {=TRANSPOSE(_xlfn._xlws.FILTER( Drills_Drill, (Drills_Competency=$G35) * ( IF( PP1_League="Pee Wee", Drills_PW, IF( PP1_League="JV", Drills_JV, IF( PP1_League="Varsity", Drills_Varsity, Drills_VT ) ) ) = "X" ), "No matching drills" ))} -> No matching drills
B36: 3 | C36: Filippini | AA36: {=TRANSPOSE(_xlfn._xlws.FILTER( Drills_Drill, (Drills_Competency=$G36) * ( IF( PP1_League="Pee Wee", Drills_PW, IF( PP1_League="JV", Drills_JV, IF( PP1_League="Varsity", Drills_Varsity, Drills_VT ) ) ) = "X" ), "No matching drills" ))} -> No matching drills
B37: 4 | C37: Rotello
AA39: {=TRANSPOSE(_xlfn._xlws.FILTER( Drills_Drill, (Drills_Competency=$G39) * ( IF( PP1_League="Pee Wee", Drills_PW, IF( PP1_League="JV", Drills_JV, IF( PP1_League="Varsity", Drills_Varsity, Drills_VT ) ) ) = "X" ), "No matching drills" ))} -> No matching drills
AA40: {=TRANSPOSE(_xlfn._xlws.FILTER( Drills_Drill, (Drills_Competency=$G40) * ( IF( PP1_League="Pee Wee", Drills_PW, IF( PP1_League="JV", Drills_JV, IF( PP1_League="Varsity", Drills_Varsity, Drills_VT ) ) ) = "X" ), "No matching drills" ))} -> No matching drills
AA41: {=TRANSPOSE(_xlfn._xlws.FILTER( Drills_Drill, (Drills_Competency=$G41) * ( IF( PP1_League="Pee Wee", Drills_PW, IF( PP1_League="JV", Drills_JV, IF( PP1_League="Varsity", Drills_Varsity, Drills_VT ) ) ) = "X" ), "No matching drills" ))} -> No matching drills
B43: ZigZag: Ball on outside arm, plant with outside foot Pass Patterns: Drag (1 Step), Zag (2 Step), Slant (3 Step), Out (4 Step), Fade (4 Step), Hitch (5 Step) RB Stance: 2 point stance, feet parallel to LOS Receiver Stance: Inside foot forward QB Stance: Feet parallel and inside shoulder width QB Toss Footwork: Step back 45 degrees with foot closest to the toss, follow through with opposite foot as the QB tosses the ball. NO hopping

Sheet PeeWee Practice Templates
D2: Pee Wee
B3: Practice Description | D3: Duration | E3: Competency | F3: Drill | G3: Station | AA3: Pee Wee Drill Options
B4: Week 1 Tuesday (All CG) | C4: =IF(B4="","",SUM(D4:D21)) -> 0.061111111 | D4: 0.0013888889 | E4: Warmup/Cooldown | F4: Pin up | G4: Whole Team | AA4: {=TRANSPOSE(_xlfn._xlws.FILTER( Drills_Drill, (Drills_Competency=$E4) * ( IF( PP_Template="Pee Wee", Drills_PW, IF( PP_Template="JV", Drills_JV, IF( PP_Template="Varsity", Drills_Varsity, Drills_VT ) ) ) = "X" ), "No matching drills" ))} -> Pin up | AB4: Dynamic Stretching Routine | AC4: Sprints | AD4: Chalk Talk | AE4: Water Break
D5: 0.010416667 | E5: Warmup/Cooldown | F5: Dynamic Stretching Routine | G5: Whole Team | AA5: {=TRANSPOSE(_xlfn._xlws.FILTER( Drills_Drill, (Drills_Competency=$E5) * ( IF( PP_Template="Pee Wee", Drills_PW, IF( PP_Template="JV", Drills_JV, IF( PP_Template="Varsity", Drills_Varsity, Drills_VT ) ) ) = "X" ), "No matching drills" ))} -> Pin up | AB5: Dynamic Stretching Routine | AC5: Sprints | AD5: Chalk Talk | AE5: Water Break
D6: 0.0055555556 | E6: Agility | F6: Zig Zag Footwork Drill | G6: 1 | AA6: {=TRANSPOSE(_xlfn._xlws.FILTER( Drills_Drill, (Drills_Competency=$E6) * ( IF( PP_Template="Pee Wee", Drills_PW, IF( PP_Template="JV", Drills_JV, IF( PP_Template="Varsity", Drills_Varsity, Drills_VT ) ) ) = "X" ), "No matching drills" ))} -> Zig Zag Footwork Drill | AB6: L-Drill | AC6: T-Drill | AD6: Box Drill | AE6: Bag Drills | AF6: LB Box Drill | AG6: LB X-Mas Tree Drill | AH6: Defensive Back Drill | AI6: Agility Ladder Drills | AJ6: Mirror Drill | AK6: DB Call-out Drill (Right, Left, Back)
D7: 0.0055555556 | E7: Agility | F7: Box Drill | G7: 2 | AA7: {=TRANSPOSE(_xlfn._xlws.FILTER( Drills_Drill, (Drills_Competency=$E7) * ( IF( PP_Template="Pee Wee", Drills_PW, IF( PP_Template="JV", Drills_JV, IF( PP_Template="Varsity", Drills_Varsity, Drills_VT ) ) ) = "X" ), "No matching drills" ))} -> Zig Zag Footwork Drill | AB7: L-Drill | AC7: T-Drill | AD7: Box Drill | AE7: Bag Drills | AF7: LB Box Drill | AG7: LB X-Mas Tree Drill | AH7: Defensive Back Drill | AI7: Agility Ladder Drills | AJ7: Mirror Drill | AK7: DB Call-out Drill (Right, Left, Back)
D8: 0.0055555556 | E8: Agility | F8: DB Call-out Drill (Right, Left, Back) | G8: 3 | AA8: {=TRANSPOSE(_xlfn._xlws.FILTER( Drills_Drill, (Drills_Competency=$E8) * ( IF( PP_Template="Pee Wee", Drills_PW, IF( PP_Template="JV", Drills_JV, IF( PP_Template="Varsity", Drills_Varsity, Drills_VT ) ) ) = "X" ), "No matching drills" ))} -> Zig Zag Footwork Drill | AB8: L-Drill | AC8: T-Drill | AD8: Box Drill | AE8: Bag Drills | AF8: LB Box Drill | AG8: LB X-Mas Tree Drill | AH8: Defensive Back Drill | AI8: Agility Ladder Drills | AJ8: Mirror Drill | AK8: DB Call-out Drill (Right, Left, Back)
D9: 0.0055555556 | E9: Agility | F9: LB Box Drill | G9: 4 | AA9: {=TRANSPOSE(_xlfn._xlws.FILTER( Drills_Drill, (Drills_Competency=$E9) * ( IF( PP_Template="Pee Wee", Drills_PW, IF( PP_Template="JV", Drills_JV, IF( PP_Template="Varsity", Drills_Varsity, Drills_VT ) ) ) = "X" ), "No matching drills" ))} -> Zig Zag Footwork Drill | AB9: L-Drill | AC9: T-Drill | AD9: Box Drill | AE9: Bag Drills | AF9: LB Box Drill | AG9: LB X-Mas Tree Drill | AH9: Defensive Back Drill | AI9: Agility Ladder Drills | AJ9: Mirror Drill | AK9: DB Call-out Drill (Right, Left, Back)
D10: 0.0013888889 | E10: Warmup/Cooldown | F10: Water Break | G10: Whole Team | AA10: {=TRANSPOSE(_xlfn._xlws.FILTER( Drills_Drill, (Drills_Competency=$E10) * ( IF( PP_Template="Pee Wee", Drills_PW, IF( PP_Template="JV", Drills_JV, IF( PP_Template="Varsity", Drills_Varsity, Drills_VT ) ) ) = "X" ), "No matching drills" ))} -> Pin up | AB10: Dynamic Stretching Routine | AC10: Sprints | AD10: Chalk Talk | AE10: Water Break
D11: 0.0055555556 | E11: Fundamentals | F11: Receiver Stance - First Step Explosion | G11: 5 | AA11: {=TRANSPOSE(_xlfn._xlws.FILTER( Drills_Drill, (Drills_Competency=$E11) * ( IF( PP_Template="Pee Wee", Drills_PW, IF( PP_Template="JV", Drills_JV, IF( PP_Template="Varsity", Drills_Varsity, Drills_VT ) ) ) = "X" ), "No matching drills" ))} -> Receiving/Catching a ball | AB11: QB Footwork - 3 Step Drop | AC11: QB Footwork - Fake Handoff Rollout | AD11: QB Footwork - Toss/Pitch | AE11: Receiver Stance - First Step Explosion | AF11: RB Stance - First Step Explosion | AG11: 3 Point Stance - First Step Explosion | AH11: Handoff footwork - RB | AI11: Handoff footwork - QB | AJ11: Handoff footwork - QB & RB | AK11: Pass Patterns - WR | AL11: Ball Security Overview | AM11: Stance Simon Says | AN11: Turn and Burn
D12: 0 | E12: Fundamentals | F12: Ball Security Overview | G12: 6 | AA12: {=TRANSPOSE(_xlfn._xlws.FILTER( Drills_Drill, (Drills_Competency=$E12) * ( IF( PP_Template="Pee Wee", Drills_PW, IF( PP_Template="JV", Drills_JV, IF( PP_Template="Varsity", Drills_Varsity, Drills_VT ) ) ) = "X" ), "No matching drills" ))} -> Receiving/Catching a ball | AB12: QB Footwork - 3 Step Drop | AC12: QB Footwork - Fake Handoff Rollout | AD12: QB Footwork - Toss/Pitch | AE12: Receiver Stance - First Step Explosion | AF12: RB Stance - First Step Explosion | AG12: 3 Point Stance - First Step Explosion | AH12: Handoff footwork - RB | AI12: Handoff footwork - QB | AJ12: Handoff footwork - QB & RB | AK12: Pass Patterns - WR | AL12: Ball Security Overview | AM12: Stance Simon Says | AN12: Turn and Burn
D13: 0.0055555556 | E13: Fundamentals | F13: Handoff footwork - RB | G13: 6 | AA13: {=TRANSPOSE(_xlfn._xlws.FILTER( Drills_Drill, (Drills_Competency=$E13) * ( IF( PP_Template="Pee Wee", Drills_PW, IF( PP_Template="JV", Drills_JV, IF( PP_Template="Varsity", Drills_Varsity, Drills_VT ) ) ) = "X" ), "No matching drills" ))} -> Receiving/Catching a ball | AB13: QB Footwork - 3 Step Drop | AC13: QB Footwork - Fake Handoff Rollout | AD13: QB Footwork - Toss/Pitch | AE13: Receiver Stance - First Step Explosion | AF13: RB Stance - First Step Explosion | AG13: 3 Point Stance - First Step Explosion | AH13: Handoff footwork - RB | AI13: Handoff footwork - QB | AJ13: Handoff footwork - QB & RB | AK13: Pass Patterns - WR | AL13: Ball Security Overview | AM13: Stance Simon Says | AN13: Turn and Burn
D14: 0 | E14: Fundamentals | F14: Receiving/Catching a ball | G14: 7 | AA14: {=TRANSPOSE(_xlfn._xlws.FILTER( Drills_Drill, (Drills_Competency=$E14) * ( IF( PP_Template="Pee Wee", Drills_PW, IF( PP_Template="JV", Drills_JV, IF( PP_Template="Varsity", Drills_Varsity, Drills_VT ) ) ) = "X" ), "No matching drills" ))} -> Receiving/Catching a ball | AB14: QB Footwork - 3 Step Drop | AC14: QB Footwork - Fake Handoff Rollout | AD14: QB Footwork - Toss/Pitch | AE14: Receiver Stance - First Step Explosion | AF14: RB Stance - First Step Explosion | AG14: 3 Point Stance - First Step Explosion | AH14: Handoff footwork - RB | AI14: Handoff footwork - QB | AJ14: Handoff footwork - QB & RB | AK14: Pass Patterns - WR | AL14: Ball Security Overview | AM14: Stance Simon Says | AN14: Turn and Burn
D15: 0.0055555556 | E15: Fundamentals | F15: Pass Patterns - WR | G15: 7 | AA15: {=TRANSPOSE(_xlfn._xlws.FILTER( Drills_Drill, (Drills_Competency=$E15) * ( IF( PP_Template="Pee Wee", Drills_PW, IF( PP_Template="JV", Drills_JV, IF( PP_Template="Varsity", Drills_Varsity, Drills_VT ) ) ) = "X" ), "No matching drills" ))} -> Receiving/Catching a ball | AB15: QB Footwork - 3 Step Drop | AC15: QB Footwork - Fake Handoff Rollout | AD15: QB Footwork - Toss/Pitch | AE15: Receiver Stance - First Step Explosion | AF15: RB Stance - First Step Explosion | AG15: 3 Point Stance - First Step Explosion | AH15: Handoff footwork - RB | AI15: Handoff footwork - QB | AJ15: Handoff footwork - QB & RB | AK15: Pass Patterns - WR | AL15: Ball Security Overview | AM15: Stance Simon Says | AN15: Turn and Burn
D16: 0.0055555556 | E16: Fundamentals | F16: Stance Simon Says | G16: 8 | AA16: {=TRANSPOSE(_xlfn._xlws.FILTER( Drills_Drill, (Drills_Competency=$E16) * ( IF( PP_Template="Pee Wee", Drills_PW, IF( PP_Template="JV", Drills_JV, IF( PP_Template="Varsity", Drills_Varsity, Drills_VT ) ) ) = "X" ), "No matching drills" ))} -> Receiving/Catching a ball | AB16: QB Footwork - 3 Step Drop | AC16: QB Footwork - Fake Handoff Rollout | AD16: QB Footwork - Toss/Pitch | AE16: Receiver Stance - First Step Explosion | AF16: RB Stance - First Step Explosion | AG16: 3 Point Stance - First Step Explosion | AH16: Handoff footwork - RB | AI16: Handoff footwork - QB | AJ16: Handoff footwork - QB & RB | AK16: Pass Patterns - WR | AL16: Ball Security Overview | AM16: Stance Simon Says | AN16: Turn and Burn
D17: 0.0034722222 | E17: Warmup/Cooldown | F17: Chalk Talk | G17: Whole Team | AA17: {=TRANSPOSE(_xlfn._xlws.FILTER( Drills_Drill, (Drills_Competency=$E17) * ( IF( PP_Template="Pee Wee", Drills_PW, IF( PP_Template="JV", Drills_JV, IF( PP_Template="Varsity", Drills_Varsity, Drills_VT ) ) ) = "X" ), "No matching drills" ))} -> Pin up | AB17: Dynamic Stretching Routine | AC17: Sprints | AD17: Chalk Talk | AE17: Water Break
AA18: {=TRANSPOSE(_xlfn._xlws.FILTER( Drills_Drill, (Drills_Competency=$E18) * ( IF( PP_Template="Pee Wee", Drills_PW, IF( PP_Template="JV", Drills_JV, IF( PP_Template="Varsity", Drills_Varsity, Drills_VT ) ) ) = "X" ), "No matching drills" ))} -> No matching drills
AA19: {=TRANSPOSE(_xlfn._xlws.FILTER( Drills_Drill, (Drills_Competency=$E19) * ( IF( PP_Template="Pee Wee", Drills_PW, IF( PP_Template="JV", Drills_JV, IF( PP_Template="Varsity", Drills_Varsity, Drills_VT ) ) ) = "X" ), "No matching drills" ))} -> No matching drills
AA20: {=TRANSPOSE(_xlfn._xlws.FILTER( Drills_Drill, (Drills_Competency=$E20) * ( IF( PP_Template="Pee Wee", Drills_PW, IF( PP_Template="JV", Drills_JV, IF( PP_Template="Varsity", Drills_Varsity, Drills_VT ) ) ) = "X" ), "No matching drills" ))} -> No matching drills
AA21: {=TRANSPOSE(_xlfn._xlws.FILTER( Drills_Drill, (Drills_Competency=$E21) * ( IF( PP_Template="Pee Wee", Drills_PW, IF( PP_Template="JV", Drills_JV, IF( PP_Template="Varsity", Drills_Varsity, Drills_VT ) ) ) = "X" ), "No matching drills" ))} -> No matching drills
B22: Week 1 Thursday (All CG) | C22: =IF(B22="","",SUM(D22:D39)) -> 0.061111111 | D22: 0.0013888889 | E22: Warmup/Cooldown | F22: Pin up | G22: Whole Team | AA22: {=TRANSPOSE(_xlfn._xlws.FILTER( Drills_Drill, (Drills_Competency=$E22) * ( IF( PP_Template="Pee Wee", Drills_PW, IF( PP_Template="JV", Drills_JV, IF( PP_Template="Varsity", Drills_Varsity, Drills_VT ) ) ) = "X" ), "No matching drills" ))} -> Pin up | AB22: Dynamic Stretching Routine | AC22: Sprints | AD22: Chalk Talk | AE22: Water Break
D23: 0.010416667 | E23: Warmup/Cooldown | F23: Dynamic Stretching Routine | G23: Whole Team | AA23: {=TRANSPOSE(_xlfn._xlws.FILTER( Drills_Drill, (Drills_Competency=$E23) * ( IF( PP_Template="Pee Wee", Drills_PW, IF( PP_Template="JV", Drills_JV, IF( PP_Template="Varsity", Drills_Varsity, Drills_VT ) ) ) = "X" ), "No matching drills" ))} -> Pin up | AB23: Dynamic Stretching Routine | AC23: Sprints | AD23: Chalk Talk | AE23: Water Break
D24: 0.0055555556 | E24: Agility | F24: Zig Zag Footwork Drill | G24: 1 | AA24: {=TRANSPOSE(_xlfn._xlws.FILTER( Drills_Drill, (Drills_Competency=$E24) * ( IF( PP_Template="Pee Wee", Drills_PW, IF( PP_Template="JV", Drills_JV, IF( PP_Template="Varsity", Drills_Varsity, Drills_VT ) ) ) = "X" ), "No matching drills" ))} -> Zig Zag Footwork Drill | AB24: L-Drill | AC24: T-Drill | AD24: Box Drill | AE24: Bag Drills | AF24: LB Box Drill | AG24: LB X-Mas Tree Drill | AH24: Defensive Back Drill | AI24: Agility Ladder Drills | AJ24: Mirror Drill | AK24: DB Call-out Drill (Right, Left, Back)
D25: 0.0055555556 | E25: Agility | F25: T-Drill | G25: 2 | AA25: {=TRANSPOSE(_xlfn._xlws.FILTER( Drills_Drill, (Drills_Competency=$E25) * ( IF( PP_Template="Pee Wee", Drills_PW, IF( PP_Template="JV", Drills_JV, IF( PP_Template="Varsity", Drills_Varsity, Drills_VT ) ) ) = "X" ), "No matching drills" ))} -> Zig Zag Footwork Drill | AB25: L-Drill | AC25: T-Drill | AD25: Box Drill | AE25: Bag Drills | AF25: LB Box Drill | AG25: LB X-Mas Tree Drill | AH25: Defensive Back Drill | AI25: Agility Ladder Drills | AJ25: Mirror Drill | AK25: DB Call-out Drill (Right, Left, Back)
D26: 0.0055555556 | E26: Agility | F26: LB X-Mas Tree Drill | G26: 3 | AA26: {=TRANSPOSE(_xlfn._xlws.FILTER( Drills_Drill, (Drills_Competency=$E26) * ( IF( PP_Template="Pee Wee", Drills_PW, IF( PP_Template="JV", Drills_JV, IF( PP_Template="Varsity", Drills_Varsity, Drills_VT ) ) ) = "X" ), "No matching drills" ))} -> Zig Zag Footwork Drill | AB26: L-Drill | AC26: T-Drill | AD26: Box Drill | AE26: Bag Drills | AF26: LB Box Drill | AG26: LB X-Mas Tree Drill | AH26: Defensive Back Drill | AI26: Agility Ladder Drills | AJ26: Mirror Drill | AK26: DB Call-out Drill (Right, Left, Back)
D27: 0.0055555556 | E27: Agility | F27: Mirror Drill | G27: 4 | AA27: {=TRANSPOSE(_xlfn._xlws.FILTER( Drills_Drill, (Drills_Competency=$E27) * ( IF( PP_Template="Pee Wee", Drills_PW, IF( PP_Template="JV", Drills_JV, IF( PP_Template="Varsity", Drills_Varsity, Drills_VT ) ) ) = "X" ), "No matching drills" ))} -> Zig Zag Footwork Drill | AB27: L-Drill | AC27: T-Drill | AD27: Box Drill | AE27: Bag Drills | AF27: LB Box Drill | AG27: LB X-Mas Tree Drill | AH27: Defensive Back Drill | AI27: Agility Ladder Drills | AJ27: Mirror Drill | AK27: DB Call-out Drill (Right, Left, Back)
D28: 0.0013888889 | E28: Warmup/Cooldown | F28: Water Break | G28: Whole Team | AA28: {=TRANSPOSE(_xlfn._xlws.FILTER( Drills_Drill, (Drills_Competency=$E28) * ( IF( PP_Template="Pee Wee", Drills_PW, IF( PP_Template="JV", Drills_JV, IF( PP_Template="Varsity", Drills_Varsity, Drills_VT ) ) ) = "X" ), "No matching drills" ))} -> Pin up | AB28: Dynamic Stretching Routine | AC28: Sprints | AD28: Chalk Talk | AE28: Water Break
D29: 0.0055555556 | E29: Fundamentals | F29: RB Stance - First Step Explosion | G29: 5 | AA29: {=TRANSPOSE(_xlfn._xlws.FILTER( Drills_Drill, (Drills_Competency=$E29) * ( IF( PP_Template="Pee Wee", Drills_PW, IF( PP_Template="JV", Drills_JV, IF( PP_Template="Varsity", Drills_Varsity, Drills_VT ) ) ) = "X" ), "No matching drills" ))} -> Receiving/Catching a ball | AB29: QB Footwork - 3 Step Drop | AC29: QB Footwork - Fake Handoff Rollout | AD29: QB Footwork - Toss/Pitch | AE29: Receiver Stance - First Step Explosion | AF29: RB Stance - First Step Explosion | AG29: 3 Point Stance - First Step Explosion | AH29: Handoff footwork - RB | AI29: Handoff footwork - QB | AJ29: Handoff footwork - QB & RB | AK29: Pass Patterns - WR | AL29: Ball Security Overview | AM29: Stance Simon Says | AN29: Turn and Burn
D30: 0.0055555556 | E30: Fundamentals | F30: Turn and Burn | G30: 6 | AA30: {=TRANSPOSE(_xlfn._xlws.FILTER( Drills_Drill, (Drills_Competency=$E30) * ( IF( PP_Template="Pee Wee", Drills_PW, IF( PP_Template="JV", Drills_JV, IF( PP_Template="Varsity", Drills_Varsity, Drills_VT ) ) ) = "X" ), "No matching drills" ))} -> Receiving/Catching a ball | AB30: QB Footwork - 3 Step Drop | AC30: QB Footwork - Fake Handoff Rollout | AD30: QB Footwork - Toss/Pitch | AE30: Receiver Stance - First Step Explosion | AF30: RB Stance - First Step Explosion | AG30: 3 Point Stance - First Step Explosion | AH30: Handoff footwork - RB | AI30: Handoff footwork - QB | AJ30: Handoff footwork - QB & RB | AK30: Pass Patterns - WR | AL30: Ball Security Overview | AM30: Stance Simon Says | AN30: Turn and Burn
D31: 0.0055555556 | E31: Fundamentals | F31: Pass Patterns - WR | G31: 7 | AA31: {=TRANSPOSE(_xlfn._xlws.FILTER( Drills_Drill, (Drills_Competency=$E31) * ( IF( PP_Template="Pee Wee", Drills_PW, IF( PP_Template="JV", Drills_JV, IF( PP_Template="Varsity", Drills_Varsity, Drills_VT ) ) ) = "X" ), "No matching drills" ))} -> Receiving/Catching a ball | AB31: QB Footwork - 3 Step Drop | AC31: QB Footwork - Fake Handoff Rollout | AD31: QB Footwork - Toss/Pitch | AE31: Receiver Stance - First Step Explosion | AF31: RB Stance - First Step Explosion | AG31: 3 Point Stance - First Step Explosion | AH31: Handoff footwork - RB | AI31: Handoff footwork - QB | AJ31: Handoff footwork - QB & RB | AK31: Pass Patterns - WR | AL31: Ball Security Overview | AM31: Stance Simon Says | AN31: Turn and Burn
D32: 0.0055555556 | E32: Fundamentals | F32: Handoff footwork - QB & RB | G32: 8 | AA32: {=TRANSPOSE(_xlfn._xlws.FILTER( Drills_Drill, (Drills_Competency=$E32) * ( IF( PP_Template="Pee Wee", Drills_PW, IF( PP_Template="JV", Drills_JV, IF( PP_Template="Varsity", Drills_Varsity, Drills_VT ) ) ) = "X" ), "No matching drills" ))} -> Receiving/Catching a ball | AB32: QB Footwork - 3 Step Drop | AC32: QB Footwork - Fake Handoff Rollout | AD32: QB Footwork - Toss/Pitch | AE32: Receiver Stance - First Step Explosion | AF32: RB Stance - First Step Explosion | AG32: 3 Point Stance - First Step Explosion | AH32: Handoff footwork - RB | AI32: Handoff footwork - QB | AJ32: Handoff footwork - QB & RB | AK32: Pass Patterns - WR | AL32: Ball Security Overview | AM32: Stance Simon Says | AN32: Turn and Burn
D33: 0.0034722222 | E33: Warmup/Cooldown | F33: Chalk Talk | G33: Whole Team | AA33: {=TRANSPOSE(_xlfn._xlws.FILTER( Drills_Drill, (Drills_Competency=$E33) * ( IF( PP_Template="Pee Wee", Drills_PW, IF( PP_Template="JV", Drills_JV, IF( PP_Template="Varsity", Drills_Varsity, Drills_VT ) ) ) = "X" ), "No matching drills" ))} -> Pin up | AB33: Dynamic Stretching Routine | AC33: Sprints | AD33: Chalk Talk | AE33: Water Break
AA34: {=TRANSPOSE(_xlfn._xlws.FILTER( Drills_Drill, (Drills_Competency=$E34) * ( IF( PP_Template="Pee Wee", Drills_PW, IF( PP_Template="JV", Drills_JV, IF( PP_Template="Varsity", Drills_Varsity, Drills_VT ) ) ) = "X" ), "No matching drills" ))} -> No matching drills
AA35: {=TRANSPOSE(_xlfn._xlws.FILTER( Drills_Drill, (Drills_Competency=$E35) * ( IF( PP_Template="Pee Wee", Drills_PW, IF( PP_Template="JV", Drills_JV, IF( PP_Template="Varsity", Drills_Varsity, Drills_VT ) ) ) = "X" ), "No matching drills" ))} -> No matching drills
AA36: {=TRANSPOSE(_xlfn._xlws.FILTER( Drills_Drill, (Drills_Competency=$E36) * ( IF( PP_Template="Pee Wee", Drills_PW, IF( PP_Template="JV", Drills_JV, IF( PP_Template="Varsity", Drills_Varsity, Drills_VT ) ) ) = "X" ), "No matching drills" ))} -> No matching drills
AA37: {=TRANSPOSE(_xlfn._xlws.FILTER( Drills_Drill, (Drills_Competency=$E37) * ( IF( PP_Template="Pee Wee", Drills_PW, IF( PP_Template="JV", Drills_JV, IF( PP_Template="Varsity", Drills_Varsity, Drills_VT ) ) ) = "X" ), "No matching drills" ))} -> No matching drills
AA38: {=TRANSPOSE(_xlfn._xlws.FILTER( Drills_Drill, (Drills_Competency=$E38) * ( IF( PP_Template="Pee Wee", Drills_PW, IF( PP_Template="JV", Drills_JV, IF( PP_Template="Varsity", Drills_Varsity, Drills_VT ) ) ) = "X" ), "No matching drills" ))} -> No matching drills
AA39: {=TRANSPOSE(_xlfn._xlws.FILTER( Drills_Drill, (Drills_Competency=$E39) * ( IF( PP_Template="Pee Wee", Drills_PW, IF( PP_Template="JV", Drills_JV, IF( PP_Template="Varsity", Drills_Varsity, Drills_VT ) ) ) = "X" ), "No matching drills" ))} -> No matching drills
B40: Week 2 Tuesday | C40: =IF(B40="","",SUM(D40:D57)) -> 0.061111111 | D40: 0.0013888889 | E40: Warmup/Cooldown | F40: Pin up | G40: Whole Team | AA40: {=TRANSPOSE(_xlfn._xlws.FILTER( Drills_Drill, (Drills_Competency=$E40) * ( IF( PP_Template="Pee Wee", Drills_PW, IF( PP_Template="JV", Drills_JV, IF( PP_Template="Varsity", Drills_Varsity, Drills_VT ) ) ) = "X" ), "No matching drills" ))} -> Pin up | AB40: Dynamic Stretching Routine | AC40: Sprints | AD40: Chalk Talk | AE40: Water Break
D41: 0.010416667 | E41: Warmup/Cooldown | F41: Dynamic Stretching Routine | G41: Whole Team | AA41: {=TRANSPOSE(_xlfn._xlws.FILTER( Drills_Drill, (Drills_Competency=$E41) * ( IF( PP_Template="Pee Wee", Drills_PW, IF( PP_Template="JV", Drills_JV, IF( PP_Template="Varsity", Drills_Varsity, Drills_VT ) ) ) = "X" ), "No matching drills" ))} -> Pin up | AB41: Dynamic Stretching Routine | AC41: Sprints | AD41: Chalk Talk | AE41: Water Break
...

Sheet JV Practice Templates
D2: JV
B3: Practice Description | D3: Duration | E3: Competency | F3: Drill | G3: Station | AA3: JV Drill Options
B4: Week 1 Tuesday (All CG) | C4: =IF(B4="","",SUM(D4:D21)) -> 0.061111111 | D4: 0.0013888889 | E4: Warmup/Cooldown | F4: Pin up | G4: Whole Team | AA4: {=TRANSPOSE(_xlfn._xlws.FILTER( Drills_Drill, (Drills_Competency=$E4) * ( IF( PP_Template="Pee Wee", Drills_PW, IF( PP_Template="JV", Drills_JV, IF( PP_Template="Varsity", Drills_Varsity, Drills_VT ) ) ) = "X" ), "No matching drills" ))} -> Pin up | AB4: Dynamic Stretching Routine | AC4: Sprints | AD4: Chalk Talk | AE4: Water Break
D5: 0.010416667 | E5: Warmup/Cooldown | F5: Dynamic Stretching Routine | G5: Whole Team | AA5: {=TRANSPOSE(_xlfn._xlws.FILTER( Drills_Drill, (Drills_Competency=$E5) * ( IF( PP_Template="Pee Wee", Drills_PW, IF( PP_Template="JV", Drills_JV, IF( PP_Template="Varsity", Drills_Varsity, Drills_VT ) ) ) = "X" ), "No matching drills" ))} -> Pin up | AB5: Dynamic Stretching Routine | AC5: Sprints | AD5: Chalk Talk | AE5: Water Break
D6: 0.0055555556 | E6: Agility | F6: Zig Zag Footwork Drill | G6: 1 | AA6: {=TRANSPOSE(_xlfn._xlws.FILTER( Drills_Drill, (Drills_Competency=$E6) * ( IF( PP_Template="Pee Wee", Drills_PW, IF( PP_Template="JV", Drills_JV, IF( PP_Template="Varsity", Drills_Varsity, Drills_VT ) ) ) = "X" ), "No matching drills" ))} -> Zig Zag Footwork Drill | AB6: L-Drill | AC6: T-Drill | AD6: Sideline Tackle Drill | AE6: Box Drill | AF6: Bag Drills | AG6: LB Box Drill | AH6: LB X-Mas Tree Drill | AI6: Defensive Back Drill | AJ6: Agility Ladder Drills | AK6: Mirror Drill | AL6: DB Call-out Drill (Right, Left, Back)
D7: 0.0055555556 | E7: Agility | F7: Box Drill | G7: 2 | AA7: {=TRANSPOSE(_xlfn._xlws.FILTER( Drills_Drill, (Drills_Competency=$E7) * ( IF( PP_Template="Pee Wee", Drills_PW, IF( PP_Template="JV", Drills_JV, IF( PP_Template="Varsity", Drills_Varsity, Drills_VT ) ) ) = "X" ), "No matching drills" ))} -> Zig Zag Footwork Drill | AB7: L-Drill | AC7: T-Drill | AD7: Sideline Tackle Drill | AE7: Box Drill | AF7: Bag Drills | AG7: LB Box Drill | AH7: LB X-Mas Tree Drill | AI7: Defensive Back Drill | AJ7: Agility Ladder Drills | AK7: Mirror Drill | AL7: DB Call-out Drill (Right, Left, Back)
D8: 0.0055555556 | E8: Agility | F8: DB Call-out Drill (Right, Left, Back) | G8: 3 | AA8: {=TRANSPOSE(_xlfn._xlws.FILTER( Drills_Drill, (Drills_Competency=$E8) * ( IF( PP_Template="Pee Wee", Drills_PW, IF( PP_Template="JV", Drills_JV, IF( PP_Template="Varsity", Drills_Varsity, Drills_VT ) ) ) = "X" ), "No matching drills" ))} -> Zig Zag Footwork Drill | AB8: L-Drill | AC8: T-Drill | AD8: Sideline Tackle Drill | AE8: Box Drill | AF8: Bag Drills | AG8: LB Box Drill | AH8: LB X-Mas Tree Drill | AI8: Defensive Back Drill | AJ8: Agility Ladder Drills | AK8: Mirror Drill | AL8: DB Call-out Drill (Right, Left, Back)
D9: 0.0055555556 | E9: Agility | F9: LB Box Drill | G9: 4 | AA9: {=TRANSPOSE(_xlfn._xlws.FILTER( Drills_Drill, (Drills_Competency=$E9) * ( IF( PP_Template="Pee Wee", Drills_PW, IF( PP_Template="JV", Drills_JV, IF( PP_Template="Varsity", Drills_Varsity, Drills_VT ) ) ) = "X" ), "No matching drills" ))} -> Zig Zag Footwork Drill | AB9: L-Drill | AC9: T-Drill | AD9: Sideline Tackle Drill | AE9: Box Drill | AF9: Bag Drills | AG9: LB Box Drill | AH9: LB X-Mas Tree Drill | AI9: Defensive Back Drill | AJ9: Agility Ladder Drills | AK9: Mirror Drill | AL9: DB Call-out Drill (Right, Left, Back)
D10: 0.0013888889 | E10: Warmup/Cooldown | F10: Water Break | G10: Whole Team | AA10: {=TRANSPOSE(_xlfn._xlws.FILTER( Drills_Drill, (Drills_Competency=$E10) * ( IF( PP_Template="Pee Wee", Drills_PW, IF( PP_Template="JV", Drills_JV, IF( PP_Template="Varsity", Drills_Varsity, Drills_VT ) ) ) = "X" ), "No matching drills" ))} -> Pin up | AB10: Dynamic Stretching Routine | AC10: Sprints | AD10: Chalk Talk | AE10: Water Break
D11: 0.0055555556 | E11: Fundamentals | F11: Receiver Stance - First Step Explosion | G11: 5 | AA11: {=TRANSPOSE(_xlfn._xlws.FILTER( Drills_Drill, (Drills_Competency=$E11) * ( IF( PP_Template="Pee Wee", Drills_PW, IF( PP_Template="JV", Drills_JV, IF( PP_Template="Varsity", Drills_Varsity, Drills_VT ) ) ) = "X" ), "No matching drills" ))} -> Receiving/Catching a ball | AB11: QB Footwork - 3 Step Drop | AC11: QB Footwork - Fake Handoff Rollout | AD11: QB Footwork - Toss/Pitch | AE11: Receiver Stance - First Step Explosion | AF11: RB Stance - First Step Explosion | AG11: 3 Point Stance - First Step Explosion | AH11: Cadence Quick Sprint | AI11: Handoff footwork - RB | AJ11: Handoff footwork - QB | AK11: Handoff footwork - QB & RB | AL11: Pass Patterns - WR | AM11: Ball Security Overview | AN11: Stance Simon Says | AO11: Turn and Burn
D12: 0 | E12: Fundamentals | F12: Ball Security Overview | G12: 6 | AA12: {=TRANSPOSE(_xlfn._xlws.FILTER( Drills_Drill, (Drills_Competency=$E12) * ( IF( PP_Template="Pee Wee", Drills_PW, IF( PP_Template="JV", Drills_JV, IF( PP_Template="Varsity", Drills_Varsity, Drills_VT ) ) ) = "X" ), "No matching drills" ))} -> Receiving/Catching a ball | AB12: QB Footwork - 3 Step Drop | AC12: QB Footwork - Fake Handoff Rollout | AD12: QB Footwork - Toss/Pitch | AE12: Receiver Stance - First Step Explosion | AF12: RB Stance - First Step Explosion | AG12: 3 Point Stance - First Step Explosion | AH12: Cadence Quick Sprint | AI12: Handoff footwork - RB | AJ12: Handoff footwork - QB | AK12: Handoff footwork - QB & RB | AL12: Pass Patterns - WR | AM12: Ball Security Overview | AN12: Stance Simon Says | AO12: Turn and Burn
D13: 0.0055555556 | E13: Fundamentals | F13: Handoff footwork - RB | G13: 6 | AA13: {=TRANSPOSE(_xlfn._xlws.FILTER( Drills_Drill, (Drills_Competency=$E13) * ( IF( PP_Template="Pee Wee", Drills_PW, IF( PP_Template="JV", Drills_JV, IF( PP_Template="Varsity", Drills_Varsity, Drills_VT ) ) ) = "X" ), "No matching drills" ))} -> Receiving/Catching a ball | AB13: QB Footwork - 3 Step Drop | AC13: QB Footwork - Fake Handoff Rollout | AD13: QB Footwork - Toss/Pitch | AE13: Receiver Stance - First Step Explosion | AF13: RB Stance - First Step Explosion | AG13: 3 Point Stance - First Step Explosion | AH13: Cadence Quick Sprint | AI13: Handoff footwork - RB | AJ13: Handoff footwork - QB | AK13: Handoff footwork - QB & RB | AL13: Pass Patterns - WR | AM13: Ball Security Overview | AN13: Stance Simon Says | AO13: Turn and Burn
D14: 0 | E14: Fundamentals | F14: Receiving/Catching a ball | G14: 7 | AA14: {=TRANSPOSE(_xlfn._xlws.FILTER( Drills_Drill, (Drills_Competency=$E14) * ( IF( PP_Template="Pee Wee", Drills_PW, IF( PP_Template="JV", Drills_JV, IF( PP_Template="Varsity", Drills_Varsity, Drills_VT ) ) ) = "X" ), "No matching drills" ))} -> Receiving/Catching a ball | AB14: QB Footwork - 3 Step Drop | AC14: QB Footwork - Fake Handoff Rollout | AD14: QB Footwork - Toss/Pitch | AE14: Receiver Stance - First Step Explosion | AF14: RB Stance - First Step Explosion | AG14: 3 Point Stance - First Step Explosion | AH14: Cadence Quick Sprint | AI14: Handoff footwork - RB | AJ14: Handoff footwork - QB | AK14: Handoff footwork - QB & RB | AL14: Pass Patterns - WR | AM14: Ball Security Overview | AN14: Stance Simon Says | AO14: Turn and Burn
D15: 0.0055555556 | E15: Fundamentals | F15: Pass Patterns - WR | G15: 7 | AA15: {=TRANSPOSE(_xlfn._xlws.FILTER( Drills_Drill, (Drills_Competency=$E15) * ( IF( PP_Template="Pee Wee", Drills_PW, IF( PP_Template="JV", Drills_JV, IF( PP_Template="Varsity", Drills_Varsity, Drills_VT ) ) ) = "X" ), "No matching drills" ))} -> Receiving/Catching a ball | AB15: QB Footwork - 3 Step Drop | AC15: QB Footwork - Fake Handoff Rollout | AD15: QB Footwork - Toss/Pitch | AE15: Receiver Stance - First Step Explosion | AF15: RB Stance - First Step Explosion | AG15: 3 Point Stance - First Step Explosion | AH15: Cadence Quick Sprint | AI15: Handoff footwork - RB | AJ15: Handoff footwork - QB | AK15: Handoff footwork - QB & RB | AL15: Pass Patterns - WR | AM15: Ball Security Overview | AN15: Stance Simon Says | AO15: Turn and Burn
D16: 0.0055555556 | E16: Fundamentals | F16: Stance Simon Says | G16: 8 | AA16: {=TRANSPOSE(_xlfn._xlws.FILTER( Drills_Drill, (Drills_Competency=$E16) * ( IF( PP_Template="Pee Wee", Drills_PW, IF( PP_Template="JV", Drills_JV, IF( PP_Template="Varsity", Drills_Varsity, Drills_VT ) ) ) = "X" ), "No matching drills" ))} -> Receiving/Catching a ball | AB16: QB Footwork - 3 Step Drop | AC16: QB Footwork - Fake Handoff Rollout | AD16: QB Footwork - Toss/Pitch | AE16: Receiver Stance - First Step Explosion | AF16: RB Stance - First Step Explosion | AG16: 3 Point Stance - First Step Explosion | AH16: Cadence Quick Sprint | AI16: Handoff footwork - RB | AJ16: Handoff footwork - QB | AK16: Handoff footwork - QB & RB | AL16: Pass Patterns - WR | AM16: Ball Security Overview | AN16: Stance Simon Says | AO16: Turn and Burn
D17: 0.0034722222 | E17: Warmup/Cooldown | F17: Chalk Talk | G17: Whole Team | AA17: {=TRANSPOSE(_xlfn._xlws.FILTER( Drills_Drill, (Drills_Competency=$E17) * ( IF( PP_Template="Pee Wee", Drills_PW, IF( PP_Template="JV", Drills_JV, IF( PP_Template="Varsity", Drills_Varsity, Drills_VT ) ) ) = "X" ), "No matching drills" ))} -> Pin up | AB17: Dynamic Stretching Routine | AC17: Sprints | AD17: Chalk Talk | AE17: Water Break
AA18: {=TRANSPOSE(_xlfn._xlws.FILTER( Drills_Drill, (Drills_Competency=$E18) * ( IF( PP_Template="Pee Wee", Drills_PW, IF( PP_Template="JV", Drills_JV, IF( PP_Template="Varsity", Drills_Varsity, Drills_VT ) ) ) = "X" ), "No matching drills" ))} -> No matching drills
AA19: {=TRANSPOSE(_xlfn._xlws.FILTER( Drills_Drill, (Drills_Competency=$E19) * ( IF( PP_Template="Pee Wee", Drills_PW, IF( PP_Template="JV", Drills_JV, IF( PP_Template="Varsity", Drills_Varsity, Drills_VT ) ) ) = "X" ), "No matching drills" ))} -> No matching drills
AA20: {=TRANSPOSE(_xlfn._xlws.FILTER( Drills_Drill, (Drills_Competency=$E20) * ( IF( PP_Template="Pee Wee", Drills_PW, IF( PP_Template="JV", Drills_JV, IF( PP_Template="Varsity", Drills_Varsity, Drills_VT ) ) ) = "X" ), "No matching drills" ))} -> No matching drills
AA21: {=TRANSPOSE(_xlfn._xlws.FILTER( Drills_Drill, (Drills_Competency=$E21) * ( IF( PP_Template="Pee Wee", Drills_PW, IF( PP_Template="JV", Drills_JV, IF( PP_Template="Varsity", Drills_Varsity, Drills_VT ) ) ) = "X" ), "No matching drills" ))} -> No matching drills
B22: Week 1 Thursday (All CG) | C22: =IF(B22="","",SUM(D22:D39)) -> 0.061111111 | D22: 0.0013888889 | E22: Warmup/Cooldown | F22: Pin up | G22: Whole Team | AA22: {=TRANSPOSE(_xlfn._xlws.FILTER( Drills_Drill, (Drills_Competency=$E22) * ( IF( PP_Template="Pee Wee", Drills_PW, IF( PP_Template="JV", Drills_JV, IF( PP_Template="Varsity", Drills_Varsity, Drills_VT ) ) ) = "X" ), "No matching drills" ))} -> Pin up | AB22: Dynamic Stretching Routine | AC22: Sprints | AD22: Chalk Talk | AE22: Water Break
D23: 0.010416667 | E23: Warmup/Cooldown | F23: Dynamic Stretching Routine | G23: Whole Team | AA23: {=TRANSPOSE(_xlfn._xlws.FILTER( Drills_Drill, (Drills_Competency=$E23) * ( IF( PP_Template="Pee Wee", Drills_PW, IF( PP_Template="JV", Drills_JV, IF( PP_Template="Varsity", Drills_Varsity, Drills_VT ) ) ) = "X" ), "No matching drills" ))} -> Pin up | AB23: Dynamic Stretching Routine | AC23: Sprints | AD23: Chalk Talk | AE23: Water Break
D24: 0.0055555556 | E24: Agility | F24: Zig Zag Footwork Drill | G24: 1 | AA24: {=TRANSPOSE(_xlfn._xlws.FILTER( Drills_Drill, (Drills_Competency=$E24) * ( IF( PP_Template="Pee Wee", Drills_PW, IF( PP_Template="JV", Drills_JV, IF( PP_Template="Varsity", Drills_Varsity, Drills_VT ) ) ) = "X" ), "No matching drills" ))} -> Zig Zag Footwork Drill | AB24: L-Drill | AC24: T-Drill | AD24: Sideline Tackle Drill | AE24: Box Drill | AF24: Bag Drills | AG24: LB Box Drill | AH24: LB X-Mas Tree Drill | AI24: Defensive Back Drill | AJ24: Agility Ladder Drills | AK24: Mirror Drill | AL24: DB Call-out Drill (Right, Left, Back)
D25: 0.0055555556 | E25: Agility | F25: T-Drill | G25: 2 | AA25: {=TRANSPOSE(_xlfn._xlws.FILTER( Drills_Drill, (Drills_Competency=$E25) * ( IF( PP_Template="Pee Wee", Drills_PW, IF( PP_Template="JV", Drills_JV, IF( PP_Template="Varsity", Drills_Varsity, Drills_VT ) ) ) = "X" ), "No matching drills" ))} -> Zig Zag Footwork Drill | AB25: L-Drill | AC25: T-Drill | AD25: Sideline Tackle Drill | AE25: Box Drill | AF25: Bag Drills | AG25: LB Box Drill | AH25: LB X-Mas Tree Drill | AI25: Defensive Back Drill | AJ25: Agility Ladder Drills | AK25: Mirror Drill | AL25: DB Call-out Drill (Right, Left, Back)
D26: 0.0055555556 | E26: Agility | F26: LB X-Mas Tree Drill | G26: 3 | AA26: {=TRANSPOSE(_xlfn._xlws.FILTER( Drills_Drill, (Drills_Competency=$E26) * ( IF( PP_Template="Pee Wee", Drills_PW, IF( PP_Template="JV", Drills_JV, IF( PP_Template="Varsity", Drills_Varsity, Drills_VT ) ) ) = "X" ), "No matching drills" ))} -> Zig Zag Footwork Drill | AB26: L-Drill | AC26: T-Drill | AD26: Sideline Tackle Drill | AE26: Box Drill | AF26: Bag Drills | AG26: LB Box Drill | AH26: LB X-Mas Tree Drill | AI26: Defensive Back Drill | AJ26: Agility Ladder Drills | AK26: Mirror Drill | AL26: DB Call-out Drill (Right, Left, Back)
D27: 0.0055555556 | E27: Agility | F27: Mirror Drill | G27: 4 | AA27: {=TRANSPOSE(_xlfn._xlws.FILTER( Drills_Drill, (Drills_Competency=$E27) * ( IF( PP_Template="Pee Wee", Drills_PW, IF( PP_Template="JV", Drills_JV, IF( PP_Template="Varsity", Drills_Varsity, Drills_VT ) ) ) = "X" ), "No matching drills" ))} -> Zig Zag Footwork Drill | AB27: L-Drill | AC27: T-Drill | AD27: Sideline Tackle Drill | AE27: Box Drill | AF27: Bag Drills | AG27: LB Box Drill | AH27: LB X-Mas Tree Drill | AI27: Defensive Back Drill | AJ27: Agility Ladder Drills | AK27: Mirror Drill | AL27: DB Call-out Drill (Right, Left, Back)
D28: 0.0013888889 | E28: Warmup/Cooldown | F28: Water Break | G28: Whole Team | AA28: {=TRANSPOSE(_xlfn._xlws.FILTER( Drills_Drill, (Drills_Competency=$E28) * ( IF( PP_Template="Pee Wee", Drills_PW, IF( PP_Template="JV", Drills_JV, IF( PP_Template="Varsity", Drills_Varsity, Drills_VT ) ) ) = "X" ), "No matching drills" ))} -> Pin up | AB28: Dynamic Stretching Routine | AC28: Sprints | AD28: Chalk Talk | AE28: Water Break
D29: 0.0055555556 | E29: Fundamentals | F29: RB Stance - First Step Explosion | G29: 5 | AA29: {=TRANSPOSE(_xlfn._xlws.FILTER( Drills_Drill, (Drills_Competency=$E29) * ( IF( PP_Template="Pee Wee", Drills_PW, IF( PP_Template="JV", Drills_JV, IF( PP_Template="Varsity", Drills_Varsity, Drills_VT ) ) ) = "X" ), "No matching drills" ))} -> Receiving/Catching a ball | AB29: QB Footwork - 3 Step Drop | AC29: QB Footwork - Fake Handoff Rollout | AD29: QB Footwork - Toss/Pitch | AE29: Receiver Stance - First Step Explosion | AF29: RB Stance - First Step Explosion | AG29: 3 Point Stance - First Step Explosion | AH29: Cadence Quick Sprint | AI29: Handoff footwork - RB | AJ29: Handoff footwork - QB | AK29: Handoff footwork - QB & RB | AL29: Pass Patterns - WR | AM29: Ball Security Overview | AN29: Stance Simon Says | AO29: Turn and Burn
D30: 0.0055555556 | E30: Fundamentals | F30: Turn and Burn | G30: 6 | AA30: {=TRANSPOSE(_xlfn._xlws.FILTER( Drills_Drill, (Drills_Competency=$E30) * ( IF( PP_Template="Pee Wee", Drills_PW, IF( PP_Template="JV", Drills_JV, IF( PP_Template="Varsity", Drills_Varsity, Drills_VT ) ) ) = "X" ), "No matching drills" ))} -> Receiving/Catching a ball | AB30: QB Footwork - 3 Step Drop | AC30: QB Footwork - Fake Handoff Rollout | AD30: QB Footwork - Toss/Pitch | AE30: Receiver Stance - First Step Explosion | AF30: RB Stance - First Step Explosion | AG30: 3 Point Stance - First Step Explosion | AH30: Cadence Quick Sprint | AI30: Handoff footwork - RB | AJ30: Handoff footwork - QB | AK30: Handoff footwork - QB & RB | AL30: Pass Patterns - WR | AM30: Ball Security Overview | AN30: Stance Simon Says | AO30: Turn and Burn
